PDS_VERSION_ID = PDS3
/* FILE DATA ELEMENTS */
RECORD_TYPE = STREAM
/* POINTERS TO DATA OBJECTS */
^COMPRESSED_FILE = "H5436_0000_P13.JP2"
/* IDENTIFICATION DATA ELEMENTS */
DATA_SET_ID = "MEX-M-HRSC-5-REFDR-MAPPROJECTED-V3.0"
DATA_SET_NAME = "MARS EXPRESS HRSC MAP PROJECTED REFDR V3.0"
DETECTOR_ID = MEX_HRSC_P1
EVENT_TYPE = "MARS-LOCAL-MAPPING-Im-Gl-Pf"
INSTRUMENT_HOST_ID = MEX
INSTRUMENT_HOST_NAME = "MARS EXPRESS"
INSTRUMENT_ID = HRSC
INSTRUMENT_NAME = "HIGH RESOLUTION STEREO CAMERA"
MISSION_NAME = "MARS EXPRESS"
MISSION_PHASE_NAME = ME_Phase_11
PROCESSING_LEVEL_ID = 3
PRODUCT_CREATION_TIME = 2016-05-14T17:13:02.000Z
PRODUCT_ID = "H5436_0000_P13.JP2"
RELEASE_ID = 0062
REVISION_ID = 0000
/* QUALITY DATA ELEMENTS */
DATA_QUALITY_ID = 2
DATA_QUALITY_DESC = "Data calculated based on photogrammetrically improved orbit and attitude data"
/* TIME DATA ELEMENTS */
SPACECRAFT_CLOCK_START_COUNT = "1/0154641358.09093"
SPACECRAFT_CLOCK_STOP_COUNT = "1/0154641580.49729"
START_TIME = 2008-03-26T19:56:12.668Z
STOP_TIME = 2008-03-26T19:58:42.798Z
/* ORBITAL DATA ELEMENTS */
ASCENDING_NODE_LONGITUDE = 115.16
MAXIMUM_RESOLUTION = 29
FOOTPRINT_POINT_LATITUDE = (54.128,54.1243,54.121,54.1116,54.0378, 53.7554,53.567,53.3783,53.1897,53.0011, 52.8136,52.6253,52.3423,52.1535,51.9653 ,51.777,51.5882,51.4003,51.2113,50.9279 ,50.7386,50.5499,50.267,50.0778,49.8885 ,49.6057,49.4169,49.2276,49.0386, 48.7549,48.5657,48.3767,48.1878,47.999, 47.7158,47.527,47.2441,47.0554,46.8663, 46.6782,46.3955,46.0805,45.856,45.6313, 45.4063,45.1806,44.956,44.7317,44.5063, 44.261,44.2631,44.2639,44.2625,44.2632, 44.6002,44.826,45.1651,45.3902,45.6161, 45.8425,46.1801,46.3881,46.5774,46.7636 ,47.0459,47.2342,47.424,47.6127,47.802, 47.9917,48.1808,48.3705,48.5591,48.7472 ,48.9308,49.1191,49.3078,49.4966, 49.6868,49.8769,50.1633,50.355,50.5455, 50.737,50.9239,51.1105,51.3966,51.5878, 51.7803,51.9701,52.2523,52.4413,52.6273 ,52.8173,53.1016,53.2905,53.5738, 53.7625,53.9515,54.128)
FOOTPRINT_POINT_LONGITUDE = (27.5258,26.9035,26.5861,25.9594, 25.4975,25.5249,25.5428,25.5605,25.5778 ,25.5948,25.6114,25.6278,25.6519, 25.6676,25.683,25.6981,25.713,25.7275, 25.7419,25.763,25.7768,25.7903,25.81, 25.8229,25.8356,25.854,25.8661,25.8779, 25.8895,25.9065,25.9176,25.9284,25.9391 ,25.9495,25.9647,25.9746,25.9891, 25.9985,26.0077,26.0167,26.0298,26.044, 26.0538,26.0633,26.0726,26.0817,26.0905 ,26.0991,26.1074,26.3653,26.6885,27.178 ,27.5637,27.9927,27.9852,27.9788, 27.9684,27.9628,27.9561,27.9486,27.9401 ,27.9295,27.9236,27.922,27.9154,27.9108 ,27.904,27.8987,27.8926,27.8858,27.8797 ,27.8727,27.8673,27.8625,27.8644, 27.8593,27.8534,27.8473,27.8391,27.8309 ,27.8165,27.8054,27.7962,27.7853, 27.7814,27.7778,27.7626,27.7515,27.7382 ,27.7289,27.7189,27.7107,27.7071, 27.6969,27.6825,27.6736,27.6601,27.6513 ,27.6417,27.5258)
ORBIT_NUMBER = 5436
ORBITAL_ECCENTRICITY = 0.569
ORBITAL_INCLINATION = 86.74
ORBITAL_SEMIMAJOR_AXIS = 8661.57
PERIAPSIS_ALTITUDE = 349.67
PERIAPSIS_ARGUMENT_ANGLE = 121.99
PERIAPSIS_TIME = 2008-03-26T19:55:34.000Z
SPACECRAFT_ORIENTATION = (0.0,-1.0,0.0)
^MEX_ORIENTATION_DESC = "MEX_ORIENTATION_DESC.TXT"
SPACECRAFT_POINTING_MODE = ACROSSTRACK
^MEX_POINTING_DESC = "MEX_POINTING_DESC.TXT"
RIGHT_ASCENSION = -1e+32
DECLINATION = -1e+32
OFFSET_ANGLE = 0.6
SPACECRAFT_SOLAR_DISTANCE = 2.47574e+08
TARGET_NAME = MARS
/* CAMERA DATA ELEMENTS */
DETECTOR_TEMPERATURE = 17.1471
FOCAL_PLANE_TEMPERATURE = 7.9716
INST_CMPRS_NAME = "DISCRETE COSINE TRANSFORMATION (DCT)"
INST_CMPRS_RATIO = 10.7668
INST_CMPRS_QUALITY = 0
INST_CMPRS_QUANTZ_TBL_ID = 0
INSTRUMENT_TEMPERATURE = 11.4379
LENS_TEMPERATURE = 8.1755
MACROPIXEL_SIZE = 2
MISSING_FRAMES = 0
PIXEL_SUBSAMPLING_FLAG = N
SIGNAL_CHAIN_ID = 3
/* RADIOMETRIC DATA ELEMENTS */
BANDWIDTH = 174.0
CENTER_FILTER_WAVELENGTH = 675.0
RADIANCE_OFFSET = 3.7831
RADIANCE_SCALING_FACTOR = 0.0228241
REFLECTANCE_SCALING_FACTOR = 0.000752471
MEX:REFLECTANCE_OFFSET = 0.124722
/* IMAGE OBJECT DEFINITIONS */
OBJECT = IMAGE
  INTERCHANGE_FORMAT = BINARY
  LINES = 23303
  LINE_SAMPLES = 3872
  SAMPLE_TYPE = UNSIGNED_INTEGER
  SAMPLE_BITS = 8
  BANDS = 1
  BAND_STORAGE_TYPE = BAND_SEQUENTIAL
  MAXIMUM = 255
  MEAN = 145.889
  MINIMUM = 1
  STANDARD_DEVIATION = 27.691
END_OBJECT = IMAGE
/* MAP OBJECT DEFINITIONS */
OBJECT = IMAGE_MAP_PROJECTION
  ^DATA_SET_MAP_PROJECTION_CATALOG= "DSMAP.CAT"
  A_AXIS_RADIUS = 3396.0
  B_AXIS_RADIUS = 3396.0
  C_AXIS_RADIUS = 3396.0
  CENTER_LATITUDE = 0.0
  CENTER_LONGITUDE = 27.0
  COORDINATE_SYSTEM_NAME = PLANETOGRAPHIC
  COORDINATE_SYSTEM_TYPE = "BODY-FIXED ROTATING"
  EASTERNMOST_LONGITUDE = 27.9927
  FIRST_STANDARD_PARALLEL = "N/A"
  LINE_FIRST_PIXEL = 1
  LINE_LAST_PIXEL = 23303
  LINE_PROJECTION_OFFSET = 128227.75
  MAP_PROJECTION_ROTATION = 0.0
  MAP_PROJECTION_TYPE = SINUSOIDAL
  MAP_RESOLUTION = 2370.85521546667
  MAP_SCALE = 0.025
  MAXIMUM_LATITUDE = 54.128
  MINIMUM_LATITUDE = 44.261
  POSITIVE_LONGITUDE_DIRECTION = EAST
  REFERENCE_LATITUDE = "N/A"
  REFERENCE_LONGITUDE = "N/A"
  SAMPLE_FIRST_PIXEL = 1
  SAMPLE_LAST_PIXEL = 3872
  SAMPLE_PROJECTION_OFFSET = 2102.25
  SECOND_STANDARD_PARALLEL = "N/A"
  WESTERNMOST_LONGITUDE = 25.4975
END_OBJECT = IMAGE_MAP_PROJECTION
/* The JPEG2000 image data file associated with this label. */
OBJECT = COMPRESSED_FILE
  FILE_NAME = "H5436_0000_P13.JP2"
  RECORD_TYPE = UNDEFINED
  FILE_RECORDS = UNK
  ENCODING_TYPE = "JP2"
  INTERCHANGE_FORMAT = BINARY
  UNCOMPRESSED_FILE_NAME = "H5436_0000_P13.IMG"
  REQUIRED_STORAGE_BYTES = "90252448"
  ^DESCRIPTION = "JP2INFO.TXT"
END_OBJECT = COMPRESSED_FILE
END
