PDS_VERSION_ID = PDS3
/* FILE DATA ELEMENTS */
RECORD_TYPE = STREAM
/* POINTERS TO DATA OBJECTS */
^COMPRESSED_FILE = "H5439_0000_BL3.JP2"
/* IDENTIFICATION DATA ELEMENTS */
DATA_SET_ID = "MEX-M-HRSC-5-REFDR-MAPPROJECTED-V3.0"
DATA_SET_NAME = "MARS EXPRESS HRSC MAP PROJECTED REFDR V3.0"
DETECTOR_ID = MEX_HRSC_BLUE
EVENT_TYPE = "MARS-REGIONAL-MAPPING-Te-Im-Pf"
INSTRUMENT_HOST_ID = MEX
INSTRUMENT_HOST_NAME = "MARS EXPRESS"
INSTRUMENT_ID = HRSC
INSTRUMENT_NAME = "HIGH RESOLUTION STEREO CAMERA"
MISSION_NAME = "MARS EXPRESS"
MISSION_PHASE_NAME = ME_Phase_11
PROCESSING_LEVEL_ID = 3
PRODUCT_CREATION_TIME = 2016-05-14T17:13:02.000Z
PRODUCT_ID = "H5439_0000_BL3.JP2"
RELEASE_ID = 0062
REVISION_ID = 0000
/* QUALITY DATA ELEMENTS */
DATA_QUALITY_ID = 1
DATA_QUALITY_DESC = "Data calculated based on original SPICE kernels"
/* TIME DATA ELEMENTS */
SPACECRAFT_CLOCK_START_COUNT = "1/0154715032.08269"
SPACECRAFT_CLOCK_STOP_COUNT = "1/0154715264.55699"
START_TIME = 2008-03-27T16:24:36.971Z
STOP_TIME = 2008-03-27T16:27:20.313Z
/* ORBITAL DATA ELEMENTS */
ASCENDING_NODE_LONGITUDE = 115.1
MAXIMUM_RESOLUTION = 56.2
FOOTPRINT_POINT_LATITUDE = (68.5442,68.5247,68.5038,68.4815, 68.4378,68.3147,68.0698,67.8635,67.657, 67.4505,67.2438,67.0371,66.8302,66.5195 ,66.3124,66.0015,65.7941,65.5865, 65.3789,65.1712,64.9635,64.7556,64.5477 ,64.3397,64.1316,63.9234,63.611,63.2985 ,63.0901,62.8817,62.6731,62.4646, 62.2559,62.0473,61.8386,61.6298,61.421, 61.1078,60.8989,60.69,60.481,60.2721, 60.0632,59.7498,59.5407,59.3317,59.1228 ,58.9137,58.7047,58.3912,58.1822, 57.9128,57.9381,57.9627,57.9765,58.0941 ,58.304,58.5139,58.8289,59.0388,59.3538 ,59.6689,59.8789,60.0889,60.2988, 60.5086,60.7188,60.9286,61.1386,61.3489 ,61.6638,61.8738,62.1887,62.5036, 62.8183,63.0282,63.238,63.4478,63.6574, 63.8672,64.0768,64.3913,64.6008,64.8103 ,65.0198,65.2292,65.4385,65.7525, 66.0662,66.3799,66.5889,66.7979,67.0068 ,67.2155,67.5286,67.7372,67.9458, 68.1543,68.5134,68.5442)
FOOTPRINT_POINT_LONGITUDE = (84.5178,84.0134,83.5119,83.0139, 82.1185,81.7436,81.8422,81.9234,82.003, 82.0808,82.1569,82.2314,82.3044,82.4112 ,82.4806,82.5818,82.6476,82.7121, 82.7754,82.8373,82.8979,82.9575,83.0158 ,83.0729,83.129,83.184,83.2645,83.3425, 83.3933,83.4431,83.492,83.5399,83.587, 83.6331,83.6783,83.7227,83.7662,83.83, 83.8715,83.9122,83.9523,83.9915,84.0298 ,84.0862,84.1229,84.1589,84.1942, 84.2289,84.2629,84.3127,84.3452,84.534, 85.1536,85.8436,86.2789,86.6928,86.6743 ,86.6556,86.6271,86.6076,86.5778, 86.5476,86.5268,86.5058,86.484,86.4612, 86.4398,86.4166,86.3938,86.3716,86.336, 86.3117,86.2746,86.2366,86.1973,86.1706 ,86.1436,86.1159,86.0874,86.0591, 86.0297,85.9851,85.9548,85.9237,85.892, 85.8597,85.8267,85.7763,85.7242,85.6709 ,85.6344,85.5971,85.5592,85.5203, 85.4609,85.4199,85.3788,85.3363,85.2612 ,84.5178)
ORBIT_NUMBER = 5439
ORBITAL_ECCENTRICITY = 0.569
ORBITAL_INCLINATION = 86.76
ORBITAL_SEMIMAJOR_AXIS = 8662.93
PERIAPSIS_ALTITUDE = 348.77
PERIAPSIS_ARGUMENT_ANGLE = 121.44
PERIAPSIS_TIME = 2008-03-27T16:27:07.000Z
SPACECRAFT_ORIENTATION = (0.0,-1.0,0.0)
^MEX_ORIENTATION_DESC = "MEX_ORIENTATION_DESC.TXT"
SPACECRAFT_POINTING_MODE = ACROSSTRACK
^MEX_POINTING_DESC = "MEX_POINTING_DESC.TXT"
RIGHT_ASCENSION = -1e+32
DECLINATION = -1e+32
OFFSET_ANGLE = 0.35
SPACECRAFT_SOLAR_DISTANCE = 2.47633e+08
TARGET_NAME = MARS
/* CAMERA DATA ELEMENTS */
DETECTOR_TEMPERATURE = 18.1666
FOCAL_PLANE_TEMPERATURE = 7.7677
INST_CMPRS_NAME = "DISCRETE COSINE TRANSFORMATION (DCT)"
INST_CMPRS_RATIO = 11.5767
INST_CMPRS_QUALITY = 0
INST_CMPRS_QUANTZ_TBL_ID = 0
INSTRUMENT_TEMPERATURE = 11.0301
LENS_TEMPERATURE = 8.1755
MACROPIXEL_SIZE = 4
MISSING_FRAMES = 0
PIXEL_SUBSAMPLING_FLAG = N
SIGNAL_CHAIN_ID = 2
/* RADIOMETRIC DATA ELEMENTS */
BANDWIDTH = 76.0
CENTER_FILTER_WAVELENGTH = 444.0
RADIANCE_OFFSET = 0.520685
RADIANCE_SCALING_FACTOR = 0.00272253
REFLECTANCE_SCALING_FACTOR = 0.000171532
MEX:REFLECTANCE_OFFSET = 0.0328054
/* IMAGE OBJECT DEFINITIONS */
OBJECT = IMAGE
  INTERCHANGE_FORMAT = BINARY
  LINES = 12674
  LINE_SAMPLES = 2525
  SAMPLE_TYPE = UNSIGNED_INTEGER
  SAMPLE_BITS = 8
  BANDS = 1
  BAND_STORAGE_TYPE = BAND_SEQUENTIAL
  MAXIMUM = 255
  MEAN = 50.922
  MINIMUM = 1
  STANDARD_DEVIATION = 15.3402
END_OBJECT = IMAGE
/* MAP OBJECT DEFINITIONS */
OBJECT = IMAGE_MAP_PROJECTION
  ^DATA_SET_MAP_PROJECTION_CATALOG= "DSMAP.CAT"
  A_AXIS_RADIUS = 3396.0
  B_AXIS_RADIUS = 3396.0
  C_AXIS_RADIUS = 3396.0
  CENTER_LATITUDE = 0.0
  CENTER_LONGITUDE = 85.0
  COORDINATE_SYSTEM_NAME = PLANETOGRAPHIC
  COORDINATE_SYSTEM_TYPE = "BODY-FIXED ROTATING"
  EASTERNMOST_LONGITUDE = 86.69280000000001
  FIRST_STANDARD_PARALLEL = "N/A"
  LINE_FIRST_PIXEL = 1
  LINE_LAST_PIXEL = 12674
  LINE_PROJECTION_OFFSET = 81315.625
  MAP_PROJECTION_ROTATION = 0.0
  MAP_PROJECTION_TYPE = SINUSOIDAL
  MAP_RESOLUTION = 1185.42760773333
  MAP_SCALE = 0.05
  MAXIMUM_LATITUDE = 68.5442
  MINIMUM_LATITUDE = 57.9128
  POSITIVE_LONGITUDE_DIRECTION = EAST
  REFERENCE_LATITUDE = "N/A"
  REFERENCE_LONGITUDE = "N/A"
  SAMPLE_FIRST_PIXEL = 1
  SAMPLE_LAST_PIXEL = 2525
  SAMPLE_PROJECTION_OFFSET = 1441.875
  SECOND_STANDARD_PARALLEL = "N/A"
  WESTERNMOST_LONGITUDE = 81.7436
END_OBJECT = IMAGE_MAP_PROJECTION
/* The JPEG2000 image data file associated with this label. */
OBJECT = COMPRESSED_FILE
  FILE_NAME = "H5439_0000_BL3.JP2"
  RECORD_TYPE = UNDEFINED
  FILE_RECORDS = UNK
  ENCODING_TYPE = "JP2"
  INTERCHANGE_FORMAT = BINARY
  UNCOMPRESSED_FILE_NAME = "H5439_0000_BL3.IMG"
  REQUIRED_STORAGE_BYTES = "32022050"
  ^DESCRIPTION = "JP2INFO.TXT"
END_OBJECT = COMPRESSED_FILE
END
