PDS_VERSION_ID = PDS3
/* FILE DATA ELEMENTS */
RECORD_TYPE = STREAM
/* POINTERS TO DATA OBJECTS */
^COMPRESSED_FILE = "H5439_0000_IR3.JP2"
/* IDENTIFICATION DATA ELEMENTS */
DATA_SET_ID = "MEX-M-HRSC-5-REFDR-MAPPROJECTED-V3.0"
DATA_SET_NAME = "MARS EXPRESS HRSC MAP PROJECTED REFDR V3.0"
DETECTOR_ID = MEX_HRSC_IR
EVENT_TYPE = "MARS-REGIONAL-MAPPING-Te-Im-Pf"
INSTRUMENT_HOST_ID = MEX
INSTRUMENT_HOST_NAME = "MARS EXPRESS"
INSTRUMENT_ID = HRSC
INSTRUMENT_NAME = "HIGH RESOLUTION STEREO CAMERA"
MISSION_NAME = "MARS EXPRESS"
MISSION_PHASE_NAME = ME_Phase_11
PROCESSING_LEVEL_ID = 3
PRODUCT_CREATION_TIME = 2016-05-14T17:13:02.000Z
PRODUCT_ID = "H5439_0000_IR3.JP2"
RELEASE_ID = 0062
REVISION_ID = 0000
/* QUALITY DATA ELEMENTS */
DATA_QUALITY_ID = 1
DATA_QUALITY_DESC = "Data calculated based on original SPICE kernels"
/* TIME DATA ELEMENTS */
SPACECRAFT_CLOCK_START_COUNT = "1/0154715032.08269"
SPACECRAFT_CLOCK_STOP_COUNT = "1/0154715264.55699"
START_TIME = 2008-03-27T16:24:02.239Z
STOP_TIME = 2008-03-27T16:26:48.884Z
/* ORBITAL DATA ELEMENTS */
ASCENDING_NODE_LONGITUDE = 115.1
MAXIMUM_RESOLUTION = 58.7
FOOTPRINT_POINT_LATITUDE = (68.6724,68.6531,68.6181,68.5762,68.44, 68.0868,67.8511,67.6149,67.3785,67.1416 ,66.9042,66.5479,66.3103,66.0718, 65.7493,65.5491,65.3488,65.1478,64.9469 ,64.7457,64.5444,64.3429,64.1412, 63.8384,63.6364,63.4339,63.1301,62.8257 ,62.5211,62.3178,62.1144,61.8088, 61.5028,61.2988,60.9922,60.7876,60.5832 ,60.3786,60.0707,59.8654,59.6602, 59.4547,59.249,59.0431,58.8375,58.6315, 58.4252,58.2189,58.0126,57.921,57.9404, 57.9529,57.965,58.1724,58.3797,58.5868, 58.794,59.1043,59.3111,59.5176,59.7241, 59.9304,60.1368,60.3436,60.5502,60.7557 ,60.9618,61.1672,61.475,61.6802,61.8853 ,62.0903,62.2952,62.4998,62.7046, 62.9088,63.1132,63.3172,63.5213,63.7253 ,63.9288,64.234,64.5387,64.7417,64.9445 ,65.1471,65.3497,65.5519,65.8551, 66.0599,66.3006,66.541,66.7812,67.021, 67.2607,67.5,67.8587,68.0972,68.3355, 68.6724)
FOOTPRINT_POINT_LONGITUDE = (85.1278,84.4347,83.3884,82.3551, 81.6398,81.7859,81.8805,81.9728,82.063, 82.1511,82.2371,82.3625,82.4437,82.5231 ,82.6274,82.6905,82.7525,82.8133, 82.8729,82.9314,82.9889,83.0453,83.1007 ,83.1818,83.2346,83.2865,83.3626, 83.4366,83.5086,83.5555,83.6015,83.6691 ,83.7348,83.7777,83.8405,83.8815, 83.9217,83.9613,84.0192,84.057,84.0941, 84.1305,84.1663,84.2015,84.2361,84.27, 84.3034,84.3361,84.3683,84.7901,85.481, 86.0479,86.7148,86.6975,86.6797,86.662, 86.6438,86.6161,86.5972,86.5783,86.559, 86.5394,86.5192,86.4981,86.4767,86.4562 ,86.4345,86.4132,86.3807,86.3584, 86.3355,86.3123,86.2888,86.2649,86.2403 ,86.2157,86.1904,86.1649,86.1387, 86.1121,86.0853,86.0441,86.0019,85.9731 ,85.9438,85.9141,85.8837,85.853,85.8056 ,85.7726,85.7334,85.6933,85.6523, 85.6106,85.5676,85.5239,85.4561,85.4103 ,85.363,85.1278)
ORBIT_NUMBER = 5439
ORBITAL_ECCENTRICITY = 0.569
ORBITAL_INCLINATION = 86.76
ORBITAL_SEMIMAJOR_AXIS = 8662.93
PERIAPSIS_ALTITUDE = 348.77
PERIAPSIS_ARGUMENT_ANGLE = 121.44
PERIAPSIS_TIME = 2008-03-27T16:27:07.000Z
SPACECRAFT_ORIENTATION = (0.0,-1.0,0.0)
^MEX_ORIENTATION_DESC = "MEX_ORIENTATION_DESC.TXT"
SPACECRAFT_POINTING_MODE = ACROSSTRACK
^MEX_POINTING_DESC = "MEX_POINTING_DESC.TXT"
RIGHT_ASCENSION = -1e+32
DECLINATION = -1e+32
OFFSET_ANGLE = 0.35
SPACECRAFT_SOLAR_DISTANCE = 2.47633e+08
TARGET_NAME = MARS
/* CAMERA DATA ELEMENTS */
DETECTOR_TEMPERATURE = 17.1471
FOCAL_PLANE_TEMPERATURE = 7.7677
INST_CMPRS_NAME = "DISCRETE COSINE TRANSFORMATION (DCT)"
INST_CMPRS_RATIO = 22.1406
INST_CMPRS_QUALITY = 0
INST_CMPRS_QUANTZ_TBL_ID = 0
INSTRUMENT_TEMPERATURE = 11.0301
LENS_TEMPERATURE = 8.1755
MACROPIXEL_SIZE = 4
MISSING_FRAMES = 0
PIXEL_SUBSAMPLING_FLAG = N
SIGNAL_CHAIN_ID = 2
/* RADIOMETRIC DATA ELEMENTS */
BANDWIDTH = 81.0
CENTER_FILTER_WAVELENGTH = 955.5
RADIANCE_OFFSET = 0.445803
RADIANCE_SCALING_FACTOR = 0.00501164
REFLECTANCE_SCALING_FACTOR = 0.000663016
MEX:REFLECTANCE_OFFSET = 0.0589776
/* IMAGE OBJECT DEFINITIONS */
OBJECT = IMAGE
  INTERCHANGE_FORMAT = BINARY
  LINES = 12674
  LINE_SAMPLES = 2525
  SAMPLE_TYPE = UNSIGNED_INTEGER
  SAMPLE_BITS = 8
  BANDS = 1
  BAND_STORAGE_TYPE = BAND_SEQUENTIAL
  MAXIMUM = 255
  MEAN = 118.017
  MINIMUM = 1
  STANDARD_DEVIATION = 62.5125
END_OBJECT = IMAGE
/* MAP OBJECT DEFINITIONS */
OBJECT = IMAGE_MAP_PROJECTION
  ^DATA_SET_MAP_PROJECTION_CATALOG= "DSMAP.CAT"
  A_AXIS_RADIUS = 3396.0
  B_AXIS_RADIUS = 3396.0
  C_AXIS_RADIUS = 3396.0
  CENTER_LATITUDE = 0.0
  CENTER_LONGITUDE = 85.0
  COORDINATE_SYSTEM_NAME = PLANETOGRAPHIC
  COORDINATE_SYSTEM_TYPE = "BODY-FIXED ROTATING"
  EASTERNMOST_LONGITUDE = 86.7148
  FIRST_STANDARD_PARALLEL = "N/A"
  LINE_FIRST_PIXEL = 1
  LINE_LAST_PIXEL = 12674
  LINE_PROJECTION_OFFSET = 81315.625
  MAP_PROJECTION_ROTATION = 0.0
  MAP_PROJECTION_TYPE = SINUSOIDAL
  MAP_RESOLUTION = 1185.42760773333
  MAP_SCALE = 0.05
  MAXIMUM_LATITUDE = 68.6724
  MINIMUM_LATITUDE = 57.921
  POSITIVE_LONGITUDE_DIRECTION = EAST
  REFERENCE_LATITUDE = "N/A"
  REFERENCE_LONGITUDE = "N/A"
  SAMPLE_FIRST_PIXEL = 1
  SAMPLE_LAST_PIXEL = 2525
  SAMPLE_PROJECTION_OFFSET = 1441.875
  SECOND_STANDARD_PARALLEL = "N/A"
  WESTERNMOST_LONGITUDE = 81.63979999999999
END_OBJECT = IMAGE_MAP_PROJECTION
/* The JPEG2000 image data file associated with this label. */
OBJECT = COMPRESSED_FILE
  FILE_NAME = "H5439_0000_IR3.JP2"
  RECORD_TYPE = UNDEFINED
  FILE_RECORDS = UNK
  ENCODING_TYPE = "JP2"
  INTERCHANGE_FORMAT = BINARY
  UNCOMPRESSED_FILE_NAME = "H5439_0000_IR3.IMG"
  REQUIRED_STORAGE_BYTES = "32022050"
  ^DESCRIPTION = "JP2INFO.TXT"
END_OBJECT = COMPRESSED_FILE
END
