PDS_VERSION_ID = PDS3
/* FILE DATA ELEMENTS */
RECORD_TYPE = STREAM
/* POINTERS TO DATA OBJECTS */
^COMPRESSED_FILE = "H5440_0000_IR3.JP2"
/* IDENTIFICATION DATA ELEMENTS */
DATA_SET_ID = "MEX-M-HRSC-5-REFDR-MAPPROJECTED-V3.0"
DATA_SET_NAME = "MARS EXPRESS HRSC MAP PROJECTED REFDR V3.0"
DETECTOR_ID = MEX_HRSC_IR
EVENT_TYPE = "MARS-REGIONAL-MAPPING-Te-Im-Pf"
INSTRUMENT_HOST_ID = MEX
INSTRUMENT_HOST_NAME = "MARS EXPRESS"
INSTRUMENT_ID = HRSC
INSTRUMENT_NAME = "HIGH RESOLUTION STEREO CAMERA"
MISSION_NAME = "MARS EXPRESS"
MISSION_PHASE_NAME = ME_Phase_11
PROCESSING_LEVEL_ID = 3
PRODUCT_CREATION_TIME = 2016-05-14T17:13:02.000Z
PRODUCT_ID = "H5440_0000_IR3.JP2"
RELEASE_ID = 0062
REVISION_ID = 0000
/* QUALITY DATA ELEMENTS */
DATA_QUALITY_ID = 1
DATA_QUALITY_DESC = "Data calculated based on original SPICE kernels"
/* TIME DATA ELEMENTS */
SPACECRAFT_CLOCK_START_COUNT = "1/0154739669.07306"
SPACECRAFT_CLOCK_STOP_COUNT = "1/0154739930.56634"
START_TIME = 2008-03-27T23:14:38.982Z
STOP_TIME = 2008-03-27T23:17:54.581Z
/* ORBITAL DATA ELEMENTS */
ASCENDING_NODE_LONGITUDE = 115.08
MAXIMUM_RESOLUTION = 59
FOOTPRINT_POINT_LATITUDE = (68.2512,68.2181,68.186,68.1241,67.7104 ,67.4319,67.1528,66.8735,66.5935, 66.3131,65.9072,65.4353,64.9621,64.7249 ,64.4875,64.25,64.0121,63.7741,63.4164, 63.1777,62.9385,62.6992,62.4597,62.22, 61.98,61.7398,61.4993,61.2585,61.0177, 60.7764,60.535,60.2935,59.9307,59.6888, 59.4463,59.2039,58.8398,58.597,58.3538, 58.1109,57.8674,57.6238,57.38,57.136, 56.7701,56.5256,56.281,56.0362,55.7915, 55.612,55.6483,55.6692,56.0456,56.4142, 56.6599,56.9053,57.2732,57.5183,57.763, 58.0081,58.2526,58.4972,58.7415,58.9857 ,59.2298,59.4737,59.7174,59.9609, 60.2042,60.4475,60.6906,60.9336,61.1763 ,61.4187,61.661,61.9029,62.2658,62.6283 ,62.8696,63.1108,63.3517,63.5922, 63.8325,64.0728,64.3129,64.5525,64.7924 ,65.0313,65.2705,65.5093,65.7477, 66.1051,66.3821,66.6658,66.949,67.2318, 67.5141,67.7961,68.0777,68.2512)
FOOTPRINT_POINT_LONGITUDE = (343.71,342.951,342.289,341.159,340.871 ,340.99,341.106,341.219,341.329,341.436 ,341.586,341.753,341.912,341.989, 342.065,342.139,342.211,342.282,342.385 ,342.452,342.518,342.582,342.645, 342.707,342.768,342.827,342.885,342.942 ,342.997,343.052,343.105,343.157, 343.234,343.284,343.332,343.38,343.45, 343.495,343.539,343.583,343.626,343.667 ,343.708,343.748,343.807,343.845, 343.882,343.919,343.955,344.41,345.309, 345.942,346.141,346.108,346.085,346.061 ,346.026,346.001,345.977,345.951, 345.926,345.9,345.873,345.846,345.819, 345.791,345.762,345.733,345.704,345.674 ,345.643,345.612,345.58,345.548,345.515 ,345.482,345.43,345.377,345.341,345.304 ,345.267,345.229,345.19,345.15,345.109, 345.068,345.025,344.983,344.939,344.894 ,344.848,344.778,344.722,344.663, 344.602,344.54,344.477,344.412,344.345, 343.71)
ORBIT_NUMBER = 5440
ORBITAL_ECCENTRICITY = 0.569
ORBITAL_INCLINATION = 86.75
ORBITAL_SEMIMAJOR_AXIS = 8657.09
PERIAPSIS_ALTITUDE = 349.87
PERIAPSIS_ARGUMENT_ANGLE = 121.27
PERIAPSIS_TIME = 2008-03-27T23:17:35.000Z
SPACECRAFT_ORIENTATION = (0.0,-1.0,0.0)
^MEX_ORIENTATION_DESC = "MEX_ORIENTATION_DESC.TXT"
SPACECRAFT_POINTING_MODE = NADIR
^MEX_POINTING_DESC = "MEX_POINTING_DESC.TXT"
RIGHT_ASCENSION = -1e+32
DECLINATION = -1e+32
OFFSET_ANGLE = -1e+32
SPACECRAFT_SOLAR_DISTANCE = 2.47652e+08
TARGET_NAME = MARS
/* CAMERA DATA ELEMENTS */
DETECTOR_TEMPERATURE = 17.5549
FOCAL_PLANE_TEMPERATURE = 8.5833
INST_CMPRS_NAME = "DISCRETE COSINE TRANSFORMATION (DCT)"
INST_CMPRS_RATIO = 22.4764
INST_CMPRS_QUALITY = 0
INST_CMPRS_QUANTZ_TBL_ID = 0
INSTRUMENT_TEMPERATURE = 11.234
LENS_TEMPERATURE = 8.9911
MACROPIXEL_SIZE = 4
MISSING_FRAMES = 0
PIXEL_SUBSAMPLING_FLAG = N
SIGNAL_CHAIN_ID = 2
/* RADIOMETRIC DATA ELEMENTS */
BANDWIDTH = 81.0
CENTER_FILTER_WAVELENGTH = 955.5
RADIANCE_OFFSET = 0.683565
RADIANCE_SCALING_FACTOR = 0.00547784
REFLECTANCE_SCALING_FACTOR = 0.000724806
MEX:REFLECTANCE_OFFSET = 0.0904466
/* IMAGE OBJECT DEFINITIONS */
OBJECT = IMAGE
  INTERCHANGE_FORMAT = BINARY
  LINES = 14893
  LINE_SAMPLES = 2865
  SAMPLE_TYPE = UNSIGNED_INTEGER
  SAMPLE_BITS = 8
  BANDS = 1
  BAND_STORAGE_TYPE = BAND_SEQUENTIAL
  MAXIMUM = 255
  MEAN = 70.8509
  MINIMUM = 1
  STANDARD_DEVIATION = 36.5434
END_OBJECT = IMAGE
/* MAP OBJECT DEFINITIONS */
OBJECT = IMAGE_MAP_PROJECTION
  ^DATA_SET_MAP_PROJECTION_CATALOG= "DSMAP.CAT"
  A_AXIS_RADIUS = 3396.0
  B_AXIS_RADIUS = 3396.0
  C_AXIS_RADIUS = 3396.0
  CENTER_LATITUDE = 0.0
  CENTER_LONGITUDE = 344.0
  COORDINATE_SYSTEM_NAME = PLANETOGRAPHIC
  COORDINATE_SYSTEM_TYPE = "BODY-FIXED ROTATING"
  EASTERNMOST_LONGITUDE = 346.141
  FIRST_STANDARD_PARALLEL = "N/A"
  LINE_FIRST_PIXEL = 1
  LINE_LAST_PIXEL = 14893
  LINE_PROJECTION_OFFSET = 80822.625
  MAP_PROJECTION_ROTATION = 0.0
  MAP_PROJECTION_TYPE = SINUSOIDAL
  MAP_RESOLUTION = 1185.42760773333
  MAP_SCALE = 0.05
  MAXIMUM_LATITUDE = 68.2512
  MINIMUM_LATITUDE = 55.612
  POSITIVE_LONGITUDE_DIRECTION = EAST
  REFERENCE_LATITUDE = "N/A"
  REFERENCE_LONGITUDE = "N/A"
  SAMPLE_FIRST_PIXEL = 1
  SAMPLE_LAST_PIXEL = 2865
  SAMPLE_PROJECTION_OFFSET = 1434.875
  SECOND_STANDARD_PARALLEL = "N/A"
  WESTERNMOST_LONGITUDE = 340.871
END_OBJECT = IMAGE_MAP_PROJECTION
/* The JPEG2000 image data file associated with this label. */
OBJECT = COMPRESSED_FILE
  FILE_NAME = "H5440_0000_IR3.JP2"
  RECORD_TYPE = UNDEFINED
  FILE_RECORDS = UNK
  ENCODING_TYPE = "JP2"
  INTERCHANGE_FORMAT = BINARY
  UNCOMPRESSED_FILE_NAME = "H5440_0000_IR3.IMG"
  REQUIRED_STORAGE_BYTES = "42691365"
  ^DESCRIPTION = "JP2INFO.TXT"
END_OBJECT = COMPRESSED_FILE
END
