PDS_VERSION_ID = PDS3
/* FILE DATA ELEMENTS */
RECORD_TYPE = STREAM
/* POINTERS TO DATA OBJECTS */
^COMPRESSED_FILE = "H5440_0000_RE3.JP2"
/* IDENTIFICATION DATA ELEMENTS */
DATA_SET_ID = "MEX-M-HRSC-5-REFDR-MAPPROJECTED-V3.0"
DATA_SET_NAME = "MARS EXPRESS HRSC MAP PROJECTED REFDR V3.0"
DETECTOR_ID = MEX_HRSC_RED
EVENT_TYPE = "MARS-REGIONAL-MAPPING-Te-Im-Pf"
INSTRUMENT_HOST_ID = MEX
INSTRUMENT_HOST_NAME = "MARS EXPRESS"
INSTRUMENT_ID = HRSC
INSTRUMENT_NAME = "HIGH RESOLUTION STEREO CAMERA"
MISSION_NAME = "MARS EXPRESS"
MISSION_PHASE_NAME = ME_Phase_11
PROCESSING_LEVEL_ID = 3
PRODUCT_CREATION_TIME = 2016-05-14T17:13:02.000Z
PRODUCT_ID = "H5440_0000_RE3.JP2"
RELEASE_ID = 0062
REVISION_ID = 0000
/* QUALITY DATA ELEMENTS */
DATA_QUALITY_ID = 1
DATA_QUALITY_DESC = "Data calculated based on original SPICE kernels"
/* TIME DATA ELEMENTS */
SPACECRAFT_CLOCK_START_COUNT = "1/0154739669.07306"
SPACECRAFT_CLOCK_STOP_COUNT = "1/0154739930.56634"
START_TIME = 2008-03-27T23:15:35.230Z
STOP_TIME = 2008-03-27T23:18:46.962Z
/* ORBITAL DATA ELEMENTS */
ASCENDING_NODE_LONGITUDE = 115.08
MAXIMUM_RESOLUTION = 59.3
FOOTPRINT_POINT_LATITUDE = (68.0583,68.0324,67.9974,67.9531, 67.7884,67.5419,67.1721,66.9253,66.5553 ,66.3085,65.9382,65.6914,65.4443, 65.1974,64.9504,64.7036,64.4567,64.2097 ,63.9627,63.7155,63.4687,63.2217, 62.9749,62.7281,62.3578,62.1109,61.8644 ,61.6177,61.3711,61.1246,60.7549, 60.5086,60.2623,60.0161,59.6467,59.2781 ,59.0323,58.6638,58.2955,58.0499, 57.8048,57.437,57.1922,56.9476,56.7027, 56.4584,56.2142,55.9702,55.6466,55.6723 ,55.6939,55.7074,55.7163,55.7251, 55.9701,56.3379,56.5831,56.8286,57.0743 ,57.3201,57.5663,57.9356,58.182,58.4286 ,58.6753,59.0458,59.2927,59.5399, 59.7872,60.0347,60.406,60.6536,60.9013, 61.2733,61.5212,61.7696,62.0179,62.2661 ,62.5144,62.7628,63.0111,63.2598, 63.5086,63.8819,64.1306,64.5039,64.7527 ,65.002,65.2509,65.5,65.7492,65.9982, 66.2475,66.4964,66.7455,66.9947,67.3686 ,67.6179,67.9917,68.0583)
FOOTPRINT_POINT_LONGITUDE = (343.592,342.988,342.235,341.365, 340.893,340.997,341.148,341.246,341.388 ,341.48,341.613,341.7,341.784,341.866, 341.947,342.025,342.101,342.176,342.249 ,342.321,342.39,342.459,342.525,342.59, 342.685,342.746,342.806,342.865,342.922 ,342.978,343.06,343.113,343.165,343.216 ,343.29,343.362,343.408,343.476,343.541 ,343.584,343.626,343.686,343.726, 343.764,343.802,343.839,343.875,343.91, 343.956,344.598,345.199,345.615,345.906 ,346.183,346.16,346.125,346.101,346.077 ,346.052,346.027,346.001,345.962, 345.935,345.908,345.88,345.837,345.808, 345.778,345.748,345.717,345.67,345.637, 345.604,345.553,345.518,345.483,345.447 ,345.41,345.372,345.333,345.294,345.254 ,345.213,345.15,345.107,345.04,344.994, 344.948,344.9,344.851,344.802,344.75, 344.698,344.645,344.59,344.534,344.448, 344.388,344.296,343.592)
ORBIT_NUMBER = 5440
ORBITAL_ECCENTRICITY = 0.569
ORBITAL_INCLINATION = 86.75
ORBITAL_SEMIMAJOR_AXIS = 8657.09
PERIAPSIS_ALTITUDE = 349.87
PERIAPSIS_ARGUMENT_ANGLE = 121.27
PERIAPSIS_TIME = 2008-03-27T23:17:35.000Z
SPACECRAFT_ORIENTATION = (0.0,-1.0,0.0)
^MEX_ORIENTATION_DESC = "MEX_ORIENTATION_DESC.TXT"
SPACECRAFT_POINTING_MODE = NADIR
^MEX_POINTING_DESC = "MEX_POINTING_DESC.TXT"
RIGHT_ASCENSION = -1e+32
DECLINATION = -1e+32
OFFSET_ANGLE = -1e+32
SPACECRAFT_SOLAR_DISTANCE = 2.47652e+08
TARGET_NAME = MARS
/* CAMERA DATA ELEMENTS */
DETECTOR_TEMPERATURE = 18.5744
FOCAL_PLANE_TEMPERATURE = 8.5833
INST_CMPRS_NAME = "DISCRETE COSINE TRANSFORMATION (DCT)"
INST_CMPRS_RATIO = 29.3206
INST_CMPRS_QUALITY = 0
INST_CMPRS_QUANTZ_TBL_ID = 0
INSTRUMENT_TEMPERATURE = 11.234
LENS_TEMPERATURE = 8.9911
MACROPIXEL_SIZE = 4
MISSING_FRAMES = 0
PIXEL_SUBSAMPLING_FLAG = N
SIGNAL_CHAIN_ID = 2
/* RADIOMETRIC DATA ELEMENTS */
BANDWIDTH = 48.0
CENTER_FILTER_WAVELENGTH = 748.0
RADIANCE_OFFSET = 0.948121
RADIANCE_SCALING_FACTOR = 0.00546336
REFLECTANCE_SCALING_FACTOR = 0.000764663
MEX:REFLECTANCE_OFFSET = 0.132701
/* IMAGE OBJECT DEFINITIONS */
OBJECT = IMAGE
  INTERCHANGE_FORMAT = BINARY
  LINES = 14893
  LINE_SAMPLES = 2865
  SAMPLE_TYPE = UNSIGNED_INTEGER
  SAMPLE_BITS = 8
  BANDS = 1
  BAND_STORAGE_TYPE = BAND_SEQUENTIAL
  MAXIMUM = 255
  MEAN = 72.2363
  MINIMUM = 1
  STANDARD_DEVIATION = 36.1624
END_OBJECT = IMAGE
/* MAP OBJECT DEFINITIONS */
OBJECT = IMAGE_MAP_PROJECTION
  ^DATA_SET_MAP_PROJECTION_CATALOG= "DSMAP.CAT"
  A_AXIS_RADIUS = 3396.0
  B_AXIS_RADIUS = 3396.0
  C_AXIS_RADIUS = 3396.0
  CENTER_LATITUDE = 0.0
  CENTER_LONGITUDE = 344.0
  COORDINATE_SYSTEM_NAME = PLANETOGRAPHIC
  COORDINATE_SYSTEM_TYPE = "BODY-FIXED ROTATING"
  EASTERNMOST_LONGITUDE = 346.183
  FIRST_STANDARD_PARALLEL = "N/A"
  LINE_FIRST_PIXEL = 1
  LINE_LAST_PIXEL = 14893
  LINE_PROJECTION_OFFSET = 80822.625
  MAP_PROJECTION_ROTATION = 0.0
  MAP_PROJECTION_TYPE = SINUSOIDAL
  MAP_RESOLUTION = 1185.42760773333
  MAP_SCALE = 0.05
  MAXIMUM_LATITUDE = 68.0583
  MINIMUM_LATITUDE = 55.6466
  POSITIVE_LONGITUDE_DIRECTION = EAST
  REFERENCE_LATITUDE = "N/A"
  REFERENCE_LONGITUDE = "N/A"
  SAMPLE_FIRST_PIXEL = 1
  SAMPLE_LAST_PIXEL = 2865
  SAMPLE_PROJECTION_OFFSET = 1434.875
  SECOND_STANDARD_PARALLEL = "N/A"
  WESTERNMOST_LONGITUDE = 340.893
END_OBJECT = IMAGE_MAP_PROJECTION
/* The JPEG2000 image data file associated with this label. */
OBJECT = COMPRESSED_FILE
  FILE_NAME = "H5440_0000_RE3.JP2"
  RECORD_TYPE = UNDEFINED
  FILE_RECORDS = UNK
  ENCODING_TYPE = "JP2"
  INTERCHANGE_FORMAT = BINARY
  UNCOMPRESSED_FILE_NAME = "H5440_0000_RE3.IMG"
  REQUIRED_STORAGE_BYTES = "42691365"
  ^DESCRIPTION = "JP2INFO.TXT"
END_OBJECT = COMPRESSED_FILE
END
