PDS_VERSION_ID = PDS3
/* FILE DATA ELEMENTS */
RECORD_TYPE = STREAM
/* POINTERS TO DATA OBJECTS */
^COMPRESSED_FILE = "H5441_0000_GR3.JP2"
/* IDENTIFICATION DATA ELEMENTS */
DATA_SET_ID = "MEX-M-HRSC-5-REFDR-MAPPROJECTED-V3.0"
DATA_SET_NAME = "MARS EXPRESS HRSC MAP PROJECTED REFDR V3.0"
DETECTOR_ID = MEX_HRSC_GREEN
EVENT_TYPE = "MARS-REGIONAL-MAPPING-Te-Pf-Ts"
INSTRUMENT_HOST_ID = MEX
INSTRUMENT_HOST_NAME = "MARS EXPRESS"
INSTRUMENT_ID = HRSC
INSTRUMENT_NAME = "HIGH RESOLUTION STEREO CAMERA"
MISSION_NAME = "MARS EXPRESS"
MISSION_PHASE_NAME = ME_Phase_11
PROCESSING_LEVEL_ID = 3
PRODUCT_CREATION_TIME = 2016-05-14T17:13:02.000Z
PRODUCT_ID = "H5441_0000_GR3.JP2"
RELEASE_ID = 0062
REVISION_ID = 0000
/* QUALITY DATA ELEMENTS */
DATA_QUALITY_ID = 1
DATA_QUALITY_DESC = "Data calculated based on original SPICE kernels"
/* TIME DATA ELEMENTS */
SPACECRAFT_CLOCK_START_COUNT = "1/0154764181.07304"
SPACECRAFT_CLOCK_STOP_COUNT = "1/0154764488.65009"
START_TIME = 2008-03-28T06:03:38.644Z
STOP_TIME = 2008-03-28T06:07:33.661Z
/* ORBITAL DATA ELEMENTS */
ASCENDING_NODE_LONGITUDE = 115.06
MAXIMUM_RESOLUTION = 56.4
FOOTPRINT_POINT_LATITUDE = (75.402,75.3074,75.1936,74.8776,74.563, 74.2533,73.9428,73.6316,73.3194,73.0064 ,72.6928,72.3784,72.0633,71.7475, 71.4311,71.114,70.7964,70.4779,70.159, 69.8396,69.3592,68.8778,68.5562,68.2343 ,67.9119,67.611,67.0689,66.5257,66.2536 ,65.9813,65.7087,65.4359,65.1629, 64.8896,64.6161,64.3424,64.0684,63.7943 ,63.5199,63.2454,62.9707,62.6958, 62.4208,62.1456,61.8702,61.5947,61.319, 60.9052,60.6292,60.4796,60.513,60.5357, 60.8134,61.2298,61.5073,61.7848,62.0621 ,62.3394,62.7549,63.1702,63.4469, 63.7235,64.0,64.2763,64.5524,64.8284, 65.1043,65.3799,65.6554,65.9307,66.2058 ,66.4807,66.7555,67.0301,67.3044, 67.8524,68.1719,68.4983,68.8242,69.1498 ,69.475,69.7999,70.1244,70.4486,70.7724 ,71.0957,71.4186,71.7411,72.0632, 72.3848,72.7059,73.0266,73.3468,73.6665 ,73.9857,74.3044,74.6225,75.1028, 75.4281,75.402)
FOOTPRINT_POINT_LONGITUDE = (238.806,237.121,235.696,236.031, 236.349,236.647,236.934,237.21,237.475, 237.73,237.976,238.212,238.439,238.658, 238.869,239.072,239.269,239.458,239.641 ,239.817,240.07,240.311,240.465,240.615 ,240.759,240.889,241.113,241.326, 241.428,241.527,241.624,241.718,241.81, 241.9,241.987,242.073,242.156,242.237, 242.316,242.393,242.468,242.541,242.613 ,242.683,242.751,242.817,242.882, 242.976,243.037,244.097,244.933,245.568 ,245.533,245.477,245.439,245.4,245.36, 245.319,245.256,245.191,245.147,245.102 ,245.055,245.007,244.959,244.908, 244.857,244.805,244.751,244.696,244.64, 244.582,244.523,244.462,244.4,244.27, 244.192,244.108,244.023,243.935,243.844 ,243.749,243.652,243.551,243.446, 243.338,243.226,243.11,242.99,242.865, 242.735,242.601,242.461,242.316,242.164 ,242.006,241.843,241.581,241.393, 238.806)
ORBIT_NUMBER = 5441
ORBITAL_ECCENTRICITY = 0.569
ORBITAL_INCLINATION = 86.75
ORBITAL_SEMIMAJOR_AXIS = 8659.34
PERIAPSIS_ALTITUDE = 349.17
PERIAPSIS_ARGUMENT_ANGLE = 121.08
PERIAPSIS_TIME = 2008-03-28T06:08:05.000Z
SPACECRAFT_ORIENTATION = (0.0,-1.0,0.0)
^MEX_ORIENTATION_DESC = "MEX_ORIENTATION_DESC.TXT"
SPACECRAFT_POINTING_MODE = ACROSSTRACK
^MEX_POINTING_DESC = "MEX_POINTING_DESC.TXT"
RIGHT_ASCENSION = -1e+32
DECLINATION = -1e+32
OFFSET_ANGLE = 0.0
SPACECRAFT_SOLAR_DISTANCE = 2.47671e+08
TARGET_NAME = MARS
/* CAMERA DATA ELEMENTS */
DETECTOR_TEMPERATURE = 18.3705
FOCAL_PLANE_TEMPERATURE = 7.9716
INST_CMPRS_NAME = "DISCRETE COSINE TRANSFORMATION (DCT)"
INST_CMPRS_RATIO = 14.0968
INST_CMPRS_QUALITY = 0
INST_CMPRS_QUANTZ_TBL_ID = 0
INSTRUMENT_TEMPERATURE = 11.234
LENS_TEMPERATURE = 8.7872
MACROPIXEL_SIZE = 4
MISSING_FRAMES = 0
PIXEL_SUBSAMPLING_FLAG = N
SIGNAL_CHAIN_ID = 2
/* RADIOMETRIC DATA ELEMENTS */
BANDWIDTH = 88.0
CENTER_FILTER_WAVELENGTH = 538.0
RADIANCE_OFFSET = 1.51691
RADIANCE_SCALING_FACTOR = 0.0140854
REFLECTANCE_SCALING_FACTOR = 0.000743891
MEX:REFLECTANCE_OFFSET = 0.0801127
/* IMAGE OBJECT DEFINITIONS */
OBJECT = IMAGE
  INTERCHANGE_FORMAT = BINARY
  LINES = 17872
  LINE_SAMPLES = 3660
  SAMPLE_TYPE = UNSIGNED_INTEGER
  SAMPLE_BITS = 8
  BANDS = 1
  BAND_STORAGE_TYPE = BAND_SEQUENTIAL
  MAXIMUM = 255
  MEAN = 69.7146
  MINIMUM = 1
  STANDARD_DEVIATION = 74.043
END_OBJECT = IMAGE
/* MAP OBJECT DEFINITIONS */
OBJECT = IMAGE_MAP_PROJECTION
  ^DATA_SET_MAP_PROJECTION_CATALOG= "DSMAP.CAT"
  A_AXIS_RADIUS = 3396.0
  B_AXIS_RADIUS = 3396.0
  C_AXIS_RADIUS = 3396.0
  CENTER_LATITUDE = 0.0
  CENTER_LONGITUDE = 243.0
  COORDINATE_SYSTEM_NAME = PLANETOGRAPHIC
  COORDINATE_SYSTEM_TYPE = "BODY-FIXED ROTATING"
  EASTERNMOST_LONGITUDE = 245.568
  FIRST_STANDARD_PARALLEL = "N/A"
  LINE_FIRST_PIXEL = 1
  LINE_LAST_PIXEL = 17872
  LINE_PROJECTION_OFFSET = 89504.125
  MAP_PROJECTION_ROTATION = 0.0
  MAP_PROJECTION_TYPE = SINUSOIDAL
  MAP_RESOLUTION = 1185.42760773333
  MAP_SCALE = 0.05
  MAXIMUM_LATITUDE = 75.4281
  MINIMUM_LATITUDE = 60.4796
  POSITIVE_LONGITUDE_DIRECTION = EAST
  REFERENCE_LATITUDE = "N/A"
  REFERENCE_LONGITUDE = "N/A"
  SAMPLE_FIRST_PIXEL = 1
  SAMPLE_LAST_PIXEL = 3660
  SAMPLE_PROJECTION_OFFSET = 2176.625
  SECOND_STANDARD_PARALLEL = "N/A"
  WESTERNMOST_LONGITUDE = 235.696
END_OBJECT = IMAGE_MAP_PROJECTION
/* The JPEG2000 image data file associated with this label. */
OBJECT = COMPRESSED_FILE
  FILE_NAME = "H5441_0000_GR3.JP2"
  RECORD_TYPE = UNDEFINED
  FILE_RECORDS = UNK
  ENCODING_TYPE = "JP2"
  INTERCHANGE_FORMAT = BINARY
  UNCOMPRESSED_FILE_NAME = "H5441_0000_GR3.IMG"
  REQUIRED_STORAGE_BYTES = "65433480"
  ^DESCRIPTION = "JP2INFO.TXT"
END_OBJECT = COMPRESSED_FILE
END
