PDS_VERSION_ID = PDS3
/* FILE DATA ELEMENTS */
RECORD_TYPE = STREAM
/* POINTERS TO DATA OBJECTS */
^COMPRESSED_FILE = "H5455_0000_P23.JP2"
/* IDENTIFICATION DATA ELEMENTS */
DATA_SET_ID = "MEX-M-HRSC-5-REFDR-MAPPROJECTED-V3.0"
DATA_SET_NAME = "MARS EXPRESS HRSC MAP PROJECTED REFDR V3.0"
DETECTOR_ID = MEX_HRSC_P2
EVENT_TYPE = "MARS-REGIONAL-MAPPING-Te-Im-Pf"
INSTRUMENT_HOST_ID = MEX
INSTRUMENT_HOST_NAME = "MARS EXPRESS"
INSTRUMENT_ID = HRSC
INSTRUMENT_NAME = "HIGH RESOLUTION STEREO CAMERA"
MISSION_NAME = "MARS EXPRESS"
MISSION_PHASE_NAME = ME_Phase_11
PROCESSING_LEVEL_ID = 3
PRODUCT_CREATION_TIME = 2016-05-14T17:13:02.000Z
PRODUCT_ID = "H5455_0000_P23.JP2"
RELEASE_ID = 0062
REVISION_ID = 0000
/* QUALITY DATA ELEMENTS */
DATA_QUALITY_ID = 1
DATA_QUALITY_DESC = "Data calculated based on original SPICE kernels"
/* TIME DATA ELEMENTS */
SPACECRAFT_CLOCK_START_COUNT = "1/0155109165.07310"
SPACECRAFT_CLOCK_STOP_COUNT = "1/0155109427.48193"
START_TIME = 2008-04-01T05:53:44.110Z
STOP_TIME = 2008-04-01T05:56:57.965Z
/* ORBITAL DATA ELEMENTS */
ASCENDING_NODE_LONGITUDE = 114.78
MAXIMUM_RESOLUTION = 29.2
FOOTPRINT_POINT_LATITUDE = (68.3934,68.3612,68.3119,68.3472, 68.0968,67.8471,67.5969,67.2215,66.9712 ,66.7205,66.47,66.2196,65.9693,65.5936, 65.3432,65.0924,64.8418,64.5916,64.3412 ,64.0907,63.8402,63.5898,63.3395, 62.9639,62.7136,62.4635,62.0881,61.713, 61.4628,61.0881,60.8382,60.5884,60.3388 ,60.0892,59.8398,59.4659,59.0923, 58.8432,58.5944,58.2211,57.9725,57.7242 ,57.4758,57.2277,56.9798,56.7321, 56.4844,56.2369,55.8658,55.8814,55.9072 ,55.9208,55.9462,56.3186,56.5672, 56.8158,57.0646,57.3137,57.563,57.9371, 58.1867,58.4365,58.6863,58.9364,59.1865 ,59.4369,59.6874,59.9381,60.1889, 60.4398,60.8164,61.0675,61.3187,61.57, 61.8216,62.0729,62.3247,62.5765,62.8283 ,63.2062,63.4582,63.7103,63.9625,64.215 ,64.4671,64.8457,65.098,65.3499,65.6029 ,65.9819,66.2345,66.4872,66.7399, 66.9929,67.2457,67.4984,67.7512,68.0039 ,68.2565,68.3934)
FOOTPRINT_POINT_LONGITUDE = (282.696,281.973,280.974,280.002,280.11 ,280.215,280.317,280.466,280.562, 280.656,280.747,280.836,280.923,281.049 ,281.13,281.21,281.288,281.363,281.437, 281.509,281.579,281.648,281.715,281.813 ,281.876,281.938,282.028,282.114, 282.171,282.253,282.306,282.358,282.408 ,282.458,282.507,282.577,282.645, 282.689,282.733,282.796,282.837,282.877 ,282.916,282.954,282.991,283.027, 283.063,283.098,283.149,283.607,284.263 ,284.636,285.415,285.38,285.357,285.333 ,285.308,285.283,285.258,285.219, 285.192,285.165,285.138,285.11,285.081, 285.052,285.022,284.992,284.961,284.929 ,284.881,284.847,284.813,284.779, 284.744,284.707,284.671,284.633,284.595 ,284.536,284.495,284.454,284.412, 284.369,284.325,284.257,284.21,284.162, 284.114,284.038,283.987,283.934,283.88, 283.825,283.768,283.71,283.65,283.589, 283.526,282.696)
ORBIT_NUMBER = 5455
ORBITAL_ECCENTRICITY = 0.569
ORBITAL_INCLINATION = 86.74
ORBITAL_SEMIMAJOR_AXIS = 8655.5
PERIAPSIS_ALTITUDE = 351.05
PERIAPSIS_ARGUMENT_ANGLE = 118.66
PERIAPSIS_TIME = 2008-04-01T05:55:14.000Z
SPACECRAFT_ORIENTATION = (0.0,-1.0,0.0)
^MEX_ORIENTATION_DESC = "MEX_ORIENTATION_DESC.TXT"
SPACECRAFT_POINTING_MODE = ACROSSTRACK
^MEX_POINTING_DESC = "MEX_POINTING_DESC.TXT"
RIGHT_ASCENSION = -1e+32
DECLINATION = -1e+32
OFFSET_ANGLE = 0.1
SPACECRAFT_SOLAR_DISTANCE = 2.47928e+08
TARGET_NAME = MARS
/* CAMERA DATA ELEMENTS */
DETECTOR_TEMPERATURE = 18.3705
FOCAL_PLANE_TEMPERATURE = 8.1755
INST_CMPRS_NAME = "DISCRETE COSINE TRANSFORMATION (DCT)"
INST_CMPRS_RATIO = 8.99627
INST_CMPRS_QUALITY = 0
INST_CMPRS_QUANTZ_TBL_ID = 0
INSTRUMENT_TEMPERATURE = 11.234
LENS_TEMPERATURE = 8.3794
MACROPIXEL_SIZE = 2
MISSING_FRAMES = 0
PIXEL_SUBSAMPLING_FLAG = N
SIGNAL_CHAIN_ID = 3
/* RADIOMETRIC DATA ELEMENTS */
BANDWIDTH = 177.0
CENTER_FILTER_WAVELENGTH = 676.5
RADIANCE_OFFSET = 4.14573
RADIANCE_SCALING_FACTOR = 0.0131398
REFLECTANCE_SCALING_FACTOR = 0.00042825
MEX:REFLECTANCE_OFFSET = 0.135116
/* IMAGE OBJECT DEFINITIONS */
OBJECT = IMAGE
  INTERCHANGE_FORMAT = BINARY
  LINES = 29979
  LINE_SAMPLES = 5752
  SAMPLE_TYPE = UNSIGNED_INTEGER
  SAMPLE_BITS = 8
  BANDS = 1
  BAND_STORAGE_TYPE = BAND_SEQUENTIAL
  MAXIMUM = 255
  MEAN = 120.519
  MINIMUM = 1
  STANDARD_DEVIATION = 45.522
END_OBJECT = IMAGE
/* MAP OBJECT DEFINITIONS */
OBJECT = IMAGE_MAP_PROJECTION
  ^DATA_SET_MAP_PROJECTION_CATALOG= "DSMAP.CAT"
  A_AXIS_RADIUS = 3396.0
  B_AXIS_RADIUS = 3396.0
  C_AXIS_RADIUS = 3396.0
  CENTER_LATITUDE = 0.0
  CENTER_LONGITUDE = 283.0
  COORDINATE_SYSTEM_NAME = PLANETOGRAPHIC
  COORDINATE_SYSTEM_TYPE = "BODY-FIXED ROTATING"
  EASTERNMOST_LONGITUDE = 285.415
  FIRST_STANDARD_PARALLEL = "N/A"
  LINE_FIRST_PIXEL = 1
  LINE_LAST_PIXEL = 29979
  LINE_PROJECTION_OFFSET = 162403.25
  MAP_PROJECTION_ROTATION = 0.0
  MAP_PROJECTION_TYPE = SINUSOIDAL
  MAP_RESOLUTION = 2370.85521546667
  MAP_SCALE = 0.025
  MAXIMUM_LATITUDE = 68.3934
  MINIMUM_LATITUDE = 55.8658
  POSITIVE_LONGITUDE_DIRECTION = EAST
  REFERENCE_LATITUDE = "N/A"
  REFERENCE_LONGITUDE = "N/A"
  SAMPLE_FIRST_PIXEL = 1
  SAMPLE_LAST_PIXEL = 5752
  SAMPLE_PROJECTION_OFFSET = 2556.25
  SECOND_STANDARD_PARALLEL = "N/A"
  WESTERNMOST_LONGITUDE = 280.002
END_OBJECT = IMAGE_MAP_PROJECTION
/* The JPEG2000 image data file associated with this label. */
OBJECT = COMPRESSED_FILE
  FILE_NAME = "H5455_0000_P23.JP2"
  RECORD_TYPE = UNDEFINED
  FILE_RECORDS = UNK
  ENCODING_TYPE = "JP2"
  INTERCHANGE_FORMAT = BINARY
  UNCOMPRESSED_FILE_NAME = "H5455_0000_P23.IMG"
  REQUIRED_STORAGE_BYTES = "172467968"
  ^DESCRIPTION = "JP2INFO.TXT"
END_OBJECT = COMPRESSED_FILE
END
