PDS_VERSION_ID = PDS3
/* FILE DATA ELEMENTS */
RECORD_TYPE = STREAM
/* POINTERS TO DATA OBJECTS */
^COMPRESSED_FILE = "H5456_0000_P13.JP2"
/* IDENTIFICATION DATA ELEMENTS */
DATA_SET_ID = "MEX-M-HRSC-5-REFDR-MAPPROJECTED-V3.0"
DATA_SET_NAME = "MARS EXPRESS HRSC MAP PROJECTED REFDR V3.0"
DETECTOR_ID = MEX_HRSC_P1
EVENT_TYPE = "MARS-REGIONAL-MAPPING-Te-Im-Pf"
INSTRUMENT_HOST_ID = MEX
INSTRUMENT_HOST_NAME = "MARS EXPRESS"
INSTRUMENT_ID = HRSC
INSTRUMENT_NAME = "HIGH RESOLUTION STEREO CAMERA"
MISSION_NAME = "MARS EXPRESS"
MISSION_PHASE_NAME = ME_Phase_11
PROCESSING_LEVEL_ID = 3
PRODUCT_CREATION_TIME = 2016-05-14T17:13:02.000Z
PRODUCT_ID = "H5456_0000_P13.JP2"
RELEASE_ID = 0062
REVISION_ID = 0000
/* QUALITY DATA ELEMENTS */
DATA_QUALITY_ID = 1
DATA_QUALITY_DESC = "Data calculated based on original SPICE kernels"
/* TIME DATA ELEMENTS */
SPACECRAFT_CLOCK_START_COUNT = "1/0155133798.09040"
SPACECRAFT_CLOCK_STOP_COUNT = "1/0155134031.08607"
START_TIME = 2008-04-01T12:43:33.538Z
STOP_TIME = 2008-04-01T12:46:19.615Z
/* ORBITAL DATA ELEMENTS */
ASCENDING_NODE_LONGITUDE = 114.75
MAXIMUM_RESOLUTION = 29.1
FOOTPRINT_POINT_LATITUDE = (68.3764,68.3476,68.3081,68.2815, 68.2568,68.1376,67.8257,67.6176,67.4093 ,67.2007,66.992,66.6783,66.469,66.2597, 65.9451,65.7353,65.5252,65.2092,64.9985 ,64.6822,64.4714,64.2598,63.9428,63.731 ,63.5193,63.3072,63.0952,62.8831, 62.5645,62.3521,62.1393,61.8199,61.6069 ,61.3938,61.1806,60.9671,60.7535, 60.5397,60.3259,60.0051,59.6841,59.4699 ,59.1486,58.9338,58.7197,58.5052, 58.2906,57.9687,57.6463,57.5422,57.5603 ,57.5825,57.6009,57.6134,57.6276, 57.8435,58.0593,58.383,58.5987,58.9222, 59.1378,59.3532,59.6764,59.8917,60.107, 60.4296,60.6446,60.8593,61.0741,61.3962 ,61.718,61.9326,62.2542,62.4682,62.789, 63.0028,63.2168,63.4302,63.7504,63.9637 ,64.1769,64.3899,64.6029,64.8158, 65.0285,65.3472,65.5595,65.7716,65.9837 ,66.1955,66.5131,66.7246,66.9361, 67.1472,67.3582,67.569,67.7797,67.9903, 68.2006,68.3764)
FOOTPRINT_POINT_LONGITUDE = (182.774,182.103,181.274,180.766, 180.323,179.739,179.875,179.964,180.051 ,180.137,180.22,180.342,180.422,180.499 ,180.613,180.687,180.76,180.866,180.935 ,181.036,181.101,181.166,181.26,181.321 ,181.381,181.44,181.498,181.555,181.639 ,181.693,181.746,181.824,181.875, 181.924,181.973,182.021,182.068,182.114 ,182.16,182.226,182.291,182.333,182.395 ,182.435,182.474,182.513,182.551, 182.607,182.661,182.835,183.217,183.732 ,184.204,184.564,184.999,184.976, 184.953,184.917,184.893,184.856,184.831 ,184.805,184.766,184.74,184.712,184.671 ,184.643,184.615,184.586,184.541, 184.495,184.464,184.416,184.384,184.335 ,184.301,184.267,184.232,184.178, 184.142,184.105,184.067,184.028,183.989 ,183.949,183.888,183.846,183.804, 183.761,183.716,183.649,183.602,183.555 ,183.507,183.458,183.408,183.357, 183.305,183.252,182.774)
ORBIT_NUMBER = 5456
ORBITAL_ECCENTRICITY = 0.569
ORBITAL_INCLINATION = 86.75
ORBITAL_SEMIMAJOR_AXIS = 8652.27
PERIAPSIS_ALTITUDE = 351.35
PERIAPSIS_ARGUMENT_ANGLE = 118.48
PERIAPSIS_TIME = 2008-04-01T12:45:42.000Z
SPACECRAFT_ORIENTATION = (0.0,-1.0,0.0)
^MEX_ORIENTATION_DESC = "MEX_ORIENTATION_DESC.TXT"
SPACECRAFT_POINTING_MODE = NADIR
^MEX_POINTING_DESC = "MEX_POINTING_DESC.TXT"
RIGHT_ASCENSION = -1e+32
DECLINATION = -1e+32
OFFSET_ANGLE = -1e+32
SPACECRAFT_SOLAR_DISTANCE = 2.47945e+08
TARGET_NAME = MARS
/* CAMERA DATA ELEMENTS */
DETECTOR_TEMPERATURE = 16.9432
FOCAL_PLANE_TEMPERATURE = 8.3794
INST_CMPRS_NAME = "DISCRETE COSINE TRANSFORMATION (DCT)"
INST_CMPRS_RATIO = 19.49
INST_CMPRS_QUALITY = 0
INST_CMPRS_QUANTZ_TBL_ID = 0
INSTRUMENT_TEMPERATURE = 11.0301
LENS_TEMPERATURE = 8.5833
MACROPIXEL_SIZE = 2
MISSING_FRAMES = 0
PIXEL_SUBSAMPLING_FLAG = N
SIGNAL_CHAIN_ID = 3
/* RADIOMETRIC DATA ELEMENTS */
BANDWIDTH = 174.0
CENTER_FILTER_WAVELENGTH = 675.0
RADIANCE_OFFSET = 2.54705
RADIANCE_SCALING_FACTOR = 0.0115775
REFLECTANCE_SCALING_FACTOR = 0.000382834
MEX:REFLECTANCE_OFFSET = 0.0842235
/* IMAGE OBJECT DEFINITIONS */
OBJECT = IMAGE
  INTERCHANGE_FORMAT = BINARY
  LINES = 25523
  LINE_SAMPLES = 5316
  SAMPLE_TYPE = UNSIGNED_INTEGER
  SAMPLE_BITS = 8
  BANDS = 1
  BAND_STORAGE_TYPE = BAND_SEQUENTIAL
  MAXIMUM = 255
  MEAN = 150.419
  MINIMUM = 1
  STANDARD_DEVIATION = 23.3564
END_OBJECT = IMAGE
/* MAP OBJECT DEFINITIONS */
OBJECT = IMAGE_MAP_PROJECTION
  ^DATA_SET_MAP_PROJECTION_CATALOG= "DSMAP.CAT"
  A_AXIS_RADIUS = 3396.0
  B_AXIS_RADIUS = 3396.0
  C_AXIS_RADIUS = 3396.0
  CENTER_LATITUDE = 0.0
  CENTER_LONGITUDE = 183.0
  COORDINATE_SYSTEM_NAME = PLANETOGRAPHIC
  COORDINATE_SYSTEM_TYPE = "BODY-FIXED ROTATING"
  EASTERNMOST_LONGITUDE = 184.999
  FIRST_STANDARD_PARALLEL = "N/A"
  LINE_FIRST_PIXEL = 1
  LINE_LAST_PIXEL = 25523
  LINE_PROJECTION_OFFSET = 161956.25
  MAP_PROJECTION_ROTATION = 0.0
  MAP_PROJECTION_TYPE = SINUSOIDAL
  MAP_RESOLUTION = 2370.85521546667
  MAP_SCALE = 0.025
  MAXIMUM_LATITUDE = 68.3764
  MINIMUM_LATITUDE = 57.5422
  POSITIVE_LONGITUDE_DIRECTION = EAST
  REFERENCE_LATITUDE = "N/A"
  REFERENCE_LONGITUDE = "N/A"
  SAMPLE_FIRST_PIXEL = 1
  SAMPLE_LAST_PIXEL = 5316
  SAMPLE_PROJECTION_OFFSET = 2835.25
  SECOND_STANDARD_PARALLEL = "N/A"
  WESTERNMOST_LONGITUDE = 179.739
END_OBJECT = IMAGE_MAP_PROJECTION
/* The JPEG2000 image data file associated with this label. */
OBJECT = COMPRESSED_FILE
  FILE_NAME = "H5456_0000_P13.JP2"
  RECORD_TYPE = UNDEFINED
  FILE_RECORDS = UNK
  ENCODING_TYPE = "JP2"
  INTERCHANGE_FORMAT = BINARY
  UNCOMPRESSED_FILE_NAME = "H5456_0000_P13.IMG"
  REQUIRED_STORAGE_BYTES = "135706848"
  ^DESCRIPTION = "JP2INFO.TXT"
END_OBJECT = COMPRESSED_FILE
END
