PDS_VERSION_ID = PDS3
/* FILE DATA ELEMENTS */
RECORD_TYPE = STREAM
/* POINTERS TO DATA OBJECTS */
^COMPRESSED_FILE = "H5459_0000_P13.JP2"
/* IDENTIFICATION DATA ELEMENTS */
DATA_SET_ID = "MEX-M-HRSC-5-REFDR-MAPPROJECTED-V3.0"
DATA_SET_NAME = "MARS EXPRESS HRSC MAP PROJECTED REFDR V3.0"
DETECTOR_ID = MEX_HRSC_P1
EVENT_TYPE = "MARS-REGIONAL-MAPPING-Te-Pf-Ts"
INSTRUMENT_HOST_ID = MEX
INSTRUMENT_HOST_NAME = "MARS EXPRESS"
INSTRUMENT_ID = HRSC
INSTRUMENT_NAME = "HIGH RESOLUTION STEREO CAMERA"
MISSION_NAME = "MARS EXPRESS"
MISSION_PHASE_NAME = ME_Phase_11
PROCESSING_LEVEL_ID = 3
PRODUCT_CREATION_TIME = 2016-05-14T17:13:02.000Z
PRODUCT_ID = "H5459_0000_P13.JP2"
RELEASE_ID = 0062
REVISION_ID = 0000
/* QUALITY DATA ELEMENTS */
DATA_QUALITY_ID = 1
DATA_QUALITY_DESC = "Data calculated based on original SPICE kernels"
/* TIME DATA ELEMENTS */
SPACECRAFT_CLOCK_START_COUNT = "1/0155207580.08244"
SPACECRAFT_CLOCK_STOP_COUNT = "1/0155207884.50032"
START_TIME = 2008-04-02T09:13:17.120Z
STOP_TIME = 2008-04-02T09:17:13.722Z
/* ORBITAL DATA ELEMENTS */
ASCENDING_NODE_LONGITUDE = 114.7
MAXIMUM_RESOLUTION = 28.9
FOOTPRINT_POINT_LATITUDE = (75.3805,75.2854,75.1779,75.1194, 75.0295,74.6084,74.298,73.8286,73.5153, 73.2003,72.8838,72.5673,72.0917,71.6123 ,71.2931,70.9721,70.6504,70.3285, 69.8422,69.5177,69.1926,68.8836,68.6107 ,68.3368,68.0626,67.7877,67.3747,67.099 ,66.8228,66.5461,66.2693,65.992,65.7144 ,65.4362,65.1579,64.8792,64.6003, 64.1778,63.8982,63.478,63.1976,62.7765, 62.3549,62.0735,61.6508,61.3689,61.0866 ,60.8041,60.5214,60.2386,60.2502, 60.2793,60.3278,60.3691,60.6538,61.0806 ,61.5072,61.9333,62.2174,62.5009, 62.7843,63.0678,63.4923,63.9163,64.3399 ,64.6252,64.9072,65.1888,65.4702, 65.7512,66.032,66.3127,66.5933,66.873, 67.1527,67.4322,67.851,68.1296,68.4077, 68.8243,69.102,69.4108,69.7411,70.0709, 70.4005,70.7291,71.0573,71.3847,71.7118 ,72.0379,72.3634,72.6887,73.0131, 73.3375,73.6608,73.9832,74.3052,74.6266 ,75.1072,75.3805)
FOOTPRINT_POINT_LONGITUDE = (238.051,236.467,234.886,234.098, 232.967,233.134,233.479,233.969,234.281 ,234.58,234.867,235.145,235.543,235.918 ,236.158,236.389,236.612,236.827, 237.134,237.331,237.522,237.696,237.847 ,237.992,238.134,238.272,238.472, 238.601,238.727,238.849,238.968,239.084 ,239.197,239.307,239.414,239.519, 239.621,239.77,239.866,240.005,240.096, 240.227,240.353,240.435,240.553,240.63, 240.705,240.779,240.85,240.92,241.44, 241.879,242.676,243.427,243.379,243.306 ,243.231,243.153,243.1,243.045,242.99, 242.933,242.845,242.754,242.66,242.595, 242.529,242.461,242.392,242.321,242.248 ,242.174,242.097,242.019,241.939, 241.857,241.729,241.642,241.552,241.412 ,241.316,241.206,241.084,240.958, 240.828,240.693,240.554,240.41,240.26, 240.106,239.945,239.779,239.606,239.425 ,239.239,239.044,238.842,238.631, 238.298,238.051)
ORBIT_NUMBER = 5459
ORBITAL_ECCENTRICITY = 0.569
ORBITAL_INCLINATION = 86.75
ORBITAL_SEMIMAJOR_AXIS = 8653.99
PERIAPSIS_ALTITUDE = 350.72
PERIAPSIS_ARGUMENT_ANGLE = 117.93
PERIAPSIS_TIME = 2008-04-02T09:17:10.000Z
SPACECRAFT_ORIENTATION = (0.0,-1.0,0.0)
^MEX_ORIENTATION_DESC = "MEX_ORIENTATION_DESC.TXT"
SPACECRAFT_POINTING_MODE = ACROSSTRACK
^MEX_POINTING_DESC = "MEX_POINTING_DESC.TXT"
RIGHT_ASCENSION = -1e+32
DECLINATION = -1e+32
OFFSET_ANGLE = -0.5
SPACECRAFT_SOLAR_DISTANCE = 2.47997e+08
TARGET_NAME = MARS
/* CAMERA DATA ELEMENTS */
DETECTOR_TEMPERATURE = 17.1471
FOCAL_PLANE_TEMPERATURE = 8.3794
INST_CMPRS_NAME = "DISCRETE COSINE TRANSFORMATION (DCT)"
INST_CMPRS_RATIO = 13.5895
INST_CMPRS_QUALITY = 0
INST_CMPRS_QUANTZ_TBL_ID = 0
INSTRUMENT_TEMPERATURE = 11.0301
LENS_TEMPERATURE = 8.7872
MACROPIXEL_SIZE = 2
MISSING_FRAMES = 1
PIXEL_SUBSAMPLING_FLAG = N
SIGNAL_CHAIN_ID = 3
/* RADIOMETRIC DATA ELEMENTS */
BANDWIDTH = 174.0
CENTER_FILTER_WAVELENGTH = 675.0
RADIANCE_OFFSET = 4.46212
RADIANCE_SCALING_FACTOR = 0.025487
REFLECTANCE_SCALING_FACTOR = 0.000843128
MEX:REFLECTANCE_OFFSET = 0.14761
/* IMAGE OBJECT DEFINITIONS */
OBJECT = IMAGE
  INTERCHANGE_FORMAT = BINARY
  LINES = 35659
  LINE_SAMPLES = 8347
  SAMPLE_TYPE = UNSIGNED_INTEGER
  SAMPLE_BITS = 8
  BANDS = 1
  BAND_STORAGE_TYPE = BAND_SEQUENTIAL
  MAXIMUM = 255
  MEAN = 87.4621
  MINIMUM = 1
  STANDARD_DEVIATION = 57.9134
END_OBJECT = IMAGE
/* MAP OBJECT DEFINITIONS */
OBJECT = IMAGE_MAP_PROJECTION
  ^DATA_SET_MAP_PROJECTION_CATALOG= "DSMAP.CAT"
  A_AXIS_RADIUS = 3396.0
  B_AXIS_RADIUS = 3396.0
  C_AXIS_RADIUS = 3396.0
  CENTER_LATITUDE = 0.0
  CENTER_LONGITUDE = 240.0
  COORDINATE_SYSTEM_NAME = PLANETOGRAPHIC
  COORDINATE_SYSTEM_TYPE = "BODY-FIXED ROTATING"
  EASTERNMOST_LONGITUDE = 243.427
  FIRST_STANDARD_PARALLEL = "N/A"
  LINE_FIRST_PIXEL = 1
  LINE_LAST_PIXEL = 35659
  LINE_PROJECTION_OFFSET = 178492.75
  MAP_PROJECTION_ROTATION = 0.0
  MAP_PROJECTION_TYPE = SINUSOIDAL
  MAP_RESOLUTION = 2370.85521546667
  MAP_SCALE = 0.025
  MAXIMUM_LATITUDE = 75.3805
  MINIMUM_LATITUDE = 60.2386
  POSITIVE_LONGITUDE_DIRECTION = EAST
  REFERENCE_LATITUDE = "N/A"
  REFERENCE_LONGITUDE = "N/A"
  SAMPLE_FIRST_PIXEL = 1
  SAMPLE_LAST_PIXEL = 8347
  SAMPLE_PROJECTION_OFFSET = 4340.75
  SECOND_STANDARD_PARALLEL = "N/A"
  WESTERNMOST_LONGITUDE = 232.967
END_OBJECT = IMAGE_MAP_PROJECTION
/* The JPEG2000 image data file associated with this label. */
OBJECT = COMPRESSED_FILE
  FILE_NAME = "H5459_0000_P13.JP2"
  RECORD_TYPE = UNDEFINED
  FILE_RECORDS = UNK
  ENCODING_TYPE = "JP2"
  INTERCHANGE_FORMAT = BINARY
  UNCOMPRESSED_FILE_NAME = "H5459_0000_P13.IMG"
  REQUIRED_STORAGE_BYTES = "297679061"
  ^DESCRIPTION = "JP2INFO.TXT"
END_OBJECT = COMPRESSED_FILE
END
