PDS_VERSION_ID = PDS3
/* FILE DATA ELEMENTS */
RECORD_TYPE = STREAM
/* POINTERS TO DATA OBJECTS */
^COMPRESSED_FILE = "H5461_0000_P23.JP2"
/* IDENTIFICATION DATA ELEMENTS */
DATA_SET_ID = "MEX-M-HRSC-5-REFDR-MAPPROJECTED-V3.0"
DATA_SET_NAME = "MARS EXPRESS HRSC MAP PROJECTED REFDR V3.0"
DETECTOR_ID = MEX_HRSC_P2
EVENT_TYPE = "MARS-REGIONAL-MAPPING-Te-Im-Pf"
INSTRUMENT_HOST_ID = MEX
INSTRUMENT_HOST_NAME = "MARS EXPRESS"
INSTRUMENT_ID = HRSC
INSTRUMENT_NAME = "HIGH RESOLUTION STEREO CAMERA"
MISSION_NAME = "MARS EXPRESS"
MISSION_PHASE_NAME = ME_Phase_11
PROCESSING_LEVEL_ID = 3
PRODUCT_CREATION_TIME = 2016-05-14T17:13:02.000Z
PRODUCT_ID = "H5461_0000_P23.JP2"
RELEASE_ID = 0062
REVISION_ID = 0000
/* QUALITY DATA ELEMENTS */
DATA_QUALITY_ID = 1
DATA_QUALITY_DESC = "Data calculated based on original SPICE kernels"
/* TIME DATA ELEMENTS */
SPACECRAFT_CLOCK_START_COUNT = "1/0155256909.07286"
SPACECRAFT_CLOCK_STOP_COUNT = "1/0155257166.15494"
START_TIME = 2008-04-02T22:56:09.594Z
STOP_TIME = 2008-04-02T22:59:16.729Z
/* ORBITAL DATA ELEMENTS */
ASCENDING_NODE_LONGITUDE = 114.65
MAXIMUM_RESOLUTION = 29.2
FOOTPRINT_POINT_LATITUDE = (71.4912,71.4633,71.4353,71.4057, 71.3746,71.3376,71.4029,71.044,70.6851, 70.4455,70.2059,69.8463,69.6063,69.2462 ,68.8859,68.6457,68.4051,68.0445,67.804 ,67.5631,67.3224,66.9613,66.7205, 66.4789,66.1184,65.878,65.6375,65.3969, 65.1563,64.9156,64.6749,64.3138,64.073, 63.8323,63.5917,63.3513,62.9904,62.6298 ,62.3895,62.1493,61.7889,61.5488,61.189 ,60.9491,60.7091,60.4694,60.2299, 59.9905,59.6314,59.3922,59.3701,59.3838 ,59.4,59.4171,59.4389,59.4515,59.692, 59.9328,60.1732,60.5345,60.7754,61.1372 ,61.3784,61.6197,61.9817,62.2234,62.586 ,62.9489,63.1908,63.5539,63.9172, 64.1595,64.4021,64.6446,65.0084,65.3722 ,65.7362,65.979,66.2217,66.586,66.8288, 67.0716,67.436,67.679,67.9218,68.1647, 68.4077,68.6507,68.8936,69.1362,69.3792 ,69.6224,69.9869,70.2297,70.4727, 70.7156,71.0797,71.3223,71.5651, 71.4912)
FOOTPRINT_POINT_LONGITUDE = (41.5679,40.9385,40.3482,39.7606, 39.1757,38.5197,38.1014,38.3174,38.5239 ,38.6571,38.7866,38.9743,39.0955, 39.2712,39.4402,39.549,39.6554,39.8096, 39.9093,40.0068,40.1017,40.2396,40.3287 ,40.4168,40.5423,40.6236,40.703,40.7808 ,40.8566,40.9308,41.0034,41.109,41.1776 ,41.2446,41.3098,41.3736,41.4668, 41.5566,41.6148,41.6718,41.755,41.8087, 41.8871,41.938,41.988,42.0367,42.0843, 42.1307,42.1988,42.2429,42.6292,42.9383 ,43.319,43.7486,44.3468,44.7156,44.6869 ,44.6577,44.6276,44.5817,44.5502, 44.5021,44.4691,44.4354,44.3836,44.3483 ,44.2941,44.2381,44.1997,44.1408, 44.0801,44.0384,43.9962,43.9529,43.886, 43.817,43.7456,43.6967,43.6466,43.5695, 43.5165,43.4622,43.3786,43.3213,43.2624 ,43.2021,43.1403,43.0772,43.0123, 42.9455,42.8775,42.808,42.7,42.6254, 42.5491,42.4707,42.3489,42.2648,42.1787 ,41.5679)
ORBIT_NUMBER = 5461
ORBITAL_ECCENTRICITY = 0.569
ORBITAL_INCLINATION = 86.75
ORBITAL_SEMIMAJOR_AXIS = 8656.29
PERIAPSIS_ALTITUDE = 351.59
PERIAPSIS_ARGUMENT_ANGLE = 117.61
PERIAPSIS_TIME = 2008-04-02T22:58:11.000Z
SPACECRAFT_ORIENTATION = (0.0,-1.0,0.0)
^MEX_ORIENTATION_DESC = "MEX_ORIENTATION_DESC.TXT"
SPACECRAFT_POINTING_MODE = ACROSSTRACK
^MEX_POINTING_DESC = "MEX_POINTING_DESC.TXT"
RIGHT_ASCENSION = -1e+32
DECLINATION = -1e+32
OFFSET_ANGLE = 0.1
SPACECRAFT_SOLAR_DISTANCE = 2.48031e+08
TARGET_NAME = MARS
/* CAMERA DATA ELEMENTS */
DETECTOR_TEMPERATURE = 18.1666
FOCAL_PLANE_TEMPERATURE = 7.5638
INST_CMPRS_NAME = "DISCRETE COSINE TRANSFORMATION (DCT)"
INST_CMPRS_RATIO = 8.11081
INST_CMPRS_QUALITY = 0
INST_CMPRS_QUANTZ_TBL_ID = 0
INSTRUMENT_TEMPERATURE = 11.0301
LENS_TEMPERATURE = 8.1755
MACROPIXEL_SIZE = 2
MISSING_FRAMES = 0
PIXEL_SUBSAMPLING_FLAG = N
SIGNAL_CHAIN_ID = 3
/* RADIOMETRIC DATA ELEMENTS */
BANDWIDTH = 177.0
CENTER_FILTER_WAVELENGTH = 676.5
RADIANCE_OFFSET = 3.35066
RADIANCE_SCALING_FACTOR = 0.0354107
REFLECTANCE_SCALING_FACTOR = 0.00115506
MEX:REFLECTANCE_OFFSET = 0.109295
/* IMAGE OBJECT DEFINITIONS */
OBJECT = IMAGE
  INTERCHANGE_FORMAT = BINARY
  LINES = 29018
  LINE_SAMPLES = 6142
  SAMPLE_TYPE = UNSIGNED_INTEGER
  SAMPLE_BITS = 8
  BANDS = 1
  BAND_STORAGE_TYPE = BAND_SEQUENTIAL
  MAXIMUM = 255
  MEAN = 75.8409
  MINIMUM = 1
  STANDARD_DEVIATION = 29.6197
END_OBJECT = IMAGE
/* MAP OBJECT DEFINITIONS */
OBJECT = IMAGE_MAP_PROJECTION
  ^DATA_SET_MAP_PROJECTION_CATALOG= "DSMAP.CAT"
  A_AXIS_RADIUS = 3396.0
  B_AXIS_RADIUS = 3396.0
  C_AXIS_RADIUS = 3396.0
  CENTER_LATITUDE = 0.0
  CENTER_LONGITUDE = 42.0
  COORDINATE_SYSTEM_NAME = PLANETOGRAPHIC
  COORDINATE_SYSTEM_TYPE = "BODY-FIXED ROTATING"
  EASTERNMOST_LONGITUDE = 44.7156
  FIRST_STANDARD_PARALLEL = "N/A"
  LINE_FIRST_PIXEL = 1
  LINE_LAST_PIXEL = 29018
  LINE_PROJECTION_OFFSET = 169705.25
  MAP_PROJECTION_ROTATION = 0.0
  MAP_PROJECTION_TYPE = SINUSOIDAL
  MAP_RESOLUTION = 2370.85521546667
  MAP_SCALE = 0.025
  MAXIMUM_LATITUDE = 71.5651
  MINIMUM_LATITUDE = 59.3701
  POSITIVE_LONGITUDE_DIRECTION = EAST
  REFERENCE_LATITUDE = "N/A"
  REFERENCE_LONGITUDE = "N/A"
  SAMPLE_FIRST_PIXEL = 1
  SAMPLE_LAST_PIXEL = 6142
  SAMPLE_PROJECTION_OFFSET = 2883.25
  SECOND_STANDARD_PARALLEL = "N/A"
  WESTERNMOST_LONGITUDE = 38.1014
END_OBJECT = IMAGE_MAP_PROJECTION
/* The JPEG2000 image data file associated with this label. */
OBJECT = COMPRESSED_FILE
  FILE_NAME = "H5461_0000_P23.JP2"
  RECORD_TYPE = UNDEFINED
  FILE_RECORDS = UNK
  ENCODING_TYPE = "JP2"
  INTERCHANGE_FORMAT = BINARY
  UNCOMPRESSED_FILE_NAME = "H5461_0000_P23.IMG"
  REQUIRED_STORAGE_BYTES = "178259266"
  ^DESCRIPTION = "JP2INFO.TXT"
END_OBJECT = COMPRESSED_FILE
END
