PDS_VERSION_ID = PDS3
/* FILE DATA ELEMENTS */
RECORD_TYPE = STREAM
/* POINTERS TO DATA OBJECTS */
^COMPRESSED_FILE = "H5462_0000_P23.JP2"
/* IDENTIFICATION DATA ELEMENTS */
DATA_SET_ID = "MEX-M-HRSC-5-REFDR-MAPPROJECTED-V3.0"
DATA_SET_NAME = "MARS EXPRESS HRSC MAP PROJECTED REFDR V3.0"
DETECTOR_ID = MEX_HRSC_P2
EVENT_TYPE = "MARS-REGIONAL-MAPPING-Te-Im-Pf"
INSTRUMENT_HOST_ID = MEX
INSTRUMENT_HOST_NAME = "MARS EXPRESS"
INSTRUMENT_ID = HRSC
INSTRUMENT_NAME = "HIGH RESOLUTION STEREO CAMERA"
MISSION_NAME = "MARS EXPRESS"
MISSION_PHASE_NAME = ME_Phase_11
PROCESSING_LEVEL_ID = 3
PRODUCT_CREATION_TIME = 2016-05-14T17:13:02.000Z
PRODUCT_ID = "H5462_0000_P23.JP2"
RELEASE_ID = 0062
REVISION_ID = 0000
/* QUALITY DATA ELEMENTS */
DATA_QUALITY_ID = 1
DATA_QUALITY_DESC = "Data calculated based on original SPICE kernels"
/* TIME DATA ELEMENTS */
SPACECRAFT_CLOCK_START_COUNT = "1/0155281556.08253"
SPACECRAFT_CLOCK_STOP_COUNT = "1/0155281826.07586"
START_TIME = 2008-04-03T05:46:56.245Z
STOP_TIME = 2008-04-03T05:50:16.608Z
/* ORBITAL DATA ELEMENTS */
ASCENDING_NODE_LONGITUDE = 114.64
MAXIMUM_RESOLUTION = 29.3
FOOTPRINT_POINT_LATITUDE = (70.7646,70.7179,70.6872,70.6277, 70.6723,70.4166,70.1607,69.7766,69.5202 ,69.1356,68.8791,68.6224,68.3656, 67.9803,67.5948,67.2093,66.9521,66.6949 ,66.4375,66.18,65.9227,65.6652,65.2789, 65.0214,64.7639,64.5066,64.2493,63.992, 63.7347,63.4775,63.2203,62.8346,62.5777 ,62.3207,62.0639,61.8072,61.5505,61.294 ,61.0375,60.6529,60.3965,60.1405, 59.7567,59.5008,59.2451,58.9896,58.6066 ,58.3515,58.0965,57.8059,57.8297,57.845 ,57.8586,57.8775,58.0189,58.2751, 58.5314,58.7879,59.0446,59.3014,59.6871 ,59.9441,60.2018,60.4593,60.7169, 61.1034,61.3611,61.6195,61.8778,62.1361 ,62.3946,62.6532,62.9119,63.1707, 63.4295,63.6885,64.0773,64.3364,64.5958 ,64.8552,65.1147,65.3742,65.7636, 66.1532,66.4129,66.6727,67.0623,67.4519 ,67.7118,67.9715,68.2313,68.6207, 69.0104,69.2701,69.5297,69.7892,70.0489 ,70.3084,70.5679,70.7646)
FOOTPRINT_POINT_LONGITUDE = (301.448,300.389,299.756,298.632, 297.795,297.946,298.092,298.303,298.44, 298.637,298.764,298.887,299.007,299.181 ,299.349,299.509,299.613,299.714, 299.813,299.909,300.003,300.094,300.227 ,300.313,300.397,300.478,300.557, 300.635,300.711,300.785,300.857,300.961 ,301.029,301.095,301.16,301.223,301.284 ,301.345,301.403,301.489,301.544, 301.598,301.677,301.728,301.778,301.827 ,301.898,301.944,301.989,302.131, 302.687,303.08,303.45,304.004,304.413, 304.382,304.351,304.319,304.286,304.253 ,304.202,304.167,304.131,304.095, 304.058,304.001,303.961,303.922,303.881 ,303.839,303.797,303.754,303.709, 303.664,303.618,303.571,303.498,303.448 ,303.397,303.344,303.291,303.236, 303.152,303.064,303.004,302.943,302.847 ,302.749,302.681,302.611,302.539, 302.428,302.313,302.234,302.152,302.068 ,301.982,301.893,301.802,301.448)
ORBIT_NUMBER = 5462
ORBITAL_ECCENTRICITY = 0.569
ORBITAL_INCLINATION = 86.75
ORBITAL_SEMIMAJOR_AXIS = 8652.3
PERIAPSIS_ALTITUDE = 351.8
PERIAPSIS_ARGUMENT_ANGLE = 117.45
PERIAPSIS_TIME = 2008-04-03T05:48:45.000Z
SPACECRAFT_ORIENTATION = (0.0,-1.0,0.0)
^MEX_ORIENTATION_DESC = "MEX_ORIENTATION_DESC.TXT"
SPACECRAFT_POINTING_MODE = ACROSSTRACK
^MEX_POINTING_DESC = "MEX_POINTING_DESC.TXT"
RIGHT_ASCENSION = -1e+32
DECLINATION = -1e+32
OFFSET_ANGLE = -0.1
SPACECRAFT_SOLAR_DISTANCE = 2.48047e+08
TARGET_NAME = MARS
/* CAMERA DATA ELEMENTS */
DETECTOR_TEMPERATURE = 18.1666
FOCAL_PLANE_TEMPERATURE = 7.7677
INST_CMPRS_NAME = "DISCRETE COSINE TRANSFORMATION (DCT)"
INST_CMPRS_RATIO = 12.2103
INST_CMPRS_QUALITY = 0
INST_CMPRS_QUANTZ_TBL_ID = 0
INSTRUMENT_TEMPERATURE = 10.8262
LENS_TEMPERATURE = 8.1755
MACROPIXEL_SIZE = 2
MISSING_FRAMES = 0
PIXEL_SUBSAMPLING_FLAG = N
SIGNAL_CHAIN_ID = 3
/* RADIOMETRIC DATA ELEMENTS */
BANDWIDTH = 177.0
CENTER_FILTER_WAVELENGTH = 676.5
RADIANCE_OFFSET = 3.12349
RADIANCE_SCALING_FACTOR = 0.0164805
REFLECTANCE_SCALING_FACTOR = 0.000537646
MEX:REFLECTANCE_OFFSET = 0.101898
/* IMAGE OBJECT DEFINITIONS */
OBJECT = IMAGE
  INTERCHANGE_FORMAT = BINARY
  LINES = 31001
  LINE_SAMPLES = 6287
  SAMPLE_TYPE = UNSIGNED_INTEGER
  SAMPLE_BITS = 8
  BANDS = 1
  BAND_STORAGE_TYPE = BAND_SEQUENTIAL
  MAXIMUM = 255
  MEAN = 61.3335
  MINIMUM = 1
  STANDARD_DEVIATION = 26.0182
END_OBJECT = IMAGE
/* MAP OBJECT DEFINITIONS */
OBJECT = IMAGE_MAP_PROJECTION
  ^DATA_SET_MAP_PROJECTION_CATALOG= "DSMAP.CAT"
  A_AXIS_RADIUS = 3396.0
  B_AXIS_RADIUS = 3396.0
  C_AXIS_RADIUS = 3396.0
  CENTER_LATITUDE = 0.0
  CENTER_LONGITUDE = 302.0
  COORDINATE_SYSTEM_NAME = PLANETOGRAPHIC
  COORDINATE_SYSTEM_TYPE = "BODY-FIXED ROTATING"
  EASTERNMOST_LONGITUDE = 304.413
  FIRST_STANDARD_PARALLEL = "N/A"
  LINE_FIRST_PIXEL = 1
  LINE_LAST_PIXEL = 31001
  LINE_PROJECTION_OFFSET = 167991.25
  MAP_PROJECTION_ROTATION = 0.0
  MAP_PROJECTION_TYPE = SINUSOIDAL
  MAP_RESOLUTION = 2370.85521546667
  MAP_SCALE = 0.025
  MAXIMUM_LATITUDE = 70.7646
  MINIMUM_LATITUDE = 57.8059
  POSITIVE_LONGITUDE_DIRECTION = EAST
  REFERENCE_LATITUDE = "N/A"
  REFERENCE_LONGITUDE = "N/A"
  SAMPLE_FIRST_PIXEL = 1
  SAMPLE_LAST_PIXEL = 6287
  SAMPLE_PROJECTION_OFFSET = 3256.25
  SECOND_STANDARD_PARALLEL = "N/A"
  WESTERNMOST_LONGITUDE = 297.795
END_OBJECT = IMAGE_MAP_PROJECTION
/* The JPEG2000 image data file associated with this label. */
OBJECT = COMPRESSED_FILE
  FILE_NAME = "H5462_0000_P23.JP2"
  RECORD_TYPE = UNDEFINED
  FILE_RECORDS = UNK
  ENCODING_TYPE = "JP2"
  INTERCHANGE_FORMAT = BINARY
  UNCOMPRESSED_FILE_NAME = "H5462_0000_P23.IMG"
  REQUIRED_STORAGE_BYTES = "194934722"
  ^DESCRIPTION = "JP2INFO.TXT"
END_OBJECT = COMPRESSED_FILE
END
