PDS_VERSION_ID = PDS3
/* FILE DATA ELEMENTS */
RECORD_TYPE = STREAM
/* POINTERS TO DATA OBJECTS */
^COMPRESSED_FILE = "H5464_0000_ND3.JP2"
/* IDENTIFICATION DATA ELEMENTS */
DATA_SET_ID = "MEX-M-HRSC-5-REFDR-MAPPROJECTED-V3.0"
DATA_SET_NAME = "MARS EXPRESS HRSC MAP PROJECTED REFDR V3.0"
DETECTOR_ID = MEX_HRSC_NADIR
EVENT_TYPE = "MARS-REGIONAL-MAPPING-Te-Im-Pf"
INSTRUMENT_HOST_ID = MEX
INSTRUMENT_HOST_NAME = "MARS EXPRESS"
INSTRUMENT_ID = HRSC
INSTRUMENT_NAME = "HIGH RESOLUTION STEREO CAMERA"
MISSION_NAME = "MARS EXPRESS"
MISSION_PHASE_NAME = ME_Phase_11
PROCESSING_LEVEL_ID = 3
PRODUCT_CREATION_TIME = 2016-05-14T17:13:02.000Z
PRODUCT_ID = "H5464_0000_ND3.JP2"
RELEASE_ID = 0062
REVISION_ID = 0000
/* QUALITY DATA ELEMENTS */
DATA_QUALITY_ID = 1
DATA_QUALITY_DESC = "Data calculated based on original SPICE kernels"
/* TIME DATA ELEMENTS */
SPACECRAFT_CLOCK_START_COUNT = "1/0155330901.07297"
SPACECRAFT_CLOCK_STOP_COUNT = "1/0155331152.32261"
START_TIME = 2008-04-03T19:28:57.103Z
STOP_TIME = 2008-04-03T19:32:00.088Z
/* ORBITAL DATA ELEMENTS */
ASCENDING_NODE_LONGITUDE = 114.6
MAXIMUM_RESOLUTION = 14.1
FOOTPRINT_POINT_LATITUDE = (65.8782,65.8218,65.7753,65.5401, 65.3049,65.0696,64.8343,64.5988,64.3633 ,64.1276,63.892,63.6562,63.4205,63.1846 ,62.9487,62.7128,62.4768,62.2408, 62.0047,61.7687,61.5326,61.2965,61.0603 ,60.8242,60.588,60.3519,60.1157,59.8796 ,59.6434,59.4073,59.1711,58.935,58.6989 ,58.4629,58.2268,57.9908,57.7549,57.519 ,57.2831,57.0472,56.8115,56.5757,56.34, 55.8689,55.398,54.9274,54.4571,53.9872, 54.0033,54.0174,54.0358,54.0507,54.5222 ,54.9941,55.2302,55.4664,55.7026,55.939 ,56.1754,56.412,56.6485,56.8852,57.1219 ,57.3587,57.5956,57.8325,58.0694, 58.3064,58.5435,58.7806,59.0178,59.255, 59.4922,59.7295,59.9667,60.2041,60.4414 ,60.6788,60.9162,61.1536,61.391,61.6284 ,61.9845,62.222,62.4594,62.6968,62.9342 ,63.1716,63.5277,63.765,64.0023,64.2396 ,64.4769,64.7141,64.9513,65.1884, 65.4255,65.6626,65.8996,65.8782)
FOOTPRINT_POINT_LONGITUDE = (103.04,101.71,100.742,100.817,100.89, 100.961,101.031,101.1,101.167,101.232, 101.296,101.358,101.42,101.479,101.538, 101.595,101.651,101.706,101.759,101.811 ,101.863,101.913,101.962,102.01,102.057 ,102.103,102.148,102.192,102.235, 102.277,102.319,102.359,102.399,102.437 ,102.475,102.512,102.549,102.584, 102.619,102.653,102.686,102.719,102.751 ,102.813,102.872,102.929,102.983, 103.035,103.638,104.047,104.655,105.232 ,105.196,105.158,105.139,105.119, 105.099,105.079,105.058,105.037,105.016 ,104.994,104.972,104.95,104.927,104.904 ,104.88,104.856,104.831,104.806,104.781 ,104.755,104.729,104.702,104.674, 104.647,104.618,104.589,104.56,104.53, 104.499,104.468,104.421,104.388,104.354 ,104.32,104.286,104.25,104.196,104.159, 104.121,104.082,104.043,104.003,103.961 ,103.919,103.877,103.833,103.788, 103.04)
ORBIT_NUMBER = 5464
ORBITAL_ECCENTRICITY = 0.569
ORBITAL_INCLINATION = 86.75
ORBITAL_SEMIMAJOR_AXIS = 8656.34
PERIAPSIS_ALTITUDE = 351.12
PERIAPSIS_ARGUMENT_ANGLE = 117.06
PERIAPSIS_TIME = 2008-04-03T19:29:44.000Z
SPACECRAFT_ORIENTATION = (0.0,-1.0,0.0)
^MEX_ORIENTATION_DESC = "MEX_ORIENTATION_DESC.TXT"
SPACECRAFT_POINTING_MODE = ACROSSTRACK
^MEX_POINTING_DESC = "MEX_POINTING_DESC.TXT"
RIGHT_ASCENSION = -1e+32
DECLINATION = -1e+32
OFFSET_ANGLE = 0.2
SPACECRAFT_SOLAR_DISTANCE = 2.48081e+08
TARGET_NAME = MARS
/* CAMERA DATA ELEMENTS */
DETECTOR_TEMPERATURE = 18.1666
FOCAL_PLANE_TEMPERATURE = 7.9716
INST_CMPRS_NAME = "DISCRETE COSINE TRANSFORMATION (DCT)"
INST_CMPRS_RATIO = 6.99745
INST_CMPRS_QUALITY = 0
INST_CMPRS_QUANTZ_TBL_ID = 0
INSTRUMENT_TEMPERATURE = 11.234
LENS_TEMPERATURE = 8.7872
MACROPIXEL_SIZE = 1
MISSING_FRAMES = 0
PIXEL_SUBSAMPLING_FLAG = N
SIGNAL_CHAIN_ID = 0
/* RADIOMETRIC DATA ELEMENTS */
BANDWIDTH = 177.0
CENTER_FILTER_WAVELENGTH = 677.5
RADIANCE_OFFSET = 3.85115
RADIANCE_SCALING_FACTOR = 0.0098853
REFLECTANCE_SCALING_FACTOR = 0.000323191
MEX:REFLECTANCE_OFFSET = 0.12591
/* IMAGE OBJECT DEFINITIONS */
OBJECT = IMAGE
  INTERCHANGE_FORMAT = BINARY
  LINES = 56525
  LINE_SAMPLES = 10396
  SAMPLE_TYPE = UNSIGNED_INTEGER
  SAMPLE_BITS = 8
  BANDS = 1
  BAND_STORAGE_TYPE = BAND_SEQUENTIAL
  MAXIMUM = 255
  MEAN = 106.984
  MINIMUM = 1
  STANDARD_DEVIATION = 28.8401
END_OBJECT = IMAGE
/* MAP OBJECT DEFINITIONS */
OBJECT = IMAGE_MAP_PROJECTION
  ^DATA_SET_MAP_PROJECTION_CATALOG= "DSMAP.CAT"
  A_AXIS_RADIUS = 3396.0
  B_AXIS_RADIUS = 3396.0
  C_AXIS_RADIUS = 3396.0
  CENTER_LATITUDE = 0.0
  CENTER_LONGITUDE = 103.0
  COORDINATE_SYSTEM_NAME = PLANETOGRAPHIC
  COORDINATE_SYSTEM_TYPE = "BODY-FIXED ROTATING"
  EASTERNMOST_LONGITUDE = 105.232
  FIRST_STANDARD_PARALLEL = "N/A"
  LINE_FIRST_PIXEL = 1
  LINE_LAST_PIXEL = 56525
  LINE_PROJECTION_OFFSET = 312482.0
  MAP_PROJECTION_ROTATION = 0.0
  MAP_PROJECTION_TYPE = SINUSOIDAL
  MAP_RESOLUTION = 4741.71043093333
  MAP_SCALE = 0.0125
  MAXIMUM_LATITUDE = 65.89960000000001
  MINIMUM_LATITUDE = 53.9872
  POSITIVE_LONGITUDE_DIRECTION = EAST
  REFERENCE_LATITUDE = "N/A"
  REFERENCE_LONGITUDE = "N/A"
  SAMPLE_FIRST_PIXEL = 1
  SAMPLE_LAST_PIXEL = 10396
  SAMPLE_PROJECTION_OFFSET = 4281.0
  SECOND_STANDARD_PARALLEL = "N/A"
  WESTERNMOST_LONGITUDE = 100.742
END_OBJECT = IMAGE_MAP_PROJECTION
/* The JPEG2000 image data file associated with this label. */
OBJECT = COMPRESSED_FILE
  FILE_NAME = "H5464_0000_ND3.JP2"
  RECORD_TYPE = UNDEFINED
  FILE_RECORDS = UNK
  ENCODING_TYPE = "JP2"
  INTERCHANGE_FORMAT = BINARY
  UNCOMPRESSED_FILE_NAME = "H5464_0000_ND3.IMG"
  REQUIRED_STORAGE_BYTES = "587665088"
  ^DESCRIPTION = "JP2INFO.TXT"
END_OBJECT = COMPRESSED_FILE
END
