PDS_VERSION_ID = PDS3
/* FILE DATA ELEMENTS */
RECORD_TYPE = STREAM
/* POINTERS TO DATA OBJECTS */
^COMPRESSED_FILE = "H5465_0000_RE3.JP2"
/* IDENTIFICATION DATA ELEMENTS */
DATA_SET_ID = "MEX-M-HRSC-5-REFDR-MAPPROJECTED-V3.0"
DATA_SET_NAME = "MARS EXPRESS HRSC MAP PROJECTED REFDR V3.0"
DETECTOR_ID = MEX_HRSC_RED
EVENT_TYPE = "MARS-REGIONAL-MAPPING-Te-Im-Pf"
INSTRUMENT_HOST_ID = MEX
INSTRUMENT_HOST_NAME = "MARS EXPRESS"
INSTRUMENT_ID = HRSC
INSTRUMENT_NAME = "HIGH RESOLUTION STEREO CAMERA"
MISSION_NAME = "MARS EXPRESS"
MISSION_PHASE_NAME = ME_Phase_11
PROCESSING_LEVEL_ID = 3
PRODUCT_CREATION_TIME = 2016-05-14T17:13:02.000Z
PRODUCT_ID = "H5465_0000_RE3.JP2"
RELEASE_ID = 0062
REVISION_ID = 0000
/* QUALITY DATA ELEMENTS */
DATA_QUALITY_ID = 1
DATA_QUALITY_DESC = "Data calculated based on original SPICE kernels"
/* TIME DATA ELEMENTS */
SPACECRAFT_CLOCK_START_COUNT = "1/0155355474.09082"
SPACECRAFT_CLOCK_STOP_COUNT = "1/0155355720.58262"
START_TIME = 2008-04-04T02:18:58.631Z
STOP_TIME = 2008-04-04T02:21:56.817Z
/* ORBITAL DATA ELEMENTS */
ASCENDING_NODE_LONGITUDE = 114.58
MAXIMUM_RESOLUTION = 53.1
FOOTPRINT_POINT_LATITUDE = (69.3905,69.3701,69.3484,69.3253, 69.3008,69.2749,69.2422,69.3405,69.1134 ,68.8862,68.6589,68.3179,68.0904, 67.8629,67.6352,67.4077,67.1801,66.9525 ,66.6109,66.3832,66.1556,65.8141, 65.5865,65.245,64.9037,64.5626,64.3351, 63.9957,63.7684,63.4274,63.2002,62.9729 ,62.6536,62.6307,62.4038,62.0636, 61.8369,61.6102,61.3837,61.1569,60.9305 ,60.7046,60.4783,60.2522,59.9134, 59.6877,59.462,59.2368,58.8987,58.5611, 58.3363,57.9994,57.9526,57.9722,57.9871 ,57.9977,58.0092,58.0186,58.2445, 58.5834,58.9226,59.149,59.3757,59.6023, 59.9428,60.2835,60.6247,60.9661,61.1936 ,61.5355,61.8777,62.22,62.5627,62.9055, 63.2486,63.4774,63.8211,64.1648,64.394, 64.623,64.8528,65.0823,65.4268,65.7713, 66.116,66.3457,66.5758,66.8056,67.0358, 67.2658,67.496,67.7259,67.956,68.3013, 68.5315,68.6468,68.8769,68.9922,69.2224 ,69.3905)
FOOTPRINT_POINT_LONGITUDE = (360.789,360.289,359.788,359.285, 358.781,358.275,357.671,357.417,357.542 ,357.664,357.783,357.956,358.068, 358.177,358.284,358.388,358.49,358.59, 358.736,358.83,358.922,359.056,359.143, 359.27,359.392,359.511,359.588,359.697, 359.77,359.877,359.946,360.014,360.399, 360.116,360.18,360.274,360.335,360.395, 360.453,360.511,360.567,360.621,360.676 ,360.729,360.806,360.856,360.905, 360.953,361.024,361.092,361.136,361.201 ,361.532,362.079,362.531,362.869, 363.295,363.637,363.606,363.557,363.508 ,363.474,363.44,363.405,363.352,363.297 ,363.241,363.183,363.143,363.083, 363.021,362.957,362.891,362.824,362.754 ,362.707,362.634,362.559,362.507, 362.455,362.401,362.347,362.263,362.177 ,362.087,362.026,361.964,361.9,361.835, 361.769,361.701,361.631,361.56,361.45, 361.375,361.337,361.259,361.219,361.139 ,360.789)
ORBIT_NUMBER = 5465
ORBITAL_ECCENTRICITY = 0.569
ORBITAL_INCLINATION = 86.75
ORBITAL_SEMIMAJOR_AXIS = 8652.76
PERIAPSIS_ALTITUDE = 352.17
PERIAPSIS_ARGUMENT_ANGLE = 116.88
PERIAPSIS_TIME = 2008-04-04T02:20:13.000Z
SPACECRAFT_ORIENTATION = (0.0,-1.0,0.0)
^MEX_ORIENTATION_DESC = "MEX_ORIENTATION_DESC.TXT"
SPACECRAFT_POINTING_MODE = ACROSSTRACK
^MEX_POINTING_DESC = "MEX_POINTING_DESC.TXT"
RIGHT_ASCENSION = -1e+32
DECLINATION = -1e+32
OFFSET_ANGLE = -0.4
SPACECRAFT_SOLAR_DISTANCE = 2.48097e+08
TARGET_NAME = MARS
/* CAMERA DATA ELEMENTS */
DETECTOR_TEMPERATURE = 18.1666
FOCAL_PLANE_TEMPERATURE = 8.1755
INST_CMPRS_NAME = "DISCRETE COSINE TRANSFORMATION (DCT)"
INST_CMPRS_RATIO = 29.7183
INST_CMPRS_QUALITY = 0
INST_CMPRS_QUANTZ_TBL_ID = 0
INSTRUMENT_TEMPERATURE = 11.0301
LENS_TEMPERATURE = 8.3794
MACROPIXEL_SIZE = 4
MISSING_FRAMES = 0
PIXEL_SUBSAMPLING_FLAG = N
SIGNAL_CHAIN_ID = 2
/* RADIOMETRIC DATA ELEMENTS */
BANDWIDTH = 48.0
CENTER_FILTER_WAVELENGTH = 748.0
RADIANCE_OFFSET = 1.25771
RADIANCE_SCALING_FACTOR = 0.0049322
REFLECTANCE_SCALING_FACTOR = 0.000692803
MEX:REFLECTANCE_OFFSET = 0.176665
/* IMAGE OBJECT DEFINITIONS */
OBJECT = IMAGE
  INTERCHANGE_FORMAT = BINARY
  LINES = 13745
  LINE_SAMPLES = 3097
  SAMPLE_TYPE = UNSIGNED_INTEGER
  SAMPLE_BITS = 8
  BANDS = 1
  BAND_STORAGE_TYPE = BAND_SEQUENTIAL
  MAXIMUM = 255
  MEAN = 135.024
  MINIMUM = 1
  STANDARD_DEVIATION = 28.7355
END_OBJECT = IMAGE
/* MAP OBJECT DEFINITIONS */
OBJECT = IMAGE_MAP_PROJECTION
  ^DATA_SET_MAP_PROJECTION_CATALOG= "DSMAP.CAT"
  A_AXIS_RADIUS = 3396.0
  B_AXIS_RADIUS = 3396.0
  C_AXIS_RADIUS = 3396.0
  CENTER_LATITUDE = 0.0
  CENTER_LONGITUDE = 1.0
  COORDINATE_SYSTEM_NAME = PLANETOGRAPHIC
  COORDINATE_SYSTEM_TYPE = "BODY-FIXED ROTATING"
  EASTERNMOST_LONGITUDE = 3.637
  FIRST_STANDARD_PARALLEL = "N/A"
  LINE_FIRST_PIXEL = 1
  LINE_LAST_PIXEL = 13745
  LINE_PROJECTION_OFFSET = 82397.625
  MAP_PROJECTION_ROTATION = 0.0
  MAP_PROJECTION_TYPE = SINUSOIDAL
  MAP_RESOLUTION = 1185.42760773333
  MAP_SCALE = 0.05
  MAXIMUM_LATITUDE = 69.3905
  MINIMUM_LATITUDE = 57.9526
  POSITIVE_LONGITUDE_DIRECTION = EAST
  REFERENCE_LATITUDE = "N/A"
  REFERENCE_LONGITUDE = "N/A"
  SAMPLE_FIRST_PIXEL = 1
  SAMPLE_LAST_PIXEL = 3097
  SAMPLE_PROJECTION_OFFSET = 1449.625
  SECOND_STANDARD_PARALLEL = "N/A"
  WESTERNMOST_LONGITUDE = -2.583
END_OBJECT = IMAGE_MAP_PROJECTION
/* The JPEG2000 image data file associated with this label. */
OBJECT = COMPRESSED_FILE
  FILE_NAME = "H5465_0000_RE3.JP2"
  RECORD_TYPE = UNDEFINED
  FILE_RECORDS = UNK
  ENCODING_TYPE = "JP2"
  INTERCHANGE_FORMAT = BINARY
  UNCOMPRESSED_FILE_NAME = "H5465_0000_RE3.IMG"
  REQUIRED_STORAGE_BYTES = "42589944"
  ^DESCRIPTION = "JP2INFO.TXT"
END_OBJECT = COMPRESSED_FILE
END
