PDS_VERSION_ID = PDS3
/* FILE DATA ELEMENTS */
RECORD_TYPE = STREAM
/* POINTERS TO DATA OBJECTS */
^COMPRESSED_FILE = "H5467_0000_ND3.JP2"
/* IDENTIFICATION DATA ELEMENTS */
DATA_SET_ID = "MEX-M-HRSC-5-REFDR-MAPPROJECTED-V3.0"
DATA_SET_NAME = "MARS EXPRESS HRSC MAP PROJECTED REFDR V3.0"
DETECTOR_ID = MEX_HRSC_NADIR
EVENT_TYPE = "MARS-REGIONAL-MAPPING-Te-Im-Pf"
INSTRUMENT_HOST_ID = MEX
INSTRUMENT_HOST_NAME = "MARS EXPRESS"
INSTRUMENT_ID = HRSC
INSTRUMENT_NAME = "HIGH RESOLUTION STEREO CAMERA"
MISSION_NAME = "MARS EXPRESS"
MISSION_PHASE_NAME = ME_Phase_11
PROCESSING_LEVEL_ID = 3
PRODUCT_CREATION_TIME = 2016-05-14T17:13:02.000Z
PRODUCT_ID = "H5467_0000_ND3.JP2"
RELEASE_ID = 0062
REVISION_ID = 0000
/* QUALITY DATA ELEMENTS */
DATA_QUALITY_ID = 1
DATA_QUALITY_DESC = "Data calculated based on original SPICE kernels"
/* TIME DATA ELEMENTS */
SPACECRAFT_CLOCK_START_COUNT = "1/0155404779.08422"
SPACECRAFT_CLOCK_STOP_COUNT = "1/0155405095.65161"
START_TIME = 2008-04-04T16:00:15.622Z
STOP_TIME = 2008-04-04T16:04:21.613Z
/* ORBITAL DATA ELEMENTS */
ASCENDING_NODE_LONGITUDE = 114.53
MAXIMUM_RESOLUTION = 14.2
FOOTPRINT_POINT_LATITUDE = (67.366,67.3321,67.2928,67.2502,66.9417 ,66.633,66.3242,66.0151,65.706,65.3967, 65.0873,64.7778,64.4681,64.1584,63.8485 ,63.3837,63.0737,62.7636,62.4535, 62.1382,61.828,61.5178,61.2076,60.8974, 60.5872,60.277,59.9668,59.6567,59.3466, 59.0365,58.7265,58.4166,58.1067,57.7969 ,57.4872,57.1776,56.8681,56.5587, 56.2494,55.9402,55.6312,55.0136,54.3965 ,53.7802,53.244,52.8769,52.5101,52.1437 ,51.7775,51.4116,51.4319,51.4527, 51.6482,52.0152,52.3826,52.7504,53.1184 ,53.4867,53.8405,54.4588,55.0778, 55.3876,55.6975,56.0076,56.3178,56.6282 ,56.9387,57.2494,57.5602,57.8711, 58.1821,58.4932,58.8044,59.1157,59.427, 59.7385,60.05,60.3616,60.6732,60.9849, 61.2966,61.6084,61.9202,62.2319,62.5489 ,62.8607,63.1725,63.4844,63.7962, 64.1079,64.4197,64.7313,65.043,65.3546, 65.6661,65.9776,66.2889,66.6002,66.9115 ,67.366)
FOOTPRINT_POINT_LONGITUDE = (163.777,162.787,161.814,160.855, 160.958,161.058,161.154,161.248,161.339 ,161.426,161.512,161.594,161.674, 161.752,161.827,161.936,162.006,162.074 ,162.14,162.205,162.267,162.328,162.386 ,162.443,162.498,162.552,162.604, 162.655,162.704,162.751,162.798,162.843 ,162.887,162.929,162.97,163.01,163.049, 163.087,163.124,163.16,163.194,163.26, 163.323,163.382,163.43,163.462,163.492, 163.522,163.55,163.577,164.272,165.104, 165.734,165.713,165.694,165.674,165.652 ,165.631,165.609,165.571,165.53,165.51, 165.488,165.467,165.445,165.422,165.398 ,165.375,165.35,165.325,165.299,165.273 ,165.246,165.218,165.19,165.161,165.131 ,165.101,165.069,165.037,165.004, 164.971,164.936,164.9,164.863,164.825, 164.786,164.748,164.707,164.666,164.623 ,164.579,164.534,164.487,164.439,164.39 ,164.339,164.287,164.233,163.777)
ORBIT_NUMBER = 5467
ORBITAL_ECCENTRICITY = 0.569
ORBITAL_INCLINATION = 86.75
ORBITAL_SEMIMAJOR_AXIS = 8651.12
PERIAPSIS_ALTITUDE = 352.73
PERIAPSIS_ARGUMENT_ANGLE = 116.55
PERIAPSIS_TIME = 2008-04-04T16:01:17.000Z
SPACECRAFT_ORIENTATION = (0.0,-1.0,0.0)
^MEX_ORIENTATION_DESC = "MEX_ORIENTATION_DESC.TXT"
SPACECRAFT_POINTING_MODE = ACROSSTRACK
^MEX_POINTING_DESC = "MEX_POINTING_DESC.TXT"
RIGHT_ASCENSION = -1e+32
DECLINATION = -1e+32
OFFSET_ANGLE = 0.5
SPACECRAFT_SOLAR_DISTANCE = 2.4813e+08
TARGET_NAME = MARS
/* CAMERA DATA ELEMENTS */
DETECTOR_TEMPERATURE = 17.9627
FOCAL_PLANE_TEMPERATURE = 8.1755
INST_CMPRS_NAME = "DISCRETE COSINE TRANSFORMATION (DCT)"
INST_CMPRS_RATIO = 6.90307
INST_CMPRS_QUALITY = 0
INST_CMPRS_QUANTZ_TBL_ID = 0
INSTRUMENT_TEMPERATURE = 11.234
LENS_TEMPERATURE = 8.7872
MACROPIXEL_SIZE = 1
MISSING_FRAMES = 3
PIXEL_SUBSAMPLING_FLAG = N
SIGNAL_CHAIN_ID = 0
/* RADIOMETRIC DATA ELEMENTS */
BANDWIDTH = 177.0
CENTER_FILTER_WAVELENGTH = 677.5
RADIANCE_OFFSET = 2.8747
RADIANCE_SCALING_FACTOR = 0.0285285
REFLECTANCE_SCALING_FACTOR = 0.000933078
MEX:REFLECTANCE_OFFSET = 0.0940227
/* IMAGE OBJECT DEFINITIONS */
OBJECT = IMAGE
  INTERCHANGE_FORMAT = BINARY
  LINES = 75692
  LINE_SAMPLES = 10979
  SAMPLE_TYPE = UNSIGNED_INTEGER
  SAMPLE_BITS = 8
  BANDS = 1
  BAND_STORAGE_TYPE = BAND_SEQUENTIAL
  MAXIMUM = 255
  MEAN = 58.7458
  MINIMUM = 1
  STANDARD_DEVIATION = 17.0589
END_OBJECT = IMAGE
/* MAP OBJECT DEFINITIONS */
OBJECT = IMAGE_MAP_PROJECTION
  ^DATA_SET_MAP_PROJECTION_CATALOG= "DSMAP.CAT"
  A_AXIS_RADIUS = 3396.0
  B_AXIS_RADIUS = 3396.0
  C_AXIS_RADIUS = 3396.0
  CENTER_LATITUDE = 0.0
  CENTER_LONGITUDE = 164.0
  COORDINATE_SYSTEM_NAME = PLANETOGRAPHIC
  COORDINATE_SYSTEM_TYPE = "BODY-FIXED ROTATING"
  EASTERNMOST_LONGITUDE = 165.734
  FIRST_STANDARD_PARALLEL = "N/A"
  LINE_FIRST_PIXEL = 1
  LINE_LAST_PIXEL = 75692
  LINE_PROJECTION_OFFSET = 319457.0
  MAP_PROJECTION_ROTATION = 0.0
  MAP_PROJECTION_TYPE = SINUSOIDAL
  MAP_RESOLUTION = 4741.71043093333
  MAP_SCALE = 0.0125
  MAXIMUM_LATITUDE = 67.366
  MINIMUM_LATITUDE = 51.4116
  POSITIVE_LONGITUDE_DIRECTION = EAST
  REFERENCE_LATITUDE = "N/A"
  REFERENCE_LONGITUDE = "N/A"
  SAMPLE_FIRST_PIXEL = 1
  SAMPLE_LAST_PIXEL = 10979
  SAMPLE_PROJECTION_OFFSET = 5737.0
  SECOND_STANDARD_PARALLEL = "N/A"
  WESTERNMOST_LONGITUDE = 160.855
END_OBJECT = IMAGE_MAP_PROJECTION
/* The JPEG2000 image data file associated with this label. */
OBJECT = COMPRESSED_FILE
  FILE_NAME = "H5467_0000_ND3.JP2"
  RECORD_TYPE = UNDEFINED
  FILE_RECORDS = UNK
  ENCODING_TYPE = "JP2"
  INTERCHANGE_FORMAT = BINARY
  UNCOMPRESSED_FILE_NAME = "H5467_0000_ND3.IMG"
  REQUIRED_STORAGE_BYTES = "831055405"
  ^DESCRIPTION = "JP2INFO.TXT"
END_OBJECT = COMPRESSED_FILE
END
