PDS_VERSION_ID = PDS3
/* FILE DATA ELEMENTS */
RECORD_TYPE = STREAM
/* POINTERS TO DATA OBJECTS */
^COMPRESSED_FILE = "H5467_0000_P13.JP2"
/* IDENTIFICATION DATA ELEMENTS */
DATA_SET_ID = "MEX-M-HRSC-5-REFDR-MAPPROJECTED-V3.0"
DATA_SET_NAME = "MARS EXPRESS HRSC MAP PROJECTED REFDR V3.0"
DETECTOR_ID = MEX_HRSC_P1
EVENT_TYPE = "MARS-REGIONAL-MAPPING-Te-Im-Pf"
INSTRUMENT_HOST_ID = MEX
INSTRUMENT_HOST_NAME = "MARS EXPRESS"
INSTRUMENT_ID = HRSC
INSTRUMENT_NAME = "HIGH RESOLUTION STEREO CAMERA"
MISSION_NAME = "MARS EXPRESS"
MISSION_PHASE_NAME = ME_Phase_11
PROCESSING_LEVEL_ID = 3
PRODUCT_CREATION_TIME = 2016-05-14T17:13:02.000Z
PRODUCT_ID = "H5467_0000_P13.JP2"
RELEASE_ID = 0062
REVISION_ID = 0000
/* QUALITY DATA ELEMENTS */
DATA_QUALITY_ID = 1
DATA_QUALITY_DESC = "Data calculated based on original SPICE kernels"
/* TIME DATA ELEMENTS */
SPACECRAFT_CLOCK_START_COUNT = "1/0155404779.08422"
SPACECRAFT_CLOCK_STOP_COUNT = "1/0155405095.65161"
START_TIME = 2008-04-04T15:59:54.139Z
STOP_TIME = 2008-04-04T16:03:59.221Z
/* ORBITAL DATA ELEMENTS */
ASCENDING_NODE_LONGITUDE = 114.53
MAXIMUM_RESOLUTION = 29.2
FOOTPRINT_POINT_LATITUDE = (67.435,67.4113,67.3809,67.3445,67.0984 ,66.7899,66.4808,66.1713,65.8616, 65.5515,65.2411,64.9305,64.6194,64.3082 ,63.9968,63.6849,63.2169,62.9043, 62.5916,62.122,61.8088,61.4953,61.1816, 60.8677,60.5537,60.2394,59.7644,59.4499 ,59.1351,58.8202,58.3478,57.875,57.5598 ,57.2444,56.7711,56.4554,56.1398,55.824 ,55.5083,55.1926,54.8766,54.5607, 54.2414,53.9254,53.4513,53.1351,52.6611 ,52.3456,51.9805,51.6036,51.4168, 51.4231,51.4301,51.435,51.4374,51.628, 51.8171,52.0065,52.373,52.848,53.1651, 53.4819,53.9572,54.2741,54.5946,54.9114 ,55.2285,55.5453,55.8621,56.337,56.6539 ,57.1289,57.4456,57.9204,58.2371, 58.7116,59.028,59.3441,59.8183,60.2953, 60.7689,61.2422,61.8727,62.1877,62.6597 ,62.9746,63.4456,63.7595,64.0733, 64.3868,64.7003,65.0133,65.3262,65.6388 ,65.9512,66.2635,66.5753,66.8868,67.198 ,67.435)
FOOTPRINT_POINT_LONGITUDE = (163.976,163.018,162.045,161.086, 160.903,161.005,161.104,161.2,161.293, 161.384,161.471,161.556,161.639,161.719 ,161.796,161.872,161.981,162.051, 162.119,162.217,162.28,162.342,162.401, 162.459,162.516,162.57,162.65,162.701, 162.75,162.798,162.868,162.934,162.977, 163.019,163.079,163.118,163.155,163.192 ,163.227,163.261,163.295,163.327, 163.359,163.39,163.434,163.462,163.503, 163.529,163.559,163.588,163.906,164.232 ,164.684,165.119,165.454,165.725, 165.715,165.705,165.686,165.66,165.642, 165.624,165.596,165.577,165.557,165.537 ,165.516,165.495,165.474,165.441, 165.418,165.383,165.359,165.321,165.296 ,165.256,165.229,165.201,165.157, 165.112,165.066,165.017,164.95,164.915, 164.861,164.822,164.765,164.726,164.685 ,164.643,164.599,164.555,164.51,164.463 ,164.414,164.364,164.313,164.261, 164.207,163.976)
ORBIT_NUMBER = 5467
ORBITAL_ECCENTRICITY = 0.569
ORBITAL_INCLINATION = 86.75
ORBITAL_SEMIMAJOR_AXIS = 8651.12
PERIAPSIS_ALTITUDE = 352.73
PERIAPSIS_ARGUMENT_ANGLE = 116.55
PERIAPSIS_TIME = 2008-04-04T16:01:17.000Z
SPACECRAFT_ORIENTATION = (0.0,-1.0,0.0)
^MEX_ORIENTATION_DESC = "MEX_ORIENTATION_DESC.TXT"
SPACECRAFT_POINTING_MODE = ACROSSTRACK
^MEX_POINTING_DESC = "MEX_POINTING_DESC.TXT"
RIGHT_ASCENSION = -1e+32
DECLINATION = -1e+32
OFFSET_ANGLE = 0.5
SPACECRAFT_SOLAR_DISTANCE = 2.4813e+08
TARGET_NAME = MARS
/* CAMERA DATA ELEMENTS */
DETECTOR_TEMPERATURE = 16.9432
FOCAL_PLANE_TEMPERATURE = 8.1755
INST_CMPRS_NAME = "DISCRETE COSINE TRANSFORMATION (DCT)"
INST_CMPRS_RATIO = 18.5566
INST_CMPRS_QUALITY = 0
INST_CMPRS_QUANTZ_TBL_ID = 0
INSTRUMENT_TEMPERATURE = 11.234
LENS_TEMPERATURE = 8.7872
MACROPIXEL_SIZE = 2
MISSING_FRAMES = 2
PIXEL_SUBSAMPLING_FLAG = N
SIGNAL_CHAIN_ID = 3
/* RADIOMETRIC DATA ELEMENTS */
BANDWIDTH = 174.0
CENTER_FILTER_WAVELENGTH = 675.0
RADIANCE_OFFSET = 3.15258
RADIANCE_SCALING_FACTOR = 0.0275792
REFLECTANCE_SCALING_FACTOR = 0.000913318
MEX:REFLECTANCE_OFFSET = 0.104402
/* IMAGE OBJECT DEFINITIONS */
OBJECT = IMAGE
  INTERCHANGE_FORMAT = BINARY
  LINES = 37846
  LINE_SAMPLES = 5490
  SAMPLE_TYPE = UNSIGNED_INTEGER
  SAMPLE_BITS = 8
  BANDS = 1
  BAND_STORAGE_TYPE = BAND_SEQUENTIAL
  MAXIMUM = 255
  MEAN = 55.3896
  MINIMUM = 1
  STANDARD_DEVIATION = 16.7089
END_OBJECT = IMAGE
/* MAP OBJECT DEFINITIONS */
OBJECT = IMAGE_MAP_PROJECTION
  ^DATA_SET_MAP_PROJECTION_CATALOG= "DSMAP.CAT"
  A_AXIS_RADIUS = 3396.0
  B_AXIS_RADIUS = 3396.0
  C_AXIS_RADIUS = 3396.0
  CENTER_LATITUDE = 0.0
  CENTER_LONGITUDE = 164.0
  COORDINATE_SYSTEM_NAME = PLANETOGRAPHIC
  COORDINATE_SYSTEM_TYPE = "BODY-FIXED ROTATING"
  EASTERNMOST_LONGITUDE = 165.725
  FIRST_STANDARD_PARALLEL = "N/A"
  LINE_FIRST_PIXEL = 1
  LINE_LAST_PIXEL = 37846
  LINE_PROJECTION_OFFSET = 159728.25
  MAP_PROJECTION_ROTATION = 0.0
  MAP_PROJECTION_TYPE = SINUSOIDAL
  MAP_RESOLUTION = 2370.85521546667
  MAP_SCALE = 0.025
  MAXIMUM_LATITUDE = 67.435
  MINIMUM_LATITUDE = 51.4168
  POSITIVE_LONGITUDE_DIRECTION = EAST
  REFERENCE_LATITUDE = "N/A"
  REFERENCE_LONGITUDE = "N/A"
  SAMPLE_FIRST_PIXEL = 1
  SAMPLE_LAST_PIXEL = 5490
  SAMPLE_PROJECTION_OFFSET = 2868.25
  SECOND_STANDARD_PARALLEL = "N/A"
  WESTERNMOST_LONGITUDE = 160.903
END_OBJECT = IMAGE_MAP_PROJECTION
/* The JPEG2000 image data file associated with this label. */
OBJECT = COMPRESSED_FILE
  FILE_NAME = "H5467_0000_P13.JP2"
  RECORD_TYPE = UNDEFINED
  FILE_RECORDS = UNK
  ENCODING_TYPE = "JP2"
  INTERCHANGE_FORMAT = BINARY
  UNCOMPRESSED_FILE_NAME = "H5467_0000_P13.IMG"
  REQUIRED_STORAGE_BYTES = "207801990"
  ^DESCRIPTION = "JP2INFO.TXT"
END_OBJECT = COMPRESSED_FILE
END
