PDS_VERSION_ID = PDS3
/* FILE DATA ELEMENTS */
RECORD_TYPE = STREAM
/* POINTERS TO DATA OBJECTS */
^COMPRESSED_FILE = "H5468_0000_IR3.JP2"
/* IDENTIFICATION DATA ELEMENTS */
DATA_SET_ID = "MEX-M-HRSC-5-REFDR-MAPPROJECTED-V3.0"
DATA_SET_NAME = "MARS EXPRESS HRSC MAP PROJECTED REFDR V3.0"
DETECTOR_ID = MEX_HRSC_IR
EVENT_TYPE = "MARS-REGIONAL-MAPPING-Te-Im-Pf"
INSTRUMENT_HOST_ID = MEX
INSTRUMENT_HOST_NAME = "MARS EXPRESS"
INSTRUMENT_ID = HRSC
INSTRUMENT_NAME = "HIGH RESOLUTION STEREO CAMERA"
MISSION_NAME = "MARS EXPRESS"
MISSION_PHASE_NAME = ME_Phase_11
PROCESSING_LEVEL_ID = 3
PRODUCT_CREATION_TIME = 2016-05-14T17:13:02.000Z
PRODUCT_ID = "H5468_0000_IR3.JP2"
RELEASE_ID = 0062
REVISION_ID = 0000
/* QUALITY DATA ELEMENTS */
DATA_QUALITY_ID = 1
DATA_QUALITY_DESC = "Data calculated based on original SPICE kernels"
/* TIME DATA ELEMENTS */
SPACECRAFT_CLOCK_START_COUNT = "1/0155429378.09065"
SPACECRAFT_CLOCK_STOP_COUNT = "1/0155429666.16099"
START_TIME = 2008-04-04T22:49:47.799Z
STOP_TIME = 2008-04-04T22:53:26.303Z
/* ORBITAL DATA ELEMENTS */
ASCENDING_NODE_LONGITUDE = 114.51
MAXIMUM_RESOLUTION = 59.1
FOOTPRINT_POINT_LATITUDE = (69.3811,69.3459,69.3088,69.2697, 69.2286,69.1853,69.1398,68.8479,68.578, 68.3072,68.036,67.7644,67.4924,67.2199, 66.947,66.6738,66.2631,65.9891,65.7143, 65.3014,65.0259,64.75,64.4739,64.1973, 63.782,63.366,62.9493,62.6713,62.3929, 62.1148,61.8354,61.4166,61.1371,60.8574 ,60.5774,60.297,60.0162,59.7363,59.3142 ,59.033,58.7518,58.3298,58.0483,57.7663 ,57.4844,57.2022,56.7784,56.4967,56.213 ,55.9302,55.5061,55.2231,55.0848, 55.1331,55.1619,55.2063,55.2363,55.663, 56.0894,56.3737,56.6579,57.084,57.3676, 57.6517,58.0772,58.5024,58.9271,59.21, 59.4931,59.9172,60.3409,60.6233,61.0465 ,61.4696,61.892,62.3138,62.596,63.0161, 63.2968,63.5769,63.857,64.1369,64.4161, 64.835,65.1139,65.3926,65.671,65.9492, 66.227,66.5048,66.7817,67.0588,67.3355, 67.6119,67.8883,68.164,68.4392,68.8516, 69.126,69.3811)
FOOTPRINT_POINT_LONGITUDE = (59.7425,59.2407,58.736,58.2277,57.7166 ,57.2027,56.6851,56.2133,56.3722, 56.5263,56.6763,56.8224,56.9649,57.1034 ,57.2385,57.3702,57.5613,57.6852, 57.8052,57.9797,58.0927,58.203,58.3106, 58.4155,58.5682,58.7154,58.8574,58.9496 ,59.0392,59.1276,59.2125,59.3372, 59.4179,59.4968,59.5738,59.6488,59.7217 ,59.7945,59.8982,59.9658,60.0321, 60.1291,60.1919,60.2529,60.3129,60.3713 ,60.4561,60.5122,60.5649,60.6176, 60.6948,60.7446,60.9856,61.5809,61.9587 ,62.5807,63.0167,62.9603,62.9024, 62.8628,62.8225,62.7605,62.7182,62.675, 62.6087,62.5404,62.47,62.4218,62.3728, 62.2972,62.2193,62.1661,62.0841,61.9995 ,61.9122,61.822,61.7603,61.6651,61.5999 ,61.5332,61.4651,61.3954,61.324,61.214, 61.1385,61.0613,60.9822,60.9012,60.8183 ,60.7333,60.6463,60.5571,60.4657,60.372 ,60.2759,60.1774,60.0763,59.9196, 59.8117,59.7425)
ORBIT_NUMBER = 5468
ORBITAL_ECCENTRICITY = 0.569
ORBITAL_INCLINATION = 86.76
ORBITAL_SEMIMAJOR_AXIS = 8654.72
PERIAPSIS_ALTITUDE = 351.58
PERIAPSIS_ARGUMENT_ANGLE = 116.37
PERIAPSIS_TIME = 2008-04-04T22:51:46.000Z
SPACECRAFT_ORIENTATION = (0.0,-1.0,0.0)
^MEX_ORIENTATION_DESC = "MEX_ORIENTATION_DESC.TXT"
SPACECRAFT_POINTING_MODE = ACROSSTRACK
^MEX_POINTING_DESC = "MEX_POINTING_DESC.TXT"
RIGHT_ASCENSION = -1e+32
DECLINATION = -1e+32
OFFSET_ANGLE = -0.808
SPACECRAFT_SOLAR_DISTANCE = 2.48146e+08
TARGET_NAME = MARS
/* CAMERA DATA ELEMENTS */
DETECTOR_TEMPERATURE = 17.1471
FOCAL_PLANE_TEMPERATURE = 7.7677
INST_CMPRS_NAME = "DISCRETE COSINE TRANSFORMATION (DCT)"
INST_CMPRS_RATIO = 20.8536
INST_CMPRS_QUALITY = 0
INST_CMPRS_QUANTZ_TBL_ID = 0
INSTRUMENT_TEMPERATURE = 10.8262
LENS_TEMPERATURE = 8.1755
MACROPIXEL_SIZE = 4
MISSING_FRAMES = 0
PIXEL_SUBSAMPLING_FLAG = N
SIGNAL_CHAIN_ID = 2
/* RADIOMETRIC DATA ELEMENTS */
BANDWIDTH = 81.0
CENTER_FILTER_WAVELENGTH = 955.5
RADIANCE_OFFSET = 0.673964
RADIANCE_SCALING_FACTOR = 0.00417315
REFLECTANCE_SCALING_FACTOR = 0.000554376
MEX:REFLECTANCE_OFFSET = 0.0895318
/* IMAGE OBJECT DEFINITIONS */
OBJECT = IMAGE
  INTERCHANGE_FORMAT = BINARY
  LINES = 16774
  LINE_SAMPLES = 3454
  SAMPLE_TYPE = UNSIGNED_INTEGER
  SAMPLE_BITS = 8
  BANDS = 1
  BAND_STORAGE_TYPE = BAND_SEQUENTIAL
  MAXIMUM = 255
  MEAN = 121.194
  MINIMUM = 1
  STANDARD_DEVIATION = 59.1997
END_OBJECT = IMAGE
/* MAP OBJECT DEFINITIONS */
OBJECT = IMAGE_MAP_PROJECTION
  ^DATA_SET_MAP_PROJECTION_CATALOG= "DSMAP.CAT"
  A_AXIS_RADIUS = 3396.0
  B_AXIS_RADIUS = 3396.0
  C_AXIS_RADIUS = 3396.0
  CENTER_LATITUDE = 0.0
  CENTER_LONGITUDE = 61.0
  COORDINATE_SYSTEM_NAME = PLANETOGRAPHIC
  COORDINATE_SYSTEM_TYPE = "BODY-FIXED ROTATING"
  EASTERNMOST_LONGITUDE = 63.0167
  FIRST_STANDARD_PARALLEL = "N/A"
  LINE_FIRST_PIXEL = 1
  LINE_LAST_PIXEL = 16774
  LINE_PROJECTION_OFFSET = 82097.125
  MAP_PROJECTION_ROTATION = 0.0
  MAP_PROJECTION_TYPE = SINUSOIDAL
  MAP_RESOLUTION = 1185.42760773333
  MAP_SCALE = 0.05
  MAXIMUM_LATITUDE = 69.3811
  MINIMUM_LATITUDE = 55.0848
  POSITIVE_LONGITUDE_DIRECTION = EAST
  REFERENCE_LATITUDE = "N/A"
  REFERENCE_LONGITUDE = "N/A"
  SAMPLE_FIRST_PIXEL = 1
  SAMPLE_LAST_PIXEL = 3454
  SAMPLE_PROJECTION_OFFSET = 2064.375
  SECOND_STANDARD_PARALLEL = "N/A"
  WESTERNMOST_LONGITUDE = 56.2133
END_OBJECT = IMAGE_MAP_PROJECTION
/* The JPEG2000 image data file associated with this label. */
OBJECT = COMPRESSED_FILE
  FILE_NAME = "H5468_0000_IR3.JP2"
  RECORD_TYPE = UNDEFINED
  FILE_RECORDS = UNK
  ENCODING_TYPE = "JP2"
  INTERCHANGE_FORMAT = BINARY
  UNCOMPRESSED_FILE_NAME = "H5468_0000_IR3.IMG"
  REQUIRED_STORAGE_BYTES = "57961574"
  ^DESCRIPTION = "JP2INFO.TXT"
END_OBJECT = COMPRESSED_FILE
END
