PDS_VERSION_ID = PDS3
/* FILE DATA ELEMENTS */
RECORD_TYPE = STREAM
/* POINTERS TO DATA OBJECTS */
^COMPRESSED_FILE = "H5468_0000_S23.JP2"
/* IDENTIFICATION DATA ELEMENTS */
DATA_SET_ID = "MEX-M-HRSC-5-REFDR-MAPPROJECTED-V3.0"
DATA_SET_NAME = "MARS EXPRESS HRSC MAP PROJECTED REFDR V3.0"
DETECTOR_ID = MEX_HRSC_S2
EVENT_TYPE = "MARS-REGIONAL-MAPPING-Te-Im-Pf"
INSTRUMENT_HOST_ID = MEX
INSTRUMENT_HOST_NAME = "MARS EXPRESS"
INSTRUMENT_ID = HRSC
INSTRUMENT_NAME = "HIGH RESOLUTION STEREO CAMERA"
MISSION_NAME = "MARS EXPRESS"
MISSION_PHASE_NAME = ME_Phase_11
PROCESSING_LEVEL_ID = 3
PRODUCT_CREATION_TIME = 2016-05-14T17:13:02.000Z
PRODUCT_ID = "H5468_0000_S23.JP2"
RELEASE_ID = 0062
REVISION_ID = 0000
/* QUALITY DATA ELEMENTS */
DATA_QUALITY_ID = 1
DATA_QUALITY_DESC = "Data calculated based on original SPICE kernels"
/* TIME DATA ELEMENTS */
SPACECRAFT_CLOCK_START_COUNT = "1/0155429378.09065"
SPACECRAFT_CLOCK_STOP_COUNT = "1/0155429666.16099"
START_TIME = 2008-04-04T22:50:48.278Z
STOP_TIME = 2008-04-04T22:54:28.011Z
/* ORBITAL DATA ELEMENTS */
ASCENDING_NODE_LONGITUDE = 114.51
MAXIMUM_RESOLUTION = 30.3
FOOTPRINT_POINT_LATITUDE = (69.1092,69.0918,69.0728,69.0523, 69.0302,69.0066,69.0812,68.805,68.3902, 68.1141,67.8376,67.4227,67.1461,66.8697 ,66.5931,66.3166,66.0398,65.7634, 65.3491,65.0727,64.7963,64.5201,64.1058 ,63.6918,63.4159,63.1403,62.8646,62.589 ,62.3137,62.0381,61.626,61.3511,61.0764 ,60.802,60.5277,60.2539,59.8432,59.5693 ,59.2971,59.0242,58.6151,58.2061, 57.7984,57.5264,57.2551,56.8492,56.5783 ,56.3077,55.829,55.5072,55.186,55.1578, 55.1666,55.1778,55.1843,55.3488,55.8335 ,56.1567,56.4567,56.7283,57.1369, 57.4095,57.6821,57.9555,58.2284,58.5027 ,58.7767,59.0515,59.3262,59.6011, 59.8762,60.2896,60.5653,60.8413,61.1175 ,61.3938,61.8088,62.0858,62.5008, 62.9184,63.3351,63.7525,64.0308,64.3095 ,64.5884,64.8672,65.1461,65.4254, 65.7046,65.9838,66.2636,66.683,66.9627, 67.2425,67.5223,67.8017,68.222,68.5022, 68.7823,69.1092)
FOOTPRINT_POINT_LONGITUDE = (59.814,59.301,58.7833,58.2608,57.7341, 57.2026,56.088,56.2517,56.4892,56.6407, 56.7886,57.0029,57.1406,57.2743,57.4046 ,57.5311,57.6551,57.7749,57.9482, 58.0604,58.1699,58.2763,58.4311,58.5798 ,58.6759,58.7693,58.8606,58.9499, 59.0365,59.1219,59.2441,59.3239,59.4017 ,59.4774,59.5513,59.6229,59.7279, 59.7965,59.8609,59.9253,60.0194,60.111, 60.1982,60.2554,60.3107,60.3904,60.443, 60.4942,60.5804,60.6375,60.6928,61.1003 ,61.5194,62.2311,62.7505,63.0493, 62.9824,62.9366,62.8933,62.8532,62.7915 ,62.7494,62.7066,62.6628,62.6183, 62.5725,62.526,62.4783,62.4298,62.3803, 62.3297,62.2518,62.1985,62.144,62.0884, 62.0316,61.9439,61.8838,61.7915,61.6949 ,61.5956,61.4927,61.4221,61.3497, 61.2755,61.1996,61.1219,61.042,60.9604, 60.8766,60.7905,60.6573,60.5656,60.4714 ,60.3749,60.2759,60.1217,60.0153,59.906 ,59.814)
ORBIT_NUMBER = 5468
ORBITAL_ECCENTRICITY = 0.569
ORBITAL_INCLINATION = 86.76
ORBITAL_SEMIMAJOR_AXIS = 8654.72
PERIAPSIS_ALTITUDE = 351.58
PERIAPSIS_ARGUMENT_ANGLE = 116.37
PERIAPSIS_TIME = 2008-04-04T22:51:46.000Z
SPACECRAFT_ORIENTATION = (0.0,-1.0,0.0)
^MEX_ORIENTATION_DESC = "MEX_ORIENTATION_DESC.TXT"
SPACECRAFT_POINTING_MODE = ACROSSTRACK
^MEX_POINTING_DESC = "MEX_POINTING_DESC.TXT"
RIGHT_ASCENSION = -1e+32
DECLINATION = -1e+32
OFFSET_ANGLE = -0.808
SPACECRAFT_SOLAR_DISTANCE = 2.48146e+08
TARGET_NAME = MARS
/* CAMERA DATA ELEMENTS */
DETECTOR_TEMPERATURE = 18.1666
FOCAL_PLANE_TEMPERATURE = 7.7677
INST_CMPRS_NAME = "DISCRETE COSINE TRANSFORMATION (DCT)"
INST_CMPRS_RATIO = 14.0591
INST_CMPRS_QUALITY = 0
INST_CMPRS_QUANTZ_TBL_ID = 0
INSTRUMENT_TEMPERATURE = 10.8262
LENS_TEMPERATURE = 8.1755
MACROPIXEL_SIZE = 2
MISSING_FRAMES = 0
PIXEL_SUBSAMPLING_FLAG = N
SIGNAL_CHAIN_ID = 1
/* RADIOMETRIC DATA ELEMENTS */
BANDWIDTH = 178.0
CENTER_FILTER_WAVELENGTH = 679.0
RADIANCE_OFFSET = 3.68588
RADIANCE_SCALING_FACTOR = 0.0160354
REFLECTANCE_SCALING_FACTOR = 0.000522903
MEX:REFLECTANCE_OFFSET = 0.120194
/* IMAGE OBJECT DEFINITIONS */
OBJECT = IMAGE
  INTERCHANGE_FORMAT = BINARY
  LINES = 33547
  LINE_SAMPLES = 6907
  SAMPLE_TYPE = UNSIGNED_INTEGER
  SAMPLE_BITS = 8
  BANDS = 1
  BAND_STORAGE_TYPE = BAND_SEQUENTIAL
  MAXIMUM = 255
  MEAN = 123.215
  MINIMUM = 1
  STANDARD_DEVIATION = 50.8513
END_OBJECT = IMAGE
/* MAP OBJECT DEFINITIONS */
OBJECT = IMAGE_MAP_PROJECTION
  ^DATA_SET_MAP_PROJECTION_CATALOG= "DSMAP.CAT"
  A_AXIS_RADIUS = 3396.0
  B_AXIS_RADIUS = 3396.0
  C_AXIS_RADIUS = 3396.0
  CENTER_LATITUDE = 0.0
  CENTER_LONGITUDE = 61.0
  COORDINATE_SYSTEM_NAME = PLANETOGRAPHIC
  COORDINATE_SYSTEM_TYPE = "BODY-FIXED ROTATING"
  EASTERNMOST_LONGITUDE = 63.0493
  FIRST_STANDARD_PARALLEL = "N/A"
  LINE_FIRST_PIXEL = 1
  LINE_LAST_PIXEL = 33547
  LINE_PROJECTION_OFFSET = 164194.75
  MAP_PROJECTION_ROTATION = 0.0
  MAP_PROJECTION_TYPE = SINUSOIDAL
  MAP_RESOLUTION = 2370.85521546667
  MAP_SCALE = 0.025
  MAXIMUM_LATITUDE = 69.1092
  MINIMUM_LATITUDE = 55.1578
  POSITIVE_LONGITUDE_DIRECTION = EAST
  REFERENCE_LATITUDE = "N/A"
  REFERENCE_LONGITUDE = "N/A"
  SAMPLE_FIRST_PIXEL = 1
  SAMPLE_LAST_PIXEL = 6907
  SAMPLE_PROJECTION_OFFSET = 4129.25
  SECOND_STANDARD_PARALLEL = "N/A"
  WESTERNMOST_LONGITUDE = 56.088
END_OBJECT = IMAGE_MAP_PROJECTION
/* The JPEG2000 image data file associated with this label. */
OBJECT = COMPRESSED_FILE
  FILE_NAME = "H5468_0000_S23.JP2"
  RECORD_TYPE = UNDEFINED
  FILE_RECORDS = UNK
  ENCODING_TYPE = "JP2"
  INTERCHANGE_FORMAT = BINARY
  UNCOMPRESSED_FILE_NAME = "H5468_0000_S23.IMG"
  REQUIRED_STORAGE_BYTES = "231743664"
  ^DESCRIPTION = "JP2INFO.TXT"
END_OBJECT = COMPRESSED_FILE
END
