PDS_VERSION_ID = PDS3
/* FILE DATA ELEMENTS */
RECORD_TYPE = STREAM
/* POINTERS TO DATA OBJECTS */
^COMPRESSED_FILE = "H5475_0000_BL3.JP2"
/* IDENTIFICATION DATA ELEMENTS */
DATA_SET_ID = "MEX-M-HRSC-5-REFDR-MAPPROJECTED-V3.0"
DATA_SET_NAME = "MARS EXPRESS HRSC MAP PROJECTED REFDR V3.0"
DETECTOR_ID = MEX_HRSC_BLUE
EVENT_TYPE = "MARS-REGIONAL-MAPPING-Te-Im-Pf"
INSTRUMENT_HOST_ID = MEX
INSTRUMENT_HOST_NAME = "MARS EXPRESS"
INSTRUMENT_ID = HRSC
INSTRUMENT_NAME = "HIGH RESOLUTION STEREO CAMERA"
MISSION_NAME = "MARS EXPRESS"
MISSION_PHASE_NAME = ME_Phase_11
PROCESSING_LEVEL_ID = 3
PRODUCT_CREATION_TIME = 2016-05-14T17:13:02.000Z
PRODUCT_ID = "H5475_0000_BL3.JP2"
RELEASE_ID = 0062
REVISION_ID = 0000
/* QUALITY DATA ELEMENTS */
DATA_QUALITY_ID = 1
DATA_QUALITY_DESC = "Data calculated based on original SPICE kernels"
/* TIME DATA ELEMENTS */
SPACECRAFT_CLOCK_START_COUNT = "1/0155601719.08426"
SPACECRAFT_CLOCK_STOP_COUNT = "1/0155601968.00775"
START_TIME = 2008-04-06T22:42:44.476Z
STOP_TIME = 2008-04-06T22:45:42.984Z
/* ORBITAL DATA ELEMENTS */
ASCENDING_NODE_LONGITUDE = 114.37
MAXIMUM_RESOLUTION = 56.7
FOOTPRINT_POINT_LATITUDE = (74.8554,74.8178,74.7779,74.7357, 74.6912,74.6442,74.6064,74.3491,74.0911 ,73.8327,73.5737,73.1852,72.8583,72.64, 72.4214,72.2026,71.8738,71.6543,71.4346 ,71.2147,70.9945,70.7741,70.4432, 70.2223,70.0012,69.78,69.5586,69.2262, 68.8935,68.5604,68.3382,68.0047,67.6708 ,67.4481,67.1139,66.891,66.5564,66.2216 ,65.8866,65.5515,65.2163,64.9928, 64.7691,64.4336,64.2099,63.8743,63.5386 ,63.3147,63.3212,63.3488,63.3666, 63.3899,63.408,63.425,63.442,63.6677, 64.0061,64.2317,64.4573,64.6829,65.0213 ,65.2469,65.4725,65.8108,66.036,66.2619 ,66.6001,66.8256,67.1637,67.5017, 67.8397,68.1774,68.4026,68.6277,68.9652 ,69.1901,69.5273,69.8643,70.2012, 70.4256,70.6499,70.8741,71.0983,71.3223 ,71.5462,71.77,71.9936,72.3288,72.552, 72.7752,72.9981,73.221,73.4437,73.7064, 73.9716,74.2365,74.369,74.6337,74.8979, 74.8554)
FOOTPRINT_POINT_LONGITUDE = (76.5171,75.8287,75.1392,74.449,73.7586 ,73.0666,72.1944,72.4746,72.7465, 73.0091,73.2631,73.6281,73.9207,74.1094 ,74.2928,74.4712,74.7308,74.8979, 75.0615,75.2203,75.3756,75.5265,75.7466 ,75.8885,76.028,76.1631,76.2949,76.4872 ,76.673,76.8523,76.9682,77.1373,77.3017 ,77.4076,77.5616,77.6617,77.8077, 77.9493,78.0865,78.219,78.347,78.4304, 78.5121,78.6318,78.7083,78.8215,78.9308 ,79.0022,79.3188,79.8154,80.1527, 80.6176,81.0029,81.3864,81.7762,81.7259 ,81.6488,81.5961,81.5424,81.4876, 81.4035,81.3461,81.2875,81.1973,81.1357 ,81.0729,80.9762,80.91,80.8081,80.703, 80.5945,80.4824,80.4056,80.3271,80.206, 80.123,79.995,79.8624,79.7251,79.6308, 79.5343,79.4354,79.3341,79.2302,79.1238 ,79.0146,78.9026,78.7292,78.6098, 78.4872,78.3613,78.232,78.0991,77.9374, 77.7685,77.5937,77.5041,77.3201,77.1296 ,76.5171)
ORBIT_NUMBER = 5475
ORBITAL_ECCENTRICITY = 0.569
ORBITAL_INCLINATION = 86.76
ORBITAL_SEMIMAJOR_AXIS = 8653.1
PERIAPSIS_ALTITUDE = 351.79
PERIAPSIS_ARGUMENT_ANGLE = 115.13
PERIAPSIS_TIME = 2008-04-06T22:45:18.000Z
SPACECRAFT_ORIENTATION = (0.0,-1.0,0.0)
^MEX_ORIENTATION_DESC = "MEX_ORIENTATION_DESC.TXT"
SPACECRAFT_POINTING_MODE = ACROSSTRACK
^MEX_POINTING_DESC = "MEX_POINTING_DESC.TXT"
RIGHT_ASCENSION = -1e+32
DECLINATION = -1e+32
OFFSET_ANGLE = -0.539
SPACECRAFT_SOLAR_DISTANCE = 2.48255e+08
TARGET_NAME = MARS
/* CAMERA DATA ELEMENTS */
DETECTOR_TEMPERATURE = 17.9627
FOCAL_PLANE_TEMPERATURE = 7.7677
INST_CMPRS_NAME = "DISCRETE COSINE TRANSFORMATION (DCT)"
INST_CMPRS_RATIO = 10.0585
INST_CMPRS_QUALITY = 0
INST_CMPRS_QUANTZ_TBL_ID = 0
INSTRUMENT_TEMPERATURE = 9.6028
LENS_TEMPERATURE = 8.3794
MACROPIXEL_SIZE = 4
MISSING_FRAMES = 0
PIXEL_SUBSAMPLING_FLAG = N
SIGNAL_CHAIN_ID = 2
/* RADIOMETRIC DATA ELEMENTS */
BANDWIDTH = 76.0
CENTER_FILTER_WAVELENGTH = 444.0
RADIANCE_OFFSET = 0.56802
RADIANCE_SCALING_FACTOR = 0.00708478
REFLECTANCE_SCALING_FACTOR = 0.000448618
MEX:REFLECTANCE_OFFSET = 0.0359678
/* IMAGE OBJECT DEFINITIONS */
OBJECT = IMAGE
  INTERCHANGE_FORMAT = BINARY
  LINES = 13767
  LINE_SAMPLES = 3807
  SAMPLE_TYPE = UNSIGNED_INTEGER
  SAMPLE_BITS = 8
  BANDS = 1
  BAND_STORAGE_TYPE = BAND_SEQUENTIAL
  MAXIMUM = 255
  MEAN = 107.435
  MINIMUM = 1
  STANDARD_DEVIATION = 108.448
END_OBJECT = IMAGE
/* MAP OBJECT DEFINITIONS */
OBJECT = IMAGE_MAP_PROJECTION
  ^DATA_SET_MAP_PROJECTION_CATALOG= "DSMAP.CAT"
  A_AXIS_RADIUS = 3396.0
  B_AXIS_RADIUS = 3396.0
  C_AXIS_RADIUS = 3396.0
  CENTER_LATITUDE = 0.0
  CENTER_LONGITUDE = 78.0
  COORDINATE_SYSTEM_NAME = PLANETOGRAPHIC
  COORDINATE_SYSTEM_TYPE = "BODY-FIXED ROTATING"
  EASTERNMOST_LONGITUDE = 81.7762
  FIRST_STANDARD_PARALLEL = "N/A"
  LINE_FIRST_PIXEL = 1
  LINE_LAST_PIXEL = 13767
  LINE_PROJECTION_OFFSET = 88804.625
  MAP_PROJECTION_ROTATION = 0.0
  MAP_PROJECTION_TYPE = SINUSOIDAL
  MAP_RESOLUTION = 1185.42760773333
  MAP_SCALE = 0.05
  MAXIMUM_LATITUDE = 74.89790000000001
  MINIMUM_LATITUDE = 63.3147
  POSITIVE_LONGITUDE_DIRECTION = EAST
  REFERENCE_LATITUDE = "N/A"
  REFERENCE_LONGITUDE = "N/A"
  SAMPLE_FIRST_PIXEL = 1
  SAMPLE_LAST_PIXEL = 3807
  SAMPLE_PROJECTION_OFFSET = 1807.625
  SECOND_STANDARD_PARALLEL = "N/A"
  WESTERNMOST_LONGITUDE = 72.1944
END_OBJECT = IMAGE_MAP_PROJECTION
/* The JPEG2000 image data file associated with this label. */
OBJECT = COMPRESSED_FILE
  FILE_NAME = "H5475_0000_BL3.JP2"
  RECORD_TYPE = UNDEFINED
  FILE_RECORDS = UNK
  ENCODING_TYPE = "JP2"
  INTERCHANGE_FORMAT = BINARY
  UNCOMPRESSED_FILE_NAME = "H5475_0000_BL3.IMG"
  REQUIRED_STORAGE_BYTES = "52433811"
  ^DESCRIPTION = "JP2INFO.TXT"
END_OBJECT = COMPRESSED_FILE
END
