PDS_VERSION_ID = PDS3
/* FILE DATA ELEMENTS */
RECORD_TYPE = STREAM
/* POINTERS TO DATA OBJECTS */
^COMPRESSED_FILE = "H5475_0000_GR3.JP2"
/* IDENTIFICATION DATA ELEMENTS */
DATA_SET_ID = "MEX-M-HRSC-5-REFDR-MAPPROJECTED-V3.0"
DATA_SET_NAME = "MARS EXPRESS HRSC MAP PROJECTED REFDR V3.0"
DETECTOR_ID = MEX_HRSC_GREEN
EVENT_TYPE = "MARS-REGIONAL-MAPPING-Te-Im-Pf"
INSTRUMENT_HOST_ID = MEX
INSTRUMENT_HOST_NAME = "MARS EXPRESS"
INSTRUMENT_ID = HRSC
INSTRUMENT_NAME = "HIGH RESOLUTION STEREO CAMERA"
MISSION_NAME = "MARS EXPRESS"
MISSION_PHASE_NAME = ME_Phase_11
PROCESSING_LEVEL_ID = 3
PRODUCT_CREATION_TIME = 2016-05-14T17:13:02.000Z
PRODUCT_ID = "H5475_0000_GR3.JP2"
RELEASE_ID = 0062
REVISION_ID = 0000
/* QUALITY DATA ELEMENTS */
DATA_QUALITY_ID = 1
DATA_QUALITY_DESC = "Data calculated based on original SPICE kernels"
/* TIME DATA ELEMENTS */
SPACECRAFT_CLOCK_START_COUNT = "1/0155601719.08426"
SPACECRAFT_CLOCK_STOP_COUNT = "1/0155601968.00775"
START_TIME = 2008-04-06T22:42:32.731Z
STOP_TIME = 2008-04-06T22:45:32.085Z
/* ORBITAL DATA ELEMENTS */
ASCENDING_NODE_LONGITUDE = 114.37
MAXIMUM_RESOLUTION = 56.6
FOOTPRINT_POINT_LATITUDE = (74.9195,74.8386,74.748,74.4689,74.2158 ,73.9622,73.708,73.4534,73.1983,72.9426 ,72.6866,72.4357,72.2203,72.0047, 71.7888,71.5726,71.3562,71.1394,70.9225 ,70.7052,70.4878,70.27,70.0521,69.834, 69.6156,69.3969,69.1781,68.9592,68.74, 68.5206,68.3011,68.0814,67.8615,67.6416 ,67.4214,67.201,66.9805,66.7598,66.5391 ,66.3181,65.9866,65.7655,65.5441, 65.3226,65.1011,64.8794,64.6578,64.4361 ,64.214,63.992,63.7698,63.5477,63.3102, 63.357,63.3892,63.4328,63.788,64.0119, 64.3477,64.5716,64.9073,65.2428,65.5782 ,65.8018,66.0255,66.3603,66.5836, 66.8067,67.1414,67.3644,67.5872,67.81, 68.0327,68.2554,68.4778,68.8113,69.0336 ,69.2556,69.4776,69.6995,69.9212, 70.1427,70.3642,70.5855,70.8067,71.0276 ,71.2485,71.4692,71.6897,72.0201, 72.2402,72.4602,72.6799,73.0616,73.3231 ,73.5844,73.8454,74.2363,74.4963, 74.9195)
FOOTPRINT_POINT_LONGITUDE = (76.7519,75.3611,73.9685,72.3207, 72.5923,72.8553,73.1099,73.3565,73.5956 ,73.8266,74.051,74.263,74.4397,74.612, 74.7801,74.9437,75.1037,75.2595,75.4116 ,75.5598,75.7049,75.846,75.9844,76.1192 ,76.2508,76.379,76.5044,76.6274,76.7473 ,76.8645,76.9792,77.091,77.2007,77.3085 ,77.4133,77.5155,77.6158,77.7139, 77.8102,77.9039,78.0417,78.1312,78.218, 78.3033,78.3869,78.4688,78.5498,78.6286 ,78.7047,78.7802,78.8539,78.9264, 79.2144,79.97,80.5375,81.3821,81.6966, 81.6456,81.5671,81.5136,81.4314,81.3468 ,81.2597,81.2002,81.1393,81.0462, 80.9824,80.9174,80.8173,80.7488,80.6789 ,80.6075,80.5346,80.4601,80.384,80.2668 ,80.1864,80.1044,80.0204,79.9345, 79.8467,79.7569,79.6649,79.5708,79.4744 ,79.3758,79.2748,79.1713,79.0653, 78.9012,78.7883,78.6725,78.5538,78.3398 ,78.1873,78.0298,77.8671,77.6127, 77.4362,76.7519)
ORBIT_NUMBER = 5475
ORBITAL_ECCENTRICITY = 0.569
ORBITAL_INCLINATION = 86.76
ORBITAL_SEMIMAJOR_AXIS = 8653.1
PERIAPSIS_ALTITUDE = 351.79
PERIAPSIS_ARGUMENT_ANGLE = 115.13
PERIAPSIS_TIME = 2008-04-06T22:45:18.000Z
SPACECRAFT_ORIENTATION = (0.0,-1.0,0.0)
^MEX_ORIENTATION_DESC = "MEX_ORIENTATION_DESC.TXT"
SPACECRAFT_POINTING_MODE = ACROSSTRACK
^MEX_POINTING_DESC = "MEX_POINTING_DESC.TXT"
RIGHT_ASCENSION = -1e+32
DECLINATION = -1e+32
OFFSET_ANGLE = -0.539
SPACECRAFT_SOLAR_DISTANCE = 2.48255e+08
TARGET_NAME = MARS
/* CAMERA DATA ELEMENTS */
DETECTOR_TEMPERATURE = 17.9627
FOCAL_PLANE_TEMPERATURE = 7.7677
INST_CMPRS_NAME = "DISCRETE COSINE TRANSFORMATION (DCT)"
INST_CMPRS_RATIO = 10.5374
INST_CMPRS_QUALITY = 0
INST_CMPRS_QUANTZ_TBL_ID = 0
INSTRUMENT_TEMPERATURE = 9.6028
LENS_TEMPERATURE = 8.3794
MACROPIXEL_SIZE = 4
MISSING_FRAMES = 0
PIXEL_SUBSAMPLING_FLAG = N
SIGNAL_CHAIN_ID = 2
/* RADIOMETRIC DATA ELEMENTS */
BANDWIDTH = 88.0
CENTER_FILTER_WAVELENGTH = 538.0
RADIANCE_OFFSET = 1.30769
RADIANCE_SCALING_FACTOR = 0.0144956
REFLECTANCE_SCALING_FACTOR = 0.00076917
MEX:REFLECTANCE_OFFSET = 0.0693886
/* IMAGE OBJECT DEFINITIONS */
OBJECT = IMAGE
  INTERCHANGE_FORMAT = BINARY
  LINES = 13767
  LINE_SAMPLES = 3807
  SAMPLE_TYPE = UNSIGNED_INTEGER
  SAMPLE_BITS = 8
  BANDS = 1
  BAND_STORAGE_TYPE = BAND_SEQUENTIAL
  MAXIMUM = 255
  MEAN = 97.6772
  MINIMUM = 1
  STANDARD_DEVIATION = 85.5518
END_OBJECT = IMAGE
/* MAP OBJECT DEFINITIONS */
OBJECT = IMAGE_MAP_PROJECTION
  ^DATA_SET_MAP_PROJECTION_CATALOG= "DSMAP.CAT"
  A_AXIS_RADIUS = 3396.0
  B_AXIS_RADIUS = 3396.0
  C_AXIS_RADIUS = 3396.0
  CENTER_LATITUDE = 0.0
  CENTER_LONGITUDE = 78.0
  COORDINATE_SYSTEM_NAME = PLANETOGRAPHIC
  COORDINATE_SYSTEM_TYPE = "BODY-FIXED ROTATING"
  EASTERNMOST_LONGITUDE = 81.6966
  FIRST_STANDARD_PARALLEL = "N/A"
  LINE_FIRST_PIXEL = 1
  LINE_LAST_PIXEL = 13767
  LINE_PROJECTION_OFFSET = 88804.625
  MAP_PROJECTION_ROTATION = 0.0
  MAP_PROJECTION_TYPE = SINUSOIDAL
  MAP_RESOLUTION = 1185.42760773333
  MAP_SCALE = 0.05
  MAXIMUM_LATITUDE = 74.9195
  MINIMUM_LATITUDE = 63.3102
  POSITIVE_LONGITUDE_DIRECTION = EAST
  REFERENCE_LATITUDE = "N/A"
  REFERENCE_LONGITUDE = "N/A"
  SAMPLE_FIRST_PIXEL = 1
  SAMPLE_LAST_PIXEL = 3807
  SAMPLE_PROJECTION_OFFSET = 1807.625
  SECOND_STANDARD_PARALLEL = "N/A"
  WESTERNMOST_LONGITUDE = 72.3207
END_OBJECT = IMAGE_MAP_PROJECTION
/* The JPEG2000 image data file associated with this label. */
OBJECT = COMPRESSED_FILE
  FILE_NAME = "H5475_0000_GR3.JP2"
  RECORD_TYPE = UNDEFINED
  FILE_RECORDS = UNK
  ENCODING_TYPE = "JP2"
  INTERCHANGE_FORMAT = BINARY
  UNCOMPRESSED_FILE_NAME = "H5475_0000_GR3.IMG"
  REQUIRED_STORAGE_BYTES = "52433811"
  ^DESCRIPTION = "JP2INFO.TXT"
END_OBJECT = COMPRESSED_FILE
END
