PDS_VERSION_ID = PDS3
/* FILE DATA ELEMENTS */
RECORD_TYPE = STREAM
/* POINTERS TO DATA OBJECTS */
^COMPRESSED_FILE = "H5475_0000_S23.JP2"
/* IDENTIFICATION DATA ELEMENTS */
DATA_SET_ID = "MEX-M-HRSC-5-REFDR-MAPPROJECTED-V3.0"
DATA_SET_NAME = "MARS EXPRESS HRSC MAP PROJECTED REFDR V3.0"
DETECTOR_ID = MEX_HRSC_S2
EVENT_TYPE = "MARS-REGIONAL-MAPPING-Te-Im-Pf"
INSTRUMENT_HOST_ID = MEX
INSTRUMENT_HOST_NAME = "MARS EXPRESS"
INSTRUMENT_ID = HRSC
INSTRUMENT_NAME = "HIGH RESOLUTION STEREO CAMERA"
MISSION_NAME = "MARS EXPRESS"
MISSION_PHASE_NAME = ME_Phase_11
PROCESSING_LEVEL_ID = 3
PRODUCT_CREATION_TIME = 2016-05-14T17:13:02.000Z
PRODUCT_ID = "H5475_0000_S23.JP2"
RELEASE_ID = 0062
REVISION_ID = 0000
/* QUALITY DATA ELEMENTS */
DATA_QUALITY_ID = 1
DATA_QUALITY_DESC = "Data calculated based on original SPICE kernels"
/* TIME DATA ELEMENTS */
SPACECRAFT_CLOCK_START_COUNT = "1/0155601719.08426"
SPACECRAFT_CLOCK_STOP_COUNT = "1/0155601968.00775"
START_TIME = 2008-04-06T22:43:12.261Z
STOP_TIME = 2008-04-06T22:46:09.713Z
/* ORBITAL DATA ELEMENTS */
ASCENDING_NODE_LONGITUDE = 114.37
MAXIMUM_RESOLUTION = 30.2
FOOTPRINT_POINT_LATITUDE = (74.7795,74.7485,74.7153,74.6799, 74.6423,74.6023,74.5407,74.6531,74.4299 ,74.2064,73.9825,73.7584,73.5338, 73.1966,72.8593,72.6339,72.4086,72.0703 ,71.8444,71.6187,71.3925,71.1665, 70.9401,70.6006,70.374,70.1475,69.8074, 69.5809,69.3543,69.1274,68.9006,68.6738 ,68.3335,67.9932,67.7663,67.4256, 67.0856,66.8588,66.6321,66.292,66.0651, 65.8383,65.6118,65.3855,65.0461,64.7063 ,64.4797,64.2542,63.9152,63.5766, 63.3508,63.3534,63.3696,63.3806,63.3907 ,63.4118,63.425,63.437,63.7783,64.1199, 64.4618,64.6896,64.9177,65.1461,65.3745 ,65.7168,65.9441,66.1738,66.4033,66.747 ,67.0907,67.4346,67.664,68.0081,68.3527 ,68.5823,68.9267,69.2716,69.6165, 69.9615,70.1913,70.5359,70.8809,71.2263 ,71.5714,71.9163,72.1461,72.4908, 72.8358,73.0656,73.2958,73.6403,73.8698 ,74.0986,74.2135,74.3286,74.4436, 74.6732,74.9023,74.7795)
FOOTPRINT_POINT_LONGITUDE = (77.1708,76.4615,75.7501,75.0366, 74.3218,73.6052,72.5705,72.1328,72.3772 ,72.6145,72.8453,73.0689,73.2872,73.602 ,73.9027,74.097,74.2848,74.5574,74.7336 ,74.904,75.0707,75.2326,75.3907,75.6194 ,75.7676,75.9115,76.1211,76.256,76.3873 ,76.5162,76.6416,76.7639,76.942,77.1137 ,77.2249,77.3877,77.5434,77.6446, 77.7434,77.8876,77.9814,78.073,78.1621, 78.249,78.3759,78.4999,78.5805,78.6574, 78.7716,78.8817,78.9536,79.3202,79.7375 ,80.0417,80.3164,80.9454,81.3797, 81.7939,81.7167,81.6372,81.5554,81.4995 ,81.4424,81.3841,81.3247,81.2333,81.171 ,81.1069,81.0415,80.9409,80.8371, 80.7298,80.6562,80.5428,80.4254,80.3449 ,80.2206,80.0918,79.9584,79.82,79.725, 79.578,79.4253,79.2664,79.1014,78.9298, 78.8116,78.6281,78.4368,78.3047,78.1686 ,77.9574,77.8114,77.6613,77.5843,77.506 ,77.4265,77.2641,77.0968,77.1708)
ORBIT_NUMBER = 5475
ORBITAL_ECCENTRICITY = 0.569
ORBITAL_INCLINATION = 86.76
ORBITAL_SEMIMAJOR_AXIS = 8653.1
PERIAPSIS_ALTITUDE = 351.79
PERIAPSIS_ARGUMENT_ANGLE = 115.13
PERIAPSIS_TIME = 2008-04-06T22:45:18.000Z
SPACECRAFT_ORIENTATION = (0.0,-1.0,0.0)
^MEX_ORIENTATION_DESC = "MEX_ORIENTATION_DESC.TXT"
SPACECRAFT_POINTING_MODE = ACROSSTRACK
^MEX_POINTING_DESC = "MEX_POINTING_DESC.TXT"
RIGHT_ASCENSION = -1e+32
DECLINATION = -1e+32
OFFSET_ANGLE = -0.539
SPACECRAFT_SOLAR_DISTANCE = 2.48255e+08
TARGET_NAME = MARS
/* CAMERA DATA ELEMENTS */
DETECTOR_TEMPERATURE = 18.3705
FOCAL_PLANE_TEMPERATURE = 7.7677
INST_CMPRS_NAME = "DISCRETE COSINE TRANSFORMATION (DCT)"
INST_CMPRS_RATIO = 11.2632
INST_CMPRS_QUALITY = 0
INST_CMPRS_QUANTZ_TBL_ID = 0
INSTRUMENT_TEMPERATURE = 9.6028
LENS_TEMPERATURE = 8.3794
MACROPIXEL_SIZE = 2
MISSING_FRAMES = 0
PIXEL_SUBSAMPLING_FLAG = N
SIGNAL_CHAIN_ID = 1
/* RADIOMETRIC DATA ELEMENTS */
BANDWIDTH = 178.0
CENTER_FILTER_WAVELENGTH = 679.0
RADIANCE_OFFSET = 4.19297
RADIANCE_SCALING_FACTOR = 0.0315382
REFLECTANCE_SCALING_FACTOR = 0.00102935
MEX:REFLECTANCE_OFFSET = 0.13685
/* IMAGE OBJECT DEFINITIONS */
OBJECT = IMAGE
  INTERCHANGE_FORMAT = BINARY
  LINES = 27533
  LINE_SAMPLES = 7613
  SAMPLE_TYPE = UNSIGNED_INTEGER
  SAMPLE_BITS = 8
  BANDS = 1
  BAND_STORAGE_TYPE = BAND_SEQUENTIAL
  MAXIMUM = 255
  MEAN = 115.17
  MINIMUM = 1
  STANDARD_DEVIATION = 62.6434
END_OBJECT = IMAGE
/* MAP OBJECT DEFINITIONS */
OBJECT = IMAGE_MAP_PROJECTION
  ^DATA_SET_MAP_PROJECTION_CATALOG= "DSMAP.CAT"
  A_AXIS_RADIUS = 3396.0
  B_AXIS_RADIUS = 3396.0
  C_AXIS_RADIUS = 3396.0
  CENTER_LATITUDE = 0.0
  CENTER_LONGITUDE = 78.0
  COORDINATE_SYSTEM_NAME = PLANETOGRAPHIC
  COORDINATE_SYSTEM_TYPE = "BODY-FIXED ROTATING"
  EASTERNMOST_LONGITUDE = 81.79389999999999
  FIRST_STANDARD_PARALLEL = "N/A"
  LINE_FIRST_PIXEL = 1
  LINE_LAST_PIXEL = 27533
  LINE_PROJECTION_OFFSET = 177609.75
  MAP_PROJECTION_ROTATION = 0.0
  MAP_PROJECTION_TYPE = SINUSOIDAL
  MAP_RESOLUTION = 2370.85521546667
  MAP_SCALE = 0.025
  MAXIMUM_LATITUDE = 74.9023
  MINIMUM_LATITUDE = 63.3508
  POSITIVE_LONGITUDE_DIRECTION = EAST
  REFERENCE_LATITUDE = "N/A"
  REFERENCE_LONGITUDE = "N/A"
  SAMPLE_FIRST_PIXEL = 1
  SAMPLE_LAST_PIXEL = 7613
  SAMPLE_PROJECTION_OFFSET = 3615.75
  SECOND_STANDARD_PARALLEL = "N/A"
  WESTERNMOST_LONGITUDE = 72.1328
END_OBJECT = IMAGE_MAP_PROJECTION
/* The JPEG2000 image data file associated with this label. */
OBJECT = COMPRESSED_FILE
  FILE_NAME = "H5475_0000_S23.JP2"
  RECORD_TYPE = UNDEFINED
  FILE_RECORDS = UNK
  ENCODING_TYPE = "JP2"
  INTERCHANGE_FORMAT = BINARY
  UNCOMPRESSED_FILE_NAME = "H5475_0000_S23.IMG"
  REQUIRED_STORAGE_BYTES = "209639181"
  ^DESCRIPTION = "JP2INFO.TXT"
END_OBJECT = COMPRESSED_FILE
END
