PDS_VERSION_ID = PDS3
/* FILE DATA ELEMENTS */
RECORD_TYPE = STREAM
/* POINTERS TO DATA OBJECTS */
^COMPRESSED_FILE = "H5476_0000_ND3.JP2"
/* IDENTIFICATION DATA ELEMENTS */
DATA_SET_ID = "MEX-M-HRSC-5-REFDR-MAPPROJECTED-V3.0"
DATA_SET_NAME = "MARS EXPRESS HRSC MAP PROJECTED REFDR V3.0"
DETECTOR_ID = MEX_HRSC_NADIR
EVENT_TYPE = "MARS-REGIONAL-MAPPING-Te-Im-Pf"
INSTRUMENT_HOST_ID = MEX
INSTRUMENT_HOST_NAME = "MARS EXPRESS"
INSTRUMENT_ID = HRSC
INSTRUMENT_NAME = "HIGH RESOLUTION STEREO CAMERA"
MISSION_NAME = "MARS EXPRESS"
MISSION_PHASE_NAME = ME_Phase_12
PROCESSING_LEVEL_ID = 3
PRODUCT_CREATION_TIME = 2016-05-14T17:13:02.000Z
PRODUCT_ID = "H5476_0000_ND3.JP2"
RELEASE_ID = 0062
REVISION_ID = 0000
/* QUALITY DATA ELEMENTS */
DATA_QUALITY_ID = 1
DATA_QUALITY_DESC = "Data calculated based on original SPICE kernels"
/* TIME DATA ELEMENTS */
SPACECRAFT_CLOCK_START_COUNT = "1/0155626403.08403"
SPACECRAFT_CLOCK_STOP_COUNT = "1/0155626614.07577"
START_TIME = 2008-04-07T05:34:00.614Z
STOP_TIME = 2008-04-07T05:36:23.600Z
/* ORBITAL DATA ELEMENTS */
ASCENDING_NODE_LONGITUDE = 114.36
MAXIMUM_RESOLUTION = 14.3
FOOTPRINT_POINT_LATITUDE = (71.6929,71.6648,71.6111,71.5757, 71.5358,71.2381,70.8767,70.5148,70.1524 ,69.7895,69.6079,69.4262,69.2444, 69.0625,68.8805,68.6984,68.5162,68.3339 ,68.1515,67.969,67.7865,67.6039,67.4212 ,67.2384,66.9642,66.7812,66.5982, 66.4152,66.2321,66.0489,65.8657,65.6824 ,65.4074,65.1324,64.8572,64.6737, 64.3983,64.1229,63.9393,63.6638,63.4801 ,63.2964,63.1127,62.9289,62.7452, 62.5614,62.3776,62.4044,62.4337,62.4677 ,62.4914,62.6764,62.8613,63.0463, 63.2313,63.5088,63.6937,63.8787,64.0637 ,64.2487,64.4337,64.7111,64.9885, 65.1734,65.3583,65.5432,65.7281,65.9129 ,66.0978,66.2826,66.4674,66.6521, 66.8368,67.0215,67.2062,67.3908,67.5754 ,67.7599,67.9444,68.1289,68.3133, 68.4977,68.682,68.8663,69.0505,69.2347, 69.4188,69.6029,69.7869,69.9708,70.1547 ,70.3385,70.5223,70.7059,70.8895,71.073 ,71.2565,71.4399,71.6231,71.6929)
FOOTPRINT_POINT_LONGITUDE = (339.883,339.284,338.238,337.605, 336.936,336.646,336.871,337.086,337.293 ,337.491,337.587,337.682,337.775, 337.865,337.954,338.042,338.127,338.211 ,338.294,338.374,338.454,338.531, 338.608,338.683,338.793,338.865,338.935 ,339.004,339.071,339.138,339.204, 339.268,339.362,339.454,339.543,339.601 ,339.687,339.77,339.824,339.904,339.956 ,340.007,340.057,340.107,340.155, 340.203,340.25,340.918,341.529,342.328, 342.953,342.921,342.889,342.857,342.824 ,342.774,342.74,342.705,342.67,342.634, 342.598,342.542,342.485,342.446,342.407 ,342.367,342.326,342.284,342.242,342.2, 342.156,342.112,342.067,342.021,341.974 ,341.927,341.879,341.829,341.779, 341.728,341.677,341.624,341.57,341.515, 341.46,341.403,341.345,341.286,341.226, 341.165,341.102,341.038,340.974,340.908 ,340.84,340.771,340.701,340.629,340.556 ,339.883)
ORBIT_NUMBER = 5476
ORBITAL_ECCENTRICITY = 0.568
ORBITAL_INCLINATION = 86.76
ORBITAL_SEMIMAJOR_AXIS = 8648.81
PERIAPSIS_ALTITUDE = 352.87
PERIAPSIS_ARGUMENT_ANGLE = 114.96
PERIAPSIS_TIME = 2008-04-07T05:35:46.000Z
SPACECRAFT_ORIENTATION = (0.0,-1.0,0.0)
^MEX_ORIENTATION_DESC = "MEX_ORIENTATION_DESC.TXT"
SPACECRAFT_POINTING_MODE = ACROSSTRACK
^MEX_POINTING_DESC = "MEX_POINTING_DESC.TXT"
RIGHT_ASCENSION = -1e+32
DECLINATION = -1e+32
OFFSET_ANGLE = -0.1
SPACECRAFT_SOLAR_DISTANCE = 2.4827e+08
TARGET_NAME = MARS
/* CAMERA DATA ELEMENTS */
DETECTOR_TEMPERATURE = 17.9627
FOCAL_PLANE_TEMPERATURE = 7.9716
INST_CMPRS_NAME = "DISCRETE COSINE TRANSFORMATION (DCT)"
INST_CMPRS_RATIO = 7.33109
INST_CMPRS_QUALITY = 0
INST_CMPRS_QUANTZ_TBL_ID = 0
INSTRUMENT_TEMPERATURE = 11.234
LENS_TEMPERATURE = 8.5833
MACROPIXEL_SIZE = 1
MISSING_FRAMES = 0
PIXEL_SUBSAMPLING_FLAG = N
SIGNAL_CHAIN_ID = 0
/* RADIOMETRIC DATA ELEMENTS */
BANDWIDTH = 177.0
CENTER_FILTER_WAVELENGTH = 677.5
RADIANCE_OFFSET = 3.29098
RADIANCE_SCALING_FACTOR = 0.0260862
REFLECTANCE_SCALING_FACTOR = 0.000854169
MEX:REFLECTANCE_OFFSET = 0.10776
/* IMAGE OBJECT DEFINITIONS */
OBJECT = IMAGE
  INTERCHANGE_FORMAT = BINARY
  LINES = 44304
  LINE_SAMPLES = 11777
  SAMPLE_TYPE = UNSIGNED_INTEGER
  SAMPLE_BITS = 8
  BANDS = 1
  BAND_STORAGE_TYPE = BAND_SEQUENTIAL
  MAXIMUM = 255
  MEAN = 101.348
  MINIMUM = 1
  STANDARD_DEVIATION = 71.3743
END_OBJECT = IMAGE
/* MAP OBJECT DEFINITIONS */
OBJECT = IMAGE_MAP_PROJECTION
  ^DATA_SET_MAP_PROJECTION_CATALOG= "DSMAP.CAT"
  A_AXIS_RADIUS = 3396.0
  B_AXIS_RADIUS = 3396.0
  C_AXIS_RADIUS = 3396.0
  CENTER_LATITUDE = 0.0
  CENTER_LONGITUDE = 340.0
  COORDINATE_SYSTEM_NAME = PLANETOGRAPHIC
  COORDINATE_SYSTEM_TYPE = "BODY-FIXED ROTATING"
  EASTERNMOST_LONGITUDE = 342.953
  FIRST_STANDARD_PARALLEL = "N/A"
  LINE_FIRST_PIXEL = 1
  LINE_LAST_PIXEL = 44304
  LINE_PROJECTION_OFFSET = 340056.0
  MAP_PROJECTION_ROTATION = 0.0
  MAP_PROJECTION_TYPE = SINUSOIDAL
  MAP_RESOLUTION = 4741.71043093333
  MAP_SCALE = 0.0125
  MAXIMUM_LATITUDE = 71.69289999999999
  MINIMUM_LATITUDE = 62.3776
  POSITIVE_LONGITUDE_DIRECTION = EAST
  REFERENCE_LATITUDE = "N/A"
  REFERENCE_LONGITUDE = "N/A"
  SAMPLE_FIRST_PIXEL = 1
  SAMPLE_LAST_PIXEL = 11777
  SAMPLE_PROJECTION_OFFSET = 5292.0
  SECOND_STANDARD_PARALLEL = "N/A"
  WESTERNMOST_LONGITUDE = 336.646
END_OBJECT = IMAGE_MAP_PROJECTION
/* The JPEG2000 image data file associated with this label. */
OBJECT = COMPRESSED_FILE
  FILE_NAME = "H5476_0000_ND3.JP2"
  RECORD_TYPE = UNDEFINED
  FILE_RECORDS = UNK
  ENCODING_TYPE = "JP2"
  INTERCHANGE_FORMAT = BINARY
  UNCOMPRESSED_FILE_NAME = "H5476_0000_ND3.IMG"
  REQUIRED_STORAGE_BYTES = "521803539"
  ^DESCRIPTION = "JP2INFO.TXT"
END_OBJECT = COMPRESSED_FILE
END
