PDS_VERSION_ID = PDS3
/* FILE DATA ELEMENTS */
RECORD_TYPE = STREAM
/* POINTERS TO DATA OBJECTS */
^COMPRESSED_FILE = "H5476_0000_RE3.JP2"
/* IDENTIFICATION DATA ELEMENTS */
DATA_SET_ID = "MEX-M-HRSC-5-REFDR-MAPPROJECTED-V3.0"
DATA_SET_NAME = "MARS EXPRESS HRSC MAP PROJECTED REFDR V3.0"
DETECTOR_ID = MEX_HRSC_RED
EVENT_TYPE = "MARS-REGIONAL-MAPPING-Te-Im-Pf"
INSTRUMENT_HOST_ID = MEX
INSTRUMENT_HOST_NAME = "MARS EXPRESS"
INSTRUMENT_ID = HRSC
INSTRUMENT_NAME = "HIGH RESOLUTION STEREO CAMERA"
MISSION_NAME = "MARS EXPRESS"
MISSION_PHASE_NAME = ME_Phase_12
PROCESSING_LEVEL_ID = 3
PRODUCT_CREATION_TIME = 2016-05-14T17:13:02.000Z
PRODUCT_ID = "H5476_0000_RE3.JP2"
RELEASE_ID = 0062
REVISION_ID = 0000
/* QUALITY DATA ELEMENTS */
DATA_QUALITY_ID = 1
DATA_QUALITY_DESC = "Data calculated based on original SPICE kernels"
/* TIME DATA ELEMENTS */
SPACECRAFT_CLOCK_START_COUNT = "1/0155626403.08403"
SPACECRAFT_CLOCK_STOP_COUNT = "1/0155626614.07577"
START_TIME = 2008-04-07T05:34:27.779Z
STOP_TIME = 2008-04-07T05:36:50.304Z
/* ORBITAL DATA ELEMENTS */
ASCENDING_NODE_LONGITUDE = 114.36
MAXIMUM_RESOLUTION = 59.8
FOOTPRINT_POINT_LATITUDE = (71.59,71.5654,71.5204,71.4881,71.4578, 71.5282,71.2563,71.075,70.8029,70.6215, 70.4399,70.1674,69.986,69.8044,69.5319, 69.3501,69.1686,68.9868,68.8051,68.5325 ,68.2598,68.0781,67.8963,67.7147, 67.5329,67.3511,67.1694,66.9876,66.8058 ,66.6244,66.4428,66.2611,65.9886, 65.8067,65.6254,65.4437,65.1717,64.9902 ,64.7183,64.537,64.2651,64.0839,63.9028 ,63.7217,63.5406,63.2691,63.0882, 62.9074,62.7267,62.5459,62.3993,62.4173 ,62.4432,62.473,62.487,62.5054,62.6872, 62.869,63.0509,63.2329,63.4149,63.5972, 63.779,63.9616,64.2353,64.5088,64.783, 64.9657,65.1484,65.3313,65.6056,65.7885 ,65.9717,66.2464,66.4296,66.7045, 66.9795,67.1628,67.3461,67.5296,67.8048 ,67.9883,68.1719,68.4474,68.6311, 68.9067,69.0906,69.3663,69.642,69.8258, 70.0096,70.1928,70.3773,70.6535,70.8374 ,71.0213,71.2053,71.4812,71.6651,71.59)
FOOTPRINT_POINT_LONGITUDE = (339.987,339.429,338.488,337.863, 337.308,336.488,336.663,336.776,336.941 ,337.048,337.153,337.307,337.406, 337.503,337.646,337.739,337.83,337.919, 338.006,338.134,338.258,338.339,338.418 ,338.495,338.571,338.646,338.72,338.792 ,338.862,338.931,338.999,339.066, 339.164,339.229,339.291,339.352,339.443 ,339.501,339.587,339.644,339.726,339.78 ,339.833,339.885,339.936,340.011,340.06 ,340.108,340.155,340.201,340.366, 340.748,341.333,342.07,342.451,342.968, 342.937,342.905,342.873,342.84,342.807, 342.773,342.739,342.704,342.651,342.596 ,342.54,342.502,342.463,342.424,342.363 ,342.322,342.281,342.217,342.173, 342.107,342.038,341.991,341.944,341.896 ,341.821,341.771,341.719,341.64,341.586 ,341.504,341.447,341.361,341.271,341.21 ,341.148,341.084,341.02,340.921,340.852 ,340.783,340.712,340.603,340.528, 339.987)
ORBIT_NUMBER = 5476
ORBITAL_ECCENTRICITY = 0.568
ORBITAL_INCLINATION = 86.76
ORBITAL_SEMIMAJOR_AXIS = 8648.81
PERIAPSIS_ALTITUDE = 352.87
PERIAPSIS_ARGUMENT_ANGLE = 114.96
PERIAPSIS_TIME = 2008-04-07T05:35:46.000Z
SPACECRAFT_ORIENTATION = (0.0,-1.0,0.0)
^MEX_ORIENTATION_DESC = "MEX_ORIENTATION_DESC.TXT"
SPACECRAFT_POINTING_MODE = ACROSSTRACK
^MEX_POINTING_DESC = "MEX_POINTING_DESC.TXT"
RIGHT_ASCENSION = -1e+32
DECLINATION = -1e+32
OFFSET_ANGLE = -0.1
SPACECRAFT_SOLAR_DISTANCE = 2.4827e+08
TARGET_NAME = MARS
/* CAMERA DATA ELEMENTS */
DETECTOR_TEMPERATURE = 18.3705
FOCAL_PLANE_TEMPERATURE = 7.9716
INST_CMPRS_NAME = "DISCRETE COSINE TRANSFORMATION (DCT)"
INST_CMPRS_RATIO = 23.6957
INST_CMPRS_QUALITY = 0
INST_CMPRS_QUANTZ_TBL_ID = 0
INSTRUMENT_TEMPERATURE = 11.234
LENS_TEMPERATURE = 8.5833
MACROPIXEL_SIZE = 4
MISSING_FRAMES = 0
PIXEL_SUBSAMPLING_FLAG = N
SIGNAL_CHAIN_ID = 2
/* RADIOMETRIC DATA ELEMENTS */
BANDWIDTH = 48.0
CENTER_FILTER_WAVELENGTH = 748.0
RADIANCE_OFFSET = 1.08357
RADIANCE_SCALING_FACTOR = 0.00667744
REFLECTANCE_SCALING_FACTOR = 0.000939257
MEX:REFLECTANCE_OFFSET = 0.152416
/* IMAGE OBJECT DEFINITIONS */
OBJECT = IMAGE
  INTERCHANGE_FORMAT = BINARY
  LINES = 11076
  LINE_SAMPLES = 2945
  SAMPLE_TYPE = UNSIGNED_INTEGER
  SAMPLE_BITS = 8
  BANDS = 1
  BAND_STORAGE_TYPE = BAND_SEQUENTIAL
  MAXIMUM = 255
  MEAN = 110.57
  MINIMUM = 1
  STANDARD_DEVIATION = 72.8961
END_OBJECT = IMAGE
/* MAP OBJECT DEFINITIONS */
OBJECT = IMAGE_MAP_PROJECTION
  ^DATA_SET_MAP_PROJECTION_CATALOG= "DSMAP.CAT"
  A_AXIS_RADIUS = 3396.0
  B_AXIS_RADIUS = 3396.0
  C_AXIS_RADIUS = 3396.0
  CENTER_LATITUDE = 0.0
  CENTER_LONGITUDE = 340.0
  COORDINATE_SYSTEM_NAME = PLANETOGRAPHIC
  COORDINATE_SYSTEM_TYPE = "BODY-FIXED ROTATING"
  EASTERNMOST_LONGITUDE = 342.968
  FIRST_STANDARD_PARALLEL = "N/A"
  LINE_FIRST_PIXEL = 1
  LINE_LAST_PIXEL = 11076
  LINE_PROJECTION_OFFSET = 85013.625
  MAP_PROJECTION_ROTATION = 0.0
  MAP_PROJECTION_TYPE = SINUSOIDAL
  MAP_RESOLUTION = 1185.42760773333
  MAP_SCALE = 0.05
  MAXIMUM_LATITUDE = 71.6651
  MINIMUM_LATITUDE = 62.3993
  POSITIVE_LONGITUDE_DIRECTION = EAST
  REFERENCE_LATITUDE = "N/A"
  REFERENCE_LONGITUDE = "N/A"
  SAMPLE_FIRST_PIXEL = 1
  SAMPLE_LAST_PIXEL = 2945
  SAMPLE_PROJECTION_OFFSET = 1322.625
  SECOND_STANDARD_PARALLEL = "N/A"
  WESTERNMOST_LONGITUDE = 336.488
END_OBJECT = IMAGE_MAP_PROJECTION
/* The JPEG2000 image data file associated with this label. */
OBJECT = COMPRESSED_FILE
  FILE_NAME = "H5476_0000_RE3.JP2"
  RECORD_TYPE = UNDEFINED
  FILE_RECORDS = UNK
  ENCODING_TYPE = "JP2"
  INTERCHANGE_FORMAT = BINARY
  UNCOMPRESSED_FILE_NAME = "H5476_0000_RE3.IMG"
  REQUIRED_STORAGE_BYTES = "32642380"
  ^DESCRIPTION = "JP2INFO.TXT"
END_OBJECT = COMPRESSED_FILE
END
