PDS_VERSION_ID = PDS3
/* FILE DATA ELEMENTS */
RECORD_TYPE = STREAM
/* POINTERS TO DATA OBJECTS */
^COMPRESSED_FILE = "H5479_0000_S23.JP2"
/* IDENTIFICATION DATA ELEMENTS */
DATA_SET_ID = "MEX-M-HRSC-5-REFDR-MAPPROJECTED-V3.0"
DATA_SET_NAME = "MARS EXPRESS HRSC MAP PROJECTED REFDR V3.0"
DETECTOR_ID = MEX_HRSC_S2
EVENT_TYPE = "MARS-REGIONAL-MAPPING-Gl-La"
INSTRUMENT_HOST_ID = MEX
INSTRUMENT_HOST_NAME = "MARS EXPRESS"
INSTRUMENT_ID = HRSC
INSTRUMENT_NAME = "HIGH RESOLUTION STEREO CAMERA"
MISSION_NAME = "MARS EXPRESS"
MISSION_PHASE_NAME = ME_Phase_12
PROCESSING_LEVEL_ID = 3
PRODUCT_CREATION_TIME = 2016-05-14T17:13:02.000Z
PRODUCT_ID = "H5479_0000_S23.JP2"
RELEASE_ID = 0062
REVISION_ID = 0000
/* QUALITY DATA ELEMENTS */
DATA_QUALITY_ID = 1
DATA_QUALITY_DESC = "Data calculated based on original SPICE kernels"
/* TIME DATA ELEMENTS */
SPACECRAFT_CLOCK_START_COUNT = "1/0155699900.08246"
SPACECRAFT_CLOCK_STOP_COUNT = "1/0155700199.30080"
START_TIME = 2008-04-08T02:00:16.467Z
STOP_TIME = 2008-04-08T02:03:21.222Z
/* ORBITAL DATA ELEMENTS */
ASCENDING_NODE_LONGITUDE = 114.29
MAXIMUM_RESOLUTION = 35.2
FOOTPRINT_POINT_LATITUDE = (84.7133,84.6997,84.6701,84.6253, 84.5666,84.495,84.4201,84.667,85.0298, 85.2683,85.5012,85.7279,85.9532,86.1718 ,86.3822,86.5853,86.7814,87.056,87.2229 ,87.3766,87.5146,87.6327,87.7289, 87.8286,87.8689,87.8468,87.7991,87.6817 ,87.5763,87.3903,87.1714,87.0106, 86.8408,86.6665,86.4867,86.3019,86.1104 ,85.9152,85.6184,85.4206,85.2209, 84.9155,84.7097,84.3993,83.9895,83.783, 83.5754,83.3669,83.1576,82.9269,83.0096 ,83.0871,83.1592,83.2525,83.3091, 83.4562,83.6758,83.8956,84.1154,84.3351 ,84.5546,84.8837,85.2183,85.443,85.6671 ,85.892,86.1168,86.3391,86.5667,86.7959 ,87.0248,87.2528,87.481,87.7085,87.9399 ,88.1708,88.4005,88.7394,88.9621,89.181 ,89.3823,89.5432,89.5935,89.3764, 89.0595,88.8312,88.5951,88.352,87.9835, 87.737,87.3581,87.104,86.8508,86.4659, 86.2062,85.9446,85.5512,85.2874,85.0165 ,84.7133)
FOOTPRINT_POINT_LONGITUDE = (234.596,239.237,242.363,245.388, 248.298,251.091,253.27,254.362,256.172, 257.531,259.028,260.651,262.5,264.53, 266.788,269.292,272.123,277.026,280.754 ,284.942,289.634,294.775,300.348, 309.493,319.209,328.835,335.027,343.686 ,348.912,355.71,361.543,364.938,367.972 ,370.639,373.025,375.173,377.117, 378.875,381.196,382.552,383.794,385.472 ,386.481,387.848,389.417,390.122, 390.781,391.398,391.976,393.053,394.834 ,396.692,398.63,401.569,403.719,405.382 ,405.266,405.145,405.015,404.873,404.72 ,404.464,404.166,403.941,403.688, 403.418,403.118,402.75,402.344,401.885, 401.354,400.728,400.0,399.121,398.01, 396.624,394.845,390.937,386.923,380.63, 369.999,350.684,301.76,267.439,253.279, 248.283,244.905,242.478,239.938,238.725 ,237.267,236.518,235.915,235.15,234.721 ,234.319,233.824,233.566,233.252, 234.596)
ORBIT_NUMBER = 5479
ORBITAL_ECCENTRICITY = 0.569
ORBITAL_INCLINATION = 86.75
ORBITAL_SEMIMAJOR_AXIS = 8651.97
PERIAPSIS_ALTITUDE = 353.04
PERIAPSIS_ARGUMENT_ANGLE = 114.45
PERIAPSIS_TIME = 2008-04-08T02:07:17.000Z
SPACECRAFT_ORIENTATION = (0.0,-1.0,0.0)
^MEX_ORIENTATION_DESC = "MEX_ORIENTATION_DESC.TXT"
SPACECRAFT_POINTING_MODE = ACROSSTRACK
^MEX_POINTING_DESC = "MEX_POINTING_DESC.TXT"
RIGHT_ASCENSION = -1e+32
DECLINATION = -1e+32
OFFSET_ANGLE = 1.831
SPACECRAFT_SOLAR_DISTANCE = 2.48314e+08
TARGET_NAME = MARS
/* CAMERA DATA ELEMENTS */
DETECTOR_TEMPERATURE = 18.3705
FOCAL_PLANE_TEMPERATURE = 7.5638
INST_CMPRS_NAME = "DISCRETE COSINE TRANSFORMATION (DCT)"
INST_CMPRS_RATIO = 11.574
INST_CMPRS_QUALITY = 0
INST_CMPRS_QUANTZ_TBL_ID = 0
INSTRUMENT_TEMPERATURE = 11.0301
LENS_TEMPERATURE = 7.7677
MACROPIXEL_SIZE = 2
MISSING_FRAMES = 0
PIXEL_SUBSAMPLING_FLAG = N
SIGNAL_CHAIN_ID = 1
/* RADIOMETRIC DATA ELEMENTS */
BANDWIDTH = 178.0
CENTER_FILTER_WAVELENGTH = 679.0
RADIANCE_OFFSET = 2.43537
RADIANCE_SCALING_FACTOR = 0.028822
REFLECTANCE_SCALING_FACTOR = 0.000941144
MEX:REFLECTANCE_OFFSET = 0.0795239
/* IMAGE OBJECT DEFINITIONS */
OBJECT = IMAGE
  INTERCHANGE_FORMAT = BINARY
  LINES = 21684
  LINE_SAMPLES = 24415
  SAMPLE_TYPE = UNSIGNED_INTEGER
  SAMPLE_BITS = 8
  BANDS = 1
  BAND_STORAGE_TYPE = BAND_SEQUENTIAL
  MAXIMUM = 255
  MEAN = 174.098
  MINIMUM = 1
  STANDARD_DEVIATION = 41.4316
END_OBJECT = IMAGE
/* MAP OBJECT DEFINITIONS */
OBJECT = IMAGE_MAP_PROJECTION
  ^DATA_SET_MAP_PROJECTION_CATALOG= "DSMAP.CAT"
  A_AXIS_RADIUS = 3396.0
  B_AXIS_RADIUS = 3396.0
  C_AXIS_RADIUS = 3396.0
  CENTER_LATITUDE = 90.0
  CENTER_LONGITUDE = 0.0
  COORDINATE_SYSTEM_NAME = PLANETOGRAPHIC
  COORDINATE_SYSTEM_TYPE = "BODY-FIXED ROTATING"
  EASTERNMOST_LONGITUDE = 45.382
  FIRST_STANDARD_PARALLEL = "N/A"
  LINE_FIRST_PIXEL = 1
  LINE_LAST_PIXEL = 21684
  LINE_PROJECTION_OFFSET = 7402.75
  MAP_PROJECTION_ROTATION = 0.0
  MAP_PROJECTION_TYPE = STEREOGRAPHIC
  MAP_RESOLUTION = 2370.85521546667
  MAP_SCALE = 0.025
  MAXIMUM_LATITUDE = 89.59350000000001
  MINIMUM_LATITUDE = 82.9269
  POSITIVE_LONGITUDE_DIRECTION = EAST
  REFERENCE_LATITUDE = "N/A"
  REFERENCE_LONGITUDE = "N/A"
  SAMPLE_FIRST_PIXEL = 1
  SAMPLE_LAST_PIXEL = 24415
  SAMPLE_PROJECTION_OFFSET = 13236.75
  SECOND_STANDARD_PARALLEL = "N/A"
  WESTERNMOST_LONGITUDE = -126.748
END_OBJECT = IMAGE_MAP_PROJECTION
/* The JPEG2000 image data file associated with this label. */
OBJECT = COMPRESSED_FILE
  FILE_NAME = "H5479_0000_S23.JP2"
  RECORD_TYPE = UNDEFINED
  FILE_RECORDS = UNK
  ENCODING_TYPE = "JP2"
  INTERCHANGE_FORMAT = BINARY
  UNCOMPRESSED_FILE_NAME = "H5479_0000_S23.IMG"
  REQUIRED_STORAGE_BYTES = "529488105"
  ^DESCRIPTION = "JP2INFO.TXT"
END_OBJECT = COMPRESSED_FILE
END
