PDS_VERSION_ID = PDS3
/* FILE DATA ELEMENTS */
RECORD_TYPE = STREAM
/* POINTERS TO DATA OBJECTS */
^COMPRESSED_FILE = "H5481_0000_S23.JP2"
/* IDENTIFICATION DATA ELEMENTS */
DATA_SET_ID = "MEX-M-HRSC-5-REFDR-MAPPROJECTED-V3.0"
DATA_SET_NAME = "MARS EXPRESS HRSC MAP PROJECTED REFDR V3.0"
DETECTOR_ID = MEX_HRSC_S2
EVENT_TYPE = "MARS-REGIONAL-MAPPING-Gl-La"
INSTRUMENT_HOST_ID = MEX
INSTRUMENT_HOST_NAME = "MARS EXPRESS"
INSTRUMENT_ID = HRSC
INSTRUMENT_NAME = "HIGH RESOLUTION STEREO CAMERA"
MISSION_NAME = "MARS EXPRESS"
MISSION_PHASE_NAME = ME_Phase_12
PROCESSING_LEVEL_ID = 3
PRODUCT_CREATION_TIME = 2016-05-14T17:13:02.000Z
PRODUCT_ID = "H5481_0000_S23.JP2"
RELEASE_ID = 0062
REVISION_ID = 0000
/* QUALITY DATA ELEMENTS */
DATA_QUALITY_ID = 1
DATA_QUALITY_DESC = "Data calculated based on original SPICE kernels"
/* TIME DATA ELEMENTS */
SPACECRAFT_CLOCK_START_COUNT = "1/0155749177.07308"
SPACECRAFT_CLOCK_STOP_COUNT = "1/0155749438.40582"
START_TIME = 2008-04-08T15:41:28.704Z
STOP_TIME = 2008-04-08T15:44:00.316Z
/* ORBITAL DATA ELEMENTS */
ASCENDING_NODE_LONGITUDE = 114.25
MAXIMUM_RESOLUTION = 35.5
FOOTPRINT_POINT_LATITUDE = (85.0582,84.9842,84.8972,84.7981, 84.6883,84.5684,84.4157,84.5995,84.7774 ,84.9524,85.1243,85.293,85.4555,85.6123 ,85.8393,85.984,86.1211,86.2497,86.3733 ,86.4874,86.5928,86.6883,86.8103, 86.8782,86.9342,86.9775,87.0075,87.0242 ,87.0277,87.0086,86.9384,86.8559, 86.7876,86.6666,86.5746,86.4223,86.3138 ,86.1392,86.0199,85.8911,85.7563, 85.6188,85.4156,85.2019,85.0554,84.8313 ,84.678,84.4465,84.1381,84.2554,84.4561 ,84.5649,84.6432,84.7168,84.7953, 85.1361,85.4881,85.6646,85.84,86.1015, 86.2764,86.6174,86.7906,87.0467,87.2136 ,87.3789,87.5391,87.6962,87.8501, 87.9987,88.1387,88.2683,88.3852,88.4869 ,88.5704,88.6312,88.6643,88.669,88.6448 ,88.5929,88.5144,88.4137,88.2948, 88.1615,88.0166,87.8589,87.6087,87.4343 ,87.1648,86.9789,86.7885,86.5951, 86.4007,86.1036,85.9001,85.697,85.4924, 85.2868,85.0767,85.0582)
FOOTPRINT_POINT_LONGITUDE = (46.9051,49.9357,52.8384,55.6065, 58.2345,60.7276,62.8541,64.0737,65.3548 ,66.7266,68.1982,69.7797,71.454,73.2338 ,76.1613,78.296,80.5592,82.9465,85.5537 ,88.2973,91.217,94.2971,99.1596,102.617 ,106.233,109.937,113.695,117.458, 121.254,126.917,134.255,139.378,142.626 ,147.227,150.101,154.096,156.525, 159.901,161.933,163.896,165.752,167.476 ,169.772,171.894,173.209,175.037, 176.174,177.747,179.612,181.538,185.279 ,187.633,189.516,191.474,193.871,192.77 ,191.503,190.79,190.015,188.722,187.767 ,185.522,184.201,181.93,180.185,178.221 ,175.995,173.455,170.486,167.064, 163.113,158.547,153.284,147.248,140.3, 132.574,124.338,115.855,107.482,99.5405 ,92.1302,85.585,79.8614,74.966,70.7523, 66.9951,62.43,59.8587,56.6192,54.7761, 53.1346,51.6599,50.3644,48.6407,47.6082 ,46.698,45.8613,45.0949,44.3844, 46.9051)
ORBIT_NUMBER = 5481
ORBITAL_ECCENTRICITY = 0.568
ORBITAL_INCLINATION = 86.76
ORBITAL_SEMIMAJOR_AXIS = 8646.68
PERIAPSIS_ALTITUDE = 352.85
PERIAPSIS_ARGUMENT_ANGLE = 114.09
PERIAPSIS_TIME = 2008-04-08T15:48:16.000Z
SPACECRAFT_ORIENTATION = (0.0,-1.0,0.0)
^MEX_ORIENTATION_DESC = "MEX_ORIENTATION_DESC.TXT"
SPACECRAFT_POINTING_MODE = ACROSSTRACK
^MEX_POINTING_DESC = "MEX_POINTING_DESC.TXT"
RIGHT_ASCENSION = -1e+32
DECLINATION = -1e+32
OFFSET_ANGLE = 1.0
SPACECRAFT_SOLAR_DISTANCE = 2.48344e+08
TARGET_NAME = MARS
/* CAMERA DATA ELEMENTS */
DETECTOR_TEMPERATURE = 18.3705
FOCAL_PLANE_TEMPERATURE = 7.3599
INST_CMPRS_NAME = "DISCRETE COSINE TRANSFORMATION (DCT)"
INST_CMPRS_RATIO = 11.58
INST_CMPRS_QUALITY = 0
INST_CMPRS_QUANTZ_TBL_ID = 0
INSTRUMENT_TEMPERATURE = 10.8262
LENS_TEMPERATURE = 7.9716
MACROPIXEL_SIZE = 2
MISSING_FRAMES = 0
PIXEL_SUBSAMPLING_FLAG = N
SIGNAL_CHAIN_ID = 1
/* RADIOMETRIC DATA ELEMENTS */
BANDWIDTH = 178.0
CENTER_FILTER_WAVELENGTH = 679.0
RADIANCE_OFFSET = 4.16923
RADIANCE_SCALING_FACTOR = 0.0337898
REFLECTANCE_SCALING_FACTOR = 0.00110362
MEX:REFLECTANCE_OFFSET = 0.136173
/* IMAGE OBJECT DEFINITIONS */
OBJECT = IMAGE
  INTERCHANGE_FORMAT = BINARY
  LINES = 22351
  LINE_SAMPLES = 14955
  SAMPLE_TYPE = UNSIGNED_INTEGER
  SAMPLE_BITS = 8
  BANDS = 1
  BAND_STORAGE_TYPE = BAND_SEQUENTIAL
  MAXIMUM = 255
  MEAN = 91.5752
  MINIMUM = 1
  STANDARD_DEVIATION = 32.349
END_OBJECT = IMAGE
/* MAP OBJECT DEFINITIONS */
OBJECT = IMAGE_MAP_PROJECTION
  ^DATA_SET_MAP_PROJECTION_CATALOG= "DSMAP.CAT"
  A_AXIS_RADIUS = 3396.0
  B_AXIS_RADIUS = 3396.0
  C_AXIS_RADIUS = 3396.0
  CENTER_LATITUDE = 90.0
  CENTER_LONGITUDE = 0.0
  COORDINATE_SYSTEM_NAME = PLANETOGRAPHIC
  COORDINATE_SYSTEM_TYPE = "BODY-FIXED ROTATING"
  EASTERNMOST_LONGITUDE = 193.871
  FIRST_STANDARD_PARALLEL = "N/A"
  LINE_FIRST_PIXEL = 1
  LINE_LAST_PIXEL = 22351
  LINE_PROJECTION_OFFSET = 13944.25
  MAP_PROJECTION_ROTATION = 0.0
  MAP_PROJECTION_TYPE = STEREOGRAPHIC
  MAP_RESOLUTION = 2370.85521546667
  MAP_SCALE = 0.025
  MAXIMUM_LATITUDE = 88.669
  MINIMUM_LATITUDE = 84.13809999999999
  POSITIVE_LONGITUDE_DIRECTION = EAST
  REFERENCE_LATITUDE = "N/A"
  REFERENCE_LONGITUDE = "N/A"
  SAMPLE_FIRST_PIXEL = 1
  SAMPLE_LAST_PIXEL = 14955
  SAMPLE_PROJECTION_OFFSET = 2831.25
  SECOND_STANDARD_PARALLEL = "N/A"
  WESTERNMOST_LONGITUDE = 44.3844
END_OBJECT = IMAGE_MAP_PROJECTION
/* The JPEG2000 image data file associated with this label. */
OBJECT = COMPRESSED_FILE
  FILE_NAME = "H5481_0000_S23.JP2"
  RECORD_TYPE = UNDEFINED
  FILE_RECORDS = UNK
  ENCODING_TYPE = "JP2"
  INTERCHANGE_FORMAT = BINARY
  UNCOMPRESSED_FILE_NAME = "H5481_0000_S23.IMG"
  REQUIRED_STORAGE_BYTES = "334304070"
  ^DESCRIPTION = "JP2INFO.TXT"
END_OBJECT = COMPRESSED_FILE
END
