PDS_VERSION_ID = PDS3
/* FILE DATA ELEMENTS */
RECORD_TYPE = STREAM
/* POINTERS TO DATA OBJECTS */
^COMPRESSED_FILE = "H5483_0000_RE3.JP2"
/* IDENTIFICATION DATA ELEMENTS */
DATA_SET_ID = "MEX-M-HRSC-5-REFDR-MAPPROJECTED-V3.0"
DATA_SET_NAME = "MARS EXPRESS HRSC MAP PROJECTED REFDR V3.0"
DETECTOR_ID = MEX_HRSC_RED
EVENT_TYPE = "MARS-REGIONAL-MAPPING-Gl-Pf-Eo"
INSTRUMENT_HOST_ID = MEX
INSTRUMENT_HOST_NAME = "MARS EXPRESS"
INSTRUMENT_ID = HRSC
INSTRUMENT_NAME = "HIGH RESOLUTION STEREO CAMERA"
MISSION_NAME = "MARS EXPRESS"
MISSION_PHASE_NAME = ME_Phase_12
PROCESSING_LEVEL_ID = 3
PRODUCT_CREATION_TIME = 2016-05-14T17:13:02.000Z
PRODUCT_ID = "H5483_0000_RE3.JP2"
RELEASE_ID = 0062
REVISION_ID = 0000
/* QUALITY DATA ELEMENTS */
DATA_QUALITY_ID = 1
DATA_QUALITY_DESC = "Data calculated based on original SPICE kernels"
/* TIME DATA ELEMENTS */
SPACECRAFT_CLOCK_START_COUNT = "1/0155798650.09053"
SPACECRAFT_CLOCK_STOP_COUNT = "1/0155798941.48246"
START_TIME = 2008-04-09T05:25:26.319Z
STOP_TIME = 2008-04-09T05:28:57.922Z
/* ORBITAL DATA ELEMENTS */
ASCENDING_NODE_LONGITUDE = 114.22
MAXIMUM_RESOLUTION = 53
FOOTPRINT_POINT_LATITUDE = (82.9381,82.8731,82.8036,82.7299, 82.6523,82.5709,82.3214,82.0468,81.7705 ,81.353,80.9328,80.5094,80.2261,79.9412 ,79.6554,79.3686,79.0861,78.7968, 78.5075,78.2183,77.783,77.4917,77.2, 76.9079,76.4688,76.1759,75.7356,75.4416 ,75.1654,74.9187,74.5486,74.3015, 74.0542,73.807,73.5597,73.3121,72.9407, 72.693,72.4452,72.0732,71.8253,71.5773, 71.3294,71.0815,70.8335,70.5856,70.3376 ,70.0896,69.8415,69.4881,69.2214, 69.2021,69.2489,69.2859,69.333,69.4782, 69.8532,70.2285,70.6039,70.9796,71.2301 ,71.4808,71.7314,72.1074,72.3581, 72.6088,72.8596,73.2356,73.4877,73.863, 74.1139,74.3648,74.7413,74.9921,75.243, 75.4938,75.7897,76.0889,76.3882,76.6875 ,76.9865,77.2853,77.5841,78.0322, 78.3294,78.6277,79.0721,79.1013,79.5162 ,79.9616,80.2587,80.5542,80.9982, 81.2939,81.5891,82.0315,82.3259,82.6198 ,83.0597,82.9381)
FOOTPRINT_POINT_LONGITUDE = (353.694,352.088,350.526,349.008, 347.535,346.105,345.339,346.217,347.034 ,348.159,349.177,350.103,350.674, 351.212,351.72,352.2,352.648,353.078, 353.486,353.871,354.414,354.754,355.078 ,355.387,355.823,356.097,356.486, 356.731,356.952,357.141,357.413,357.587 ,357.754,357.916,358.073,358.224, 358.442,358.582,358.717,358.912,359.036 ,359.158,359.275,359.389,359.499, 359.606,359.71,359.811,359.909,359.954, 360.142,360.679,361.538,362.278,363.31, 363.753,363.68,363.604,363.525,363.443, 363.386,363.327,363.267,363.173,363.108 ,363.04,362.971,362.862,362.79,362.67, 362.589,362.505,362.373,362.281,362.186 ,362.087,361.966,361.837,361.703, 361.563,361.416,361.261,361.099,360.84, 360.652,360.458,360.137,359.083,359.789 ,359.416,359.15,358.862,358.398,358.063 ,357.704,357.117,356.687,356.223, 355.455,353.694)
ORBIT_NUMBER = 5483
ORBITAL_ECCENTRICITY = 0.568
ORBITAL_INCLINATION = 86.75
ORBITAL_SEMIMAJOR_AXIS = 8648.76
PERIAPSIS_ALTITUDE = 353.58
PERIAPSIS_ARGUMENT_ANGLE = 113.72
PERIAPSIS_TIME = 2008-04-09T05:29:18.000Z
SPACECRAFT_ORIENTATION = (0.0,-1.0,0.0)
^MEX_ORIENTATION_DESC = "MEX_ORIENTATION_DESC.TXT"
SPACECRAFT_POINTING_MODE = ACROSSTRACK
^MEX_POINTING_DESC = "MEX_POINTING_DESC.TXT"
RIGHT_ASCENSION = -1e+32
DECLINATION = -1e+32
OFFSET_ANGLE = 0.808
SPACECRAFT_SOLAR_DISTANCE = 2.48372e+08
TARGET_NAME = MARS
/* CAMERA DATA ELEMENTS */
DETECTOR_TEMPERATURE = 18.3705
FOCAL_PLANE_TEMPERATURE = 7.7677
INST_CMPRS_NAME = "DISCRETE COSINE TRANSFORMATION (DCT)"
INST_CMPRS_RATIO = 13.8278
INST_CMPRS_QUALITY = 0
INST_CMPRS_QUANTZ_TBL_ID = 0
INSTRUMENT_TEMPERATURE = 11.0301
LENS_TEMPERATURE = 8.1755
MACROPIXEL_SIZE = 4
MISSING_FRAMES = 0
PIXEL_SUBSAMPLING_FLAG = N
SIGNAL_CHAIN_ID = 2
/* RADIOMETRIC DATA ELEMENTS */
BANDWIDTH = 48.0
CENTER_FILTER_WAVELENGTH = 748.0
RADIANCE_OFFSET = 2.1834
RADIANCE_SCALING_FACTOR = 0.00775965
REFLECTANCE_SCALING_FACTOR = 0.00109239
MEX:REFLECTANCE_OFFSET = 0.307375
/* IMAGE OBJECT DEFINITIONS */
OBJECT = IMAGE
  INTERCHANGE_FORMAT = BINARY
  LINES = 16452
  LINE_SAMPLES = 4243
  SAMPLE_TYPE = UNSIGNED_INTEGER
  SAMPLE_BITS = 8
  BANDS = 1
  BAND_STORAGE_TYPE = BAND_SEQUENTIAL
  MAXIMUM = 255
  MEAN = 66.597
  MINIMUM = 1
  STANDARD_DEVIATION = 23.4545
END_OBJECT = IMAGE
/* MAP OBJECT DEFINITIONS */
OBJECT = IMAGE_MAP_PROJECTION
  ^DATA_SET_MAP_PROJECTION_CATALOG= "DSMAP.CAT"
  A_AXIS_RADIUS = 3396.0
  B_AXIS_RADIUS = 3396.0
  C_AXIS_RADIUS = 3396.0
  CENTER_LATITUDE = 0.0
  CENTER_LONGITUDE = 359.0
  COORDINATE_SYSTEM_NAME = PLANETOGRAPHIC
  COORDINATE_SYSTEM_TYPE = "BODY-FIXED ROTATING"
  EASTERNMOST_LONGITUDE = 3.753
  FIRST_STANDARD_PARALLEL = "N/A"
  LINE_FIRST_PIXEL = 1
  LINE_LAST_PIXEL = 16452
  LINE_PROJECTION_OFFSET = 98462.375
  MAP_PROJECTION_ROTATION = 0.0
  MAP_PROJECTION_TYPE = SINUSOIDAL
  MAP_RESOLUTION = 1185.42760773333
  MAP_SCALE = 0.05
  MAXIMUM_LATITUDE = 83.05970000000001
  MINIMUM_LATITUDE = 69.2021
  POSITIVE_LONGITUDE_DIRECTION = EAST
  REFERENCE_LATITUDE = "N/A"
  REFERENCE_LONGITUDE = "N/A"
  SAMPLE_FIRST_PIXEL = 1
  SAMPLE_LAST_PIXEL = 4243
  SAMPLE_PROJECTION_OFFSET = 2280.875
  SECOND_STANDARD_PARALLEL = "N/A"
  WESTERNMOST_LONGITUDE = -14.661
END_OBJECT = IMAGE_MAP_PROJECTION
/* The JPEG2000 image data file associated with this label. */
OBJECT = COMPRESSED_FILE
  FILE_NAME = "H5483_0000_RE3.JP2"
  RECORD_TYPE = UNDEFINED
  FILE_RECORDS = UNK
  ENCODING_TYPE = "JP2"
  INTERCHANGE_FORMAT = BINARY
  UNCOMPRESSED_FILE_NAME = "H5483_0000_RE3.IMG"
  REQUIRED_STORAGE_BYTES = "69831294"
  ^DESCRIPTION = "JP2INFO.TXT"
END_OBJECT = COMPRESSED_FILE
END
