PDS_VERSION_ID = PDS3
/* FILE DATA ELEMENTS */
RECORD_TYPE = STREAM
/* POINTERS TO DATA OBJECTS */
^COMPRESSED_FILE = "H5485_0000_GR3.JP2"
/* IDENTIFICATION DATA ELEMENTS */
DATA_SET_ID = "MEX-M-HRSC-5-REFDR-MAPPROJECTED-V3.0"
DATA_SET_NAME = "MARS EXPRESS HRSC MAP PROJECTED REFDR V3.0"
DETECTOR_ID = MEX_HRSC_GREEN
EVENT_TYPE = "MARS-REGIONAL-COLOR-Vo-Pf-Eo"
INSTRUMENT_HOST_ID = MEX
INSTRUMENT_HOST_NAME = "MARS EXPRESS"
INSTRUMENT_ID = HRSC
INSTRUMENT_NAME = "HIGH RESOLUTION STEREO CAMERA"
MISSION_NAME = "MARS EXPRESS"
MISSION_PHASE_NAME = ME_Phase_12
PROCESSING_LEVEL_ID = 3
PRODUCT_CREATION_TIME = 2016-05-14T17:13:02.000Z
PRODUCT_ID = "H5485_0000_GR3.JP2"
RELEASE_ID = 0062
REVISION_ID = 0000
/* QUALITY DATA ELEMENTS */
DATA_QUALITY_ID = 2
DATA_QUALITY_DESC = "Data calculated based on photogrammetrically improved orbit and attitude data"
/* TIME DATA ELEMENTS */
SPACECRAFT_CLOCK_START_COUNT = "1/0155847886.09068"
SPACECRAFT_CLOCK_STOP_COUNT = "1/0155848116.50376"
START_TIME = 2008-04-09T19:05:25.753Z
STOP_TIME = 2008-04-09T19:07:58.869Z
/* ORBITAL DATA ELEMENTS */
ASCENDING_NODE_LONGITUDE = 114.17
MAXIMUM_RESOLUTION = 60.4
FOOTPRINT_POINT_LATITUDE = (84.9721,84.8917,84.8039,84.709,84.608, 84.5011,84.3886,84.0763,83.9063,83.6484 ,83.478,83.306,83.1324,82.9574,82.7811, 82.5148,82.3401,82.1644,81.9877,81.8102 ,81.6318,81.4525,81.1836,80.8303, 80.4746,80.1167,79.7568,79.3949,79.2133 ,79.0313,78.7575,78.5746,78.3912, 78.2075,78.0234,77.839,77.6543,77.4693, 77.2839,77.0983,76.9124,76.7263,76.5398 ,76.3532,76.1662,75.8854,75.6979, 75.5101,75.3222,75.3447,75.3819,75.4343 ,75.4586,75.5775,75.769,75.9604,76.1516 ,76.3426,76.5336,76.7244,76.9151, 77.1056,77.2961,77.4863,77.6764,77.8663 ,78.0562,78.2458,78.4353,78.6245, 78.8137,79.0026,79.1914,79.4742,79.6625 ,79.8506,80.0385,80.2262,80.4137,80.601 ,80.788,81.1613,81.5336,81.8174,82.0077 ,82.1977,82.3874,82.5767,82.7656, 82.9542,83.2423,83.4347,83.6267,83.8181 ,84.009,84.1993,84.3917,84.5854,84.7786 ,84.9721)
FOOTPRINT_POINT_LONGITUDE = (148.416,146.065,143.809,141.648, 139.586,137.618,135.739,136.85,137.873, 139.299,140.167,140.991,141.774,142.518 ,143.226,144.223,144.834,145.418, 145.976,146.51,147.021,147.511,148.205, 149.047,149.826,150.548,151.219,151.843 ,152.139,152.425,152.836,153.099, 153.353,153.599,153.837,154.068,154.292 ,154.509,154.719,154.923,155.121, 155.313,155.5,155.681,155.857,156.112, 156.276,156.436,156.591,157.853,158.778 ,160.262,161.07,161.868,161.789,161.708 ,161.626,161.541,161.454,161.363,161.27 ,161.174,161.074,160.972,160.867, 160.759,160.647,160.531,160.411,160.289 ,160.161,160.028,159.891,159.676, 159.526,159.37,159.209,159.04,158.865, 158.682,158.492,158.089,157.65,157.288, 157.031,156.761,156.478,156.181,155.869 ,155.541,155.001,154.613,154.201, 153.764,153.299,152.804,152.268,151.686 ,151.085,148.416)
ORBIT_NUMBER = 5485
ORBITAL_ECCENTRICITY = 0.568
ORBITAL_INCLINATION = 86.75
ORBITAL_SEMIMAJOR_AXIS = 8647.57
PERIAPSIS_ALTITUDE = 354.15
PERIAPSIS_ARGUMENT_ANGLE = 113.4
PERIAPSIS_TIME = 2008-04-09T19:10:23.000Z
SPACECRAFT_ORIENTATION = (0.0,-1.0,0.0)
^MEX_ORIENTATION_DESC = "MEX_ORIENTATION_DESC.TXT"
SPACECRAFT_POINTING_MODE = ACROSSTRACK
^MEX_POINTING_DESC = "MEX_POINTING_DESC.TXT"
RIGHT_ASCENSION = -1e+32
DECLINATION = -1e+32
OFFSET_ANGLE = 0.8
SPACECRAFT_SOLAR_DISTANCE = 2.48401e+08
TARGET_NAME = MARS
/* CAMERA DATA ELEMENTS */
DETECTOR_TEMPERATURE = 18.3705
FOCAL_PLANE_TEMPERATURE = 8.1755
INST_CMPRS_NAME = "DISCRETE COSINE TRANSFORMATION (DCT)"
INST_CMPRS_RATIO = 7.34729
INST_CMPRS_QUALITY = 0
INST_CMPRS_QUANTZ_TBL_ID = 0
INSTRUMENT_TEMPERATURE = 11.234
LENS_TEMPERATURE = 8.5833
MACROPIXEL_SIZE = 4
MISSING_FRAMES = 0
PIXEL_SUBSAMPLING_FLAG = N
SIGNAL_CHAIN_ID = 2
/* RADIOMETRIC DATA ELEMENTS */
BANDWIDTH = 88.0
CENTER_FILTER_WAVELENGTH = 538.0
RADIANCE_OFFSET = 2.23601
RADIANCE_SCALING_FACTOR = 0.0129624
REFLECTANCE_SCALING_FACTOR = 0.00068862
MEX:REFLECTANCE_OFFSET = 0.118787
/* IMAGE OBJECT DEFINITIONS */
OBJECT = IMAGE
  INTERCHANGE_FORMAT = BINARY
  LINES = 11529
  LINE_SAMPLES = 4367
  SAMPLE_TYPE = UNSIGNED_INTEGER
  SAMPLE_BITS = 8
  BANDS = 1
  BAND_STORAGE_TYPE = BAND_SEQUENTIAL
  MAXIMUM = 255
  MEAN = 138.002
  MINIMUM = 1
  STANDARD_DEVIATION = 48.8737
END_OBJECT = IMAGE
/* MAP OBJECT DEFINITIONS */
OBJECT = IMAGE_MAP_PROJECTION
  ^DATA_SET_MAP_PROJECTION_CATALOG= "DSMAP.CAT"
  A_AXIS_RADIUS = 3396.0
  B_AXIS_RADIUS = 3396.0
  C_AXIS_RADIUS = 3396.0
  CENTER_LATITUDE = 0.0
  CENTER_LONGITUDE = 155.0
  COORDINATE_SYSTEM_NAME = PLANETOGRAPHIC
  COORDINATE_SYSTEM_TYPE = "BODY-FIXED ROTATING"
  EASTERNMOST_LONGITUDE = 161.868
  FIRST_STANDARD_PARALLEL = "N/A"
  LINE_FIRST_PIXEL = 1
  LINE_LAST_PIXEL = 11529
  LINE_PROJECTION_OFFSET = 100765.125
  MAP_PROJECTION_ROTATION = 0.0
  MAP_PROJECTION_TYPE = SINUSOIDAL
  MAP_RESOLUTION = 1185.42760773333
  MAP_SCALE = 0.05
  MAXIMUM_LATITUDE = 84.9721
  MINIMUM_LATITUDE = 75.3222
  POSITIVE_LONGITUDE_DIRECTION = EAST
  REFERENCE_LATITUDE = "N/A"
  REFERENCE_LONGITUDE = "N/A"
  SAMPLE_FIRST_PIXEL = 1
  SAMPLE_LAST_PIXEL = 4367
  SAMPLE_PROJECTION_OFFSET = 2316.625
  SECOND_STANDARD_PARALLEL = "N/A"
  WESTERNMOST_LONGITUDE = 135.739
END_OBJECT = IMAGE_MAP_PROJECTION
/* The JPEG2000 image data file associated with this label. */
OBJECT = COMPRESSED_FILE
  FILE_NAME = "H5485_0000_GR3.JP2"
  RECORD_TYPE = UNDEFINED
  FILE_RECORDS = UNK
  ENCODING_TYPE = "JP2"
  INTERCHANGE_FORMAT = BINARY
  UNCOMPRESSED_FILE_NAME = "H5485_0000_GR3.IMG"
  REQUIRED_STORAGE_BYTES = "50373345"
  ^DESCRIPTION = "JP2INFO.TXT"
END_OBJECT = COMPRESSED_FILE
END
