PDS_VERSION_ID = PDS3
/* FILE DATA ELEMENTS */
RECORD_TYPE = STREAM
/* POINTERS TO DATA OBJECTS */
^COMPRESSED_FILE = "H5485_0000_S13.JP2"
/* IDENTIFICATION DATA ELEMENTS */
DATA_SET_ID = "MEX-M-HRSC-5-REFDR-MAPPROJECTED-V3.0"
DATA_SET_NAME = "MARS EXPRESS HRSC MAP PROJECTED REFDR V3.0"
DETECTOR_ID = MEX_HRSC_S1
EVENT_TYPE = "MARS-REGIONAL-COLOR-Vo-Pf-Eo"
INSTRUMENT_HOST_ID = MEX
INSTRUMENT_HOST_NAME = "MARS EXPRESS"
INSTRUMENT_ID = HRSC
INSTRUMENT_NAME = "HIGH RESOLUTION STEREO CAMERA"
MISSION_NAME = "MARS EXPRESS"
MISSION_PHASE_NAME = ME_Phase_12
PROCESSING_LEVEL_ID = 3
PRODUCT_CREATION_TIME = 2016-05-14T17:13:02.000Z
PRODUCT_ID = "H5485_0000_S13.JP2"
RELEASE_ID = 0062
REVISION_ID = 0000
/* QUALITY DATA ELEMENTS */
DATA_QUALITY_ID = 2
DATA_QUALITY_DESC = "Data calculated based on photogrammetrically improved orbit and attitude data"
/* TIME DATA ELEMENTS */
SPACECRAFT_CLOCK_START_COUNT = "1/0155847886.09068"
SPACECRAFT_CLOCK_STOP_COUNT = "1/0155848116.50376"
START_TIME = 2008-04-09T19:04:49.889Z
STOP_TIME = 2008-04-09T19:07:29.516Z
/* ORBITAL DATA ELEMENTS */
ASCENDING_NODE_LONGITUDE = 114.17
MAXIMUM_RESOLUTION = 32.8
FOOTPRINT_POINT_LATITUDE = (85.0829,84.9688,84.8774,84.777,84.6685 ,84.5524,84.3111,84.0569,83.8848, 83.7129,83.4553,83.2811,83.105,82.8387, 82.6631,82.4863,82.3081,82.1286,81.9482 ,81.7678,81.5896,81.4106,81.2306, 81.0498,80.8682,80.5957,80.417,80.2376, 80.0576,79.8772,79.6961,79.5144,79.3323 ,78.9756,78.7072,78.5278,78.3475, 78.1669,77.9857,77.8042,77.6223,77.4401 ,77.2574,76.9828,76.7074,76.4311, 76.1542,75.8762,75.5978,75.3083,75.3383 ,75.3704,75.4067,75.434,75.6322,75.8221 ,76.0115,76.2006,76.3898,76.5785, 76.8614,77.144,77.426,77.6136,77.801, 77.9881,78.2683,78.4547,78.641,78.9198, 79.1057,79.291,79.4759,79.6622,79.8517, 80.1356,80.3246,80.5131,80.7017,80.8897 ,81.1765,81.3685,81.5601,81.7513,81.942 ,82.1323,82.3251,82.5193,82.713,82.9062 ,83.0989,83.291,83.5841,83.7796,83.9746 ,84.1687,84.3622,84.5581,84.8502, 85.0829)
FOOTPRINT_POINT_LONGITUDE = (149.439,145.604,143.074,140.659, 138.363,136.179,134.915,136.605,137.651 ,138.627,139.975,140.817,141.618, 142.743,143.433,144.091,144.719,145.319 ,145.893,146.437,146.95,147.441,147.913 ,148.365,148.799,149.417,149.8,150.17, 150.526,150.87,151.201,151.52,151.829, 152.401,152.805,153.064,153.315,153.559 ,153.795,154.024,154.246,154.461,154.67 ,154.972,155.262,155.539,155.804,156.06 ,156.304,156.861,157.683,158.782, 160.108,161.519,161.961,161.885,161.808 ,161.729,161.647,161.564,161.433, 161.296,161.153,161.054,160.952,160.848 ,160.684,160.572,160.455,160.272, 160.143,160.012,159.877,159.734,159.584 ,159.347,159.181,159.01,158.828,158.642 ,158.341,158.128,157.906,157.674, 157.432,157.178,156.908,156.621,156.32, 156.003,155.668,155.315,154.732,154.312 ,153.865,153.389,152.881,152.327, 151.444,149.439)
ORBIT_NUMBER = 5485
ORBITAL_ECCENTRICITY = 0.568
ORBITAL_INCLINATION = 86.75
ORBITAL_SEMIMAJOR_AXIS = 8647.57
PERIAPSIS_ALTITUDE = 354.15
PERIAPSIS_ARGUMENT_ANGLE = 113.4
PERIAPSIS_TIME = 2008-04-09T19:10:23.000Z
SPACECRAFT_ORIENTATION = (0.0,-1.0,0.0)
^MEX_ORIENTATION_DESC = "MEX_ORIENTATION_DESC.TXT"
SPACECRAFT_POINTING_MODE = ACROSSTRACK
^MEX_POINTING_DESC = "MEX_POINTING_DESC.TXT"
RIGHT_ASCENSION = -1e+32
DECLINATION = -1e+32
OFFSET_ANGLE = 0.8
SPACECRAFT_SOLAR_DISTANCE = 2.48401e+08
TARGET_NAME = MARS
/* CAMERA DATA ELEMENTS */
DETECTOR_TEMPERATURE = 17.1471
FOCAL_PLANE_TEMPERATURE = 8.1755
INST_CMPRS_NAME = "DISCRETE COSINE TRANSFORMATION (DCT)"
INST_CMPRS_RATIO = 7.71388
INST_CMPRS_QUALITY = 0
INST_CMPRS_QUANTZ_TBL_ID = 0
INSTRUMENT_TEMPERATURE = 11.234
LENS_TEMPERATURE = 8.5833
MACROPIXEL_SIZE = 2
MISSING_FRAMES = 0
PIXEL_SUBSAMPLING_FLAG = N
SIGNAL_CHAIN_ID = 1
/* RADIOMETRIC DATA ELEMENTS */
BANDWIDTH = 180.0
CENTER_FILTER_WAVELENGTH = 677.0
RADIANCE_OFFSET = 5.8615
RADIANCE_SCALING_FACTOR = 0.0279119
REFLECTANCE_SCALING_FACTOR = 0.000898536
MEX:REFLECTANCE_OFFSET = 0.188693
/* IMAGE OBJECT DEFINITIONS */
OBJECT = IMAGE
  INTERCHANGE_FORMAT = BINARY
  LINES = 23057
  LINE_SAMPLES = 8734
  SAMPLE_TYPE = UNSIGNED_INTEGER
  SAMPLE_BITS = 8
  BANDS = 1
  BAND_STORAGE_TYPE = BAND_SEQUENTIAL
  MAXIMUM = 255
  MEAN = 144.809
  MINIMUM = 1
  STANDARD_DEVIATION = 46.9533
END_OBJECT = IMAGE
/* MAP OBJECT DEFINITIONS */
OBJECT = IMAGE_MAP_PROJECTION
  ^DATA_SET_MAP_PROJECTION_CATALOG= "DSMAP.CAT"
  A_AXIS_RADIUS = 3396.0
  B_AXIS_RADIUS = 3396.0
  C_AXIS_RADIUS = 3396.0
  CENTER_LATITUDE = 0.0
  CENTER_LONGITUDE = 155.0
  COORDINATE_SYSTEM_NAME = PLANETOGRAPHIC
  COORDINATE_SYSTEM_TYPE = "BODY-FIXED ROTATING"
  EASTERNMOST_LONGITUDE = 161.961
  FIRST_STANDARD_PARALLEL = "N/A"
  LINE_FIRST_PIXEL = 1
  LINE_LAST_PIXEL = 23057
  LINE_PROJECTION_OFFSET = 201530.75
  MAP_PROJECTION_ROTATION = 0.0
  MAP_PROJECTION_TYPE = SINUSOIDAL
  MAP_RESOLUTION = 2370.85521546667
  MAP_SCALE = 0.025
  MAXIMUM_LATITUDE = 85.0829
  MINIMUM_LATITUDE = 75.3083
  POSITIVE_LONGITUDE_DIRECTION = EAST
  REFERENCE_LATITUDE = "N/A"
  REFERENCE_LONGITUDE = "N/A"
  SAMPLE_FIRST_PIXEL = 1
  SAMPLE_LAST_PIXEL = 8734
  SAMPLE_PROJECTION_OFFSET = 4633.75
  SECOND_STANDARD_PARALLEL = "N/A"
  WESTERNMOST_LONGITUDE = 134.915
END_OBJECT = IMAGE_MAP_PROJECTION
/* The JPEG2000 image data file associated with this label. */
OBJECT = COMPRESSED_FILE
  FILE_NAME = "H5485_0000_S13.JP2"
  RECORD_TYPE = UNDEFINED
  FILE_RECORDS = UNK
  ENCODING_TYPE = "JP2"
  INTERCHANGE_FORMAT = BINARY
  UNCOMPRESSED_FILE_NAME = "H5485_0000_S13.IMG"
  REQUIRED_STORAGE_BYTES = "201414774"
  ^DESCRIPTION = "JP2INFO.TXT"
END_OBJECT = COMPRESSED_FILE
END
