PDS_VERSION_ID = PDS3
/* FILE DATA ELEMENTS */
RECORD_TYPE = STREAM
/* POINTERS TO DATA OBJECTS */
^COMPRESSED_FILE = "H5486_0000_S23.JP2"
/* IDENTIFICATION DATA ELEMENTS */
DATA_SET_ID = "MEX-M-HRSC-5-REFDR-MAPPROJECTED-V3.0"
DATA_SET_NAME = "MARS EXPRESS HRSC MAP PROJECTED REFDR V3.0"
DETECTOR_ID = MEX_HRSC_S2
EVENT_TYPE = "MARS-REGIONAL-MAPPING-Gl-Pf-Eo"
INSTRUMENT_HOST_ID = MEX
INSTRUMENT_HOST_NAME = "MARS EXPRESS"
INSTRUMENT_ID = HRSC
INSTRUMENT_NAME = "HIGH RESOLUTION STEREO CAMERA"
MISSION_NAME = "MARS EXPRESS"
MISSION_PHASE_NAME = ME_Phase_12
PROCESSING_LEVEL_ID = 3
PRODUCT_CREATION_TIME = 2016-05-14T17:13:02.000Z
PRODUCT_ID = "H5486_0000_S23.JP2"
RELEASE_ID = 0062
REVISION_ID = 0000
/* QUALITY DATA ELEMENTS */
DATA_QUALITY_ID = 1
DATA_QUALITY_DESC = "Data calculated based on original SPICE kernels"
/* TIME DATA ELEMENTS */
SPACECRAFT_CLOCK_START_COUNT = "1/0155872624.08261"
SPACECRAFT_CLOCK_STOP_COUNT = "1/0155872860.64627"
START_TIME = 2008-04-10T01:58:19.141Z
STOP_TIME = 2008-04-10T02:01:02.736Z
/* ORBITAL DATA ELEMENTS */
ASCENDING_NODE_LONGITUDE = 114.15
MAXIMUM_RESOLUTION = 30.4
FOOTPRINT_POINT_LATITUDE = (78.6161,78.5537,78.507,78.4578,78.4062 ,78.352,78.4278,78.1877,77.8276,77.586, 77.224,76.9821,76.762,76.5589,76.2537, 76.0501,75.7441,75.4381,75.2338,74.9272 ,74.7224,74.4154,74.1081,73.9029, 73.6979,73.4926,73.1848,72.9795,72.7741 ,72.4658,72.2602,71.9521,71.7466, 71.5413,71.3356,71.1302,70.9251,70.7194 ,70.4112,70.2057,69.8976,69.692,69.384, 69.1785,68.9733,68.7678,68.4602,68.255, 68.0501,67.9588,67.9904,68.0277,68.0521 ,68.0781,68.2068,68.5167,68.8272, 69.0342,69.2414,69.4487,69.6561,69.967, 70.2781,70.4858,70.7969,71.0046,71.2124 ,71.4204,71.6287,71.941,72.149,72.3572, 72.5653,72.7735,72.9813,73.2937,73.5018 ,73.7103,73.9188,74.1273,74.4399, 74.6481,74.8568,75.0651,75.2736,75.4819 ,75.6903,75.8986,76.211,76.4191,76.6273 ,76.9394,77.1474,77.5151,77.7635, 78.0111,78.2593,78.5073,78.7549, 78.6161)
FOOTPRINT_POINT_LONGITUDE = (57.9127,56.5034,55.5389,54.5877, 53.6507,52.726,51.5478,51.9041,52.4093, 52.7305,53.1867,53.4761,53.7295,53.9551 ,54.2805,54.4889,54.7899,55.0769, 55.2612,55.5275,55.6989,55.9464,56.1834 ,56.3362,56.4845,56.629,56.8381,56.9729 ,57.1042,57.2948,57.4177,57.5959, 57.7111,57.8232,57.9327,58.0393,58.143, 58.2447,58.3923,58.4878,58.6268,58.7168 ,58.8477,58.9325,59.0153,59.0963, 59.2141,59.2906,59.3652,59.8517,60.429, 61.1412,61.6322,62.1932,62.7491,62.6816 ,62.6123,62.5648,62.5164,62.4668, 62.4161,62.3376,62.2564,62.2009,62.1146 ,62.0556,61.9953,61.9336,61.8707, 61.7732,61.7058,61.6369,61.566,61.4934, 61.4183,61.3027,61.2229,61.1413,61.0576 ,60.9714,60.8372,60.7444,60.6495, 60.5513,60.4503,60.3461,60.2389,60.1283 ,59.9557,59.836,59.7124,59.5192,59.3851 ,59.138,58.9621,58.7775,58.5859,58.3858 ,58.1761,57.9127)
ORBIT_NUMBER = 5486
ORBITAL_ECCENTRICITY = 0.569
ORBITAL_INCLINATION = 86.76
ORBITAL_SEMIMAJOR_AXIS = 8650.5
PERIAPSIS_ALTITUDE = 352.99
PERIAPSIS_ARGUMENT_ANGLE = 113.22
PERIAPSIS_TIME = 2008-04-10T02:00:51.000Z
SPACECRAFT_ORIENTATION = (0.0,-1.0,0.0)
^MEX_ORIENTATION_DESC = "MEX_ORIENTATION_DESC.TXT"
SPACECRAFT_POINTING_MODE = ACROSSTRACK
^MEX_POINTING_DESC = "MEX_POINTING_DESC.TXT"
RIGHT_ASCENSION = -1e+32
DECLINATION = -1e+32
OFFSET_ANGLE = 0.458
SPACECRAFT_SOLAR_DISTANCE = 2.48415e+08
TARGET_NAME = MARS
/* CAMERA DATA ELEMENTS */
DETECTOR_TEMPERATURE = 18.3705
FOCAL_PLANE_TEMPERATURE = 7.7677
INST_CMPRS_NAME = "DISCRETE COSINE TRANSFORMATION (DCT)"
INST_CMPRS_RATIO = 11.8709
INST_CMPRS_QUALITY = 0
INST_CMPRS_QUANTZ_TBL_ID = 0
INSTRUMENT_TEMPERATURE = 10.8262
LENS_TEMPERATURE = 8.1755
MACROPIXEL_SIZE = 2
MISSING_FRAMES = 0
PIXEL_SUBSAMPLING_FLAG = N
SIGNAL_CHAIN_ID = 1
/* RADIOMETRIC DATA ELEMENTS */
BANDWIDTH = 178.0
CENTER_FILTER_WAVELENGTH = 679.0
RADIANCE_OFFSET = 6.12098
RADIANCE_SCALING_FACTOR = 0.024964
REFLECTANCE_SCALING_FACTOR = 0.000815825
MEX:REFLECTANCE_OFFSET = 0.200034
/* IMAGE OBJECT DEFINITIONS */
OBJECT = IMAGE
  INTERCHANGE_FORMAT = BINARY
  LINES = 25568
  LINE_SAMPLES = 6751
  SAMPLE_TYPE = UNSIGNED_INTEGER
  SAMPLE_BITS = 8
  BANDS = 1
  BAND_STORAGE_TYPE = BAND_SEQUENTIAL
  MAXIMUM = 255
  MEAN = 117.401
  MINIMUM = 1
  STANDARD_DEVIATION = 62.7871
END_OBJECT = IMAGE
/* MAP OBJECT DEFINITIONS */
OBJECT = IMAGE_MAP_PROJECTION
  ^DATA_SET_MAP_PROJECTION_CATALOG= "DSMAP.CAT"
  A_AXIS_RADIUS = 3396.0
  B_AXIS_RADIUS = 3396.0
  C_AXIS_RADIUS = 3396.0
  CENTER_LATITUDE = 0.0
  CENTER_LONGITUDE = 59.0
  COORDINATE_SYSTEM_NAME = PLANETOGRAPHIC
  COORDINATE_SYSTEM_TYPE = "BODY-FIXED ROTATING"
  EASTERNMOST_LONGITUDE = 62.7491
  FIRST_STANDARD_PARALLEL = "N/A"
  LINE_FIRST_PIXEL = 1
  LINE_LAST_PIXEL = 25568
  LINE_PROJECTION_OFFSET = 186640.25
  MAP_PROJECTION_ROTATION = 0.0
  MAP_PROJECTION_TYPE = SINUSOIDAL
  MAP_RESOLUTION = 2370.85521546667
  MAP_SCALE = 0.025
  MAXIMUM_LATITUDE = 78.75490000000001
  MINIMUM_LATITUDE = 67.9588
  POSITIVE_LONGITUDE_DIRECTION = EAST
  REFERENCE_LATITUDE = "N/A"
  REFERENCE_LONGITUDE = "N/A"
  SAMPLE_FIRST_PIXEL = 1
  SAMPLE_LAST_PIXEL = 6751
  SAMPLE_PROJECTION_OFFSET = 3564.75
  SECOND_STANDARD_PARALLEL = "N/A"
  WESTERNMOST_LONGITUDE = 51.5478
END_OBJECT = IMAGE_MAP_PROJECTION
/* The JPEG2000 image data file associated with this label. */
OBJECT = COMPRESSED_FILE
  FILE_NAME = "H5486_0000_S23.JP2"
  RECORD_TYPE = UNDEFINED
  FILE_RECORDS = UNK
  ENCODING_TYPE = "JP2"
  INTERCHANGE_FORMAT = BINARY
  UNCOMPRESSED_FILE_NAME = "H5486_0000_S23.IMG"
  REQUIRED_STORAGE_BYTES = "172643323"
  ^DESCRIPTION = "JP2INFO.TXT"
END_OBJECT = COMPRESSED_FILE
END
