PDS_VERSION_ID = PDS3
/* FILE DATA ELEMENTS */
RECORD_TYPE = STREAM
/* POINTERS TO DATA OBJECTS */
^COMPRESSED_FILE = "H5487_0000_P23.JP2"
/* IDENTIFICATION DATA ELEMENTS */
DATA_SET_ID = "MEX-M-HRSC-5-REFDR-MAPPROJECTED-V3.0"
DATA_SET_NAME = "MARS EXPRESS HRSC MAP PROJECTED REFDR V3.0"
DETECTOR_ID = MEX_HRSC_P2
EVENT_TYPE = "MARS-REGIONAL-MAPPING-Vo-Gl-Pf"
INSTRUMENT_HOST_ID = MEX
INSTRUMENT_HOST_NAME = "MARS EXPRESS"
INSTRUMENT_ID = HRSC
INSTRUMENT_NAME = "HIGH RESOLUTION STEREO CAMERA"
MISSION_NAME = "MARS EXPRESS"
MISSION_PHASE_NAME = ME_Phase_12
PROCESSING_LEVEL_ID = 3
PRODUCT_CREATION_TIME = 2016-05-14T17:13:02.000Z
PRODUCT_ID = "H5487_0000_P23.JP2"
RELEASE_ID = 0062
REVISION_ID = 0000
/* QUALITY DATA ELEMENTS */
DATA_QUALITY_ID = 1
DATA_QUALITY_DESC = "Data calculated based on original SPICE kernels"
/* TIME DATA ELEMENTS */
SPACECRAFT_CLOCK_START_COUNT = "1/0155897174.09061"
SPACECRAFT_CLOCK_STOP_COUNT = "1/0155897479.34459"
START_TIME = 2008-04-10T08:47:23.884Z
STOP_TIME = 2008-04-10T08:51:10.217Z
/* ORBITAL DATA ELEMENTS */
ASCENDING_NODE_LONGITUDE = 114.14
MAXIMUM_RESOLUTION = 29.5
FOOTPRINT_POINT_LATITUDE = (83.4437,83.367,83.1987,83.0121,82.76, 82.4763,82.1879,81.7498,81.4551,81.1582 ,80.859,80.4077,80.1048,79.8015,79.3428 ,79.0355,78.7277,78.4184,78.1084, 77.7975,77.4859,77.0175,76.7045,76.3909 ,76.0767,75.7845,75.5207,75.2566, 74.9923,74.5953,74.3302,74.065,73.7997, 73.4014,73.1357,72.8697,72.4706,72.2044 ,71.8049,71.5384,71.2719,71.0054, 70.7388,70.3386,70.0719,69.6717,69.4049 ,69.1381,68.8713,68.8938,68.9467, 68.9856,69.01,69.2791,69.5484,69.8177, 70.087,70.4911,70.7606,71.0302,71.2996, 71.5691,71.9735,72.2431,72.5129,72.7825 ,73.0523,73.3219,73.5914,73.8607, 74.2652,74.6694,74.9388,75.2082,75.6121 ,75.8813,76.1503,76.4691,76.9502, 77.2708,77.5912,78.0715,78.3915,78.7109 ,79.0302,79.3492,79.6676,79.9854, 80.3028,80.6197,80.9362,81.2519,81.5672 ,81.883,82.3551,82.668,82.9796,83.2901, 83.5973,83.4437)
FOOTPRINT_POINT_LONGITUDE = (309.806,308.062,304.73,301.607,301.653 ,302.772,303.814,305.24,306.108,306.916 ,307.672,308.714,309.355,309.954,310.79 ,311.307,311.795,312.256,312.692, 313.105,313.497,314.046,314.39,314.718, 315.029,315.305,315.544,315.774,315.995 ,316.311,316.512,316.706,316.893, 317.161,317.332,317.497,317.734,317.886 ,318.104,318.243,318.378,318.509, 318.635,318.818,318.935,319.104,319.212 ,319.317,319.418,320.363,321.45,322.351 ,322.961,322.904,322.845,322.784, 322.722,322.624,322.557,322.487,322.415 ,322.341,322.226,322.146,322.063, 321.978,321.889,321.798,321.703,321.604 ,321.451,321.288,321.175,321.057, 320.872,320.742,320.607,320.439,320.17, 319.979,319.778,319.456,319.227,318.983 ,318.725,318.451,318.16,317.848,317.516 ,317.161,316.782,316.374,315.935, 315.467,314.691,314.115,313.485,312.798 ,312.035,309.806)
ORBIT_NUMBER = 5487
ORBITAL_ECCENTRICITY = 0.568
ORBITAL_INCLINATION = 86.76
ORBITAL_SEMIMAJOR_AXIS = 8646.13
PERIAPSIS_ALTITUDE = 353.67
PERIAPSIS_ARGUMENT_ANGLE = 113.05
PERIAPSIS_TIME = 2008-04-10T08:51:21.000Z
SPACECRAFT_ORIENTATION = (0.0,-1.0,0.0)
^MEX_ORIENTATION_DESC = "MEX_ORIENTATION_DESC.TXT"
SPACECRAFT_POINTING_MODE = ACROSSTRACK
^MEX_POINTING_DESC = "MEX_POINTING_DESC.TXT"
RIGHT_ASCENSION = -1e+32
DECLINATION = -1e+32
OFFSET_ANGLE = 0.6
SPACECRAFT_SOLAR_DISTANCE = 2.48428e+08
TARGET_NAME = MARS
/* CAMERA DATA ELEMENTS */
DETECTOR_TEMPERATURE = 18.5744
FOCAL_PLANE_TEMPERATURE = 5.7287
INST_CMPRS_NAME = "DISCRETE COSINE TRANSFORMATION (DCT)"
INST_CMPRS_RATIO = 6.12042
INST_CMPRS_QUALITY = 0
INST_CMPRS_QUANTZ_TBL_ID = 0
INSTRUMENT_TEMPERATURE = 10.8262
LENS_TEMPERATURE = 7.7677
MACROPIXEL_SIZE = 2
MISSING_FRAMES = 0
PIXEL_SUBSAMPLING_FLAG = N
SIGNAL_CHAIN_ID = 3
/* RADIOMETRIC DATA ELEMENTS */
BANDWIDTH = 177.0
CENTER_FILTER_WAVELENGTH = 676.5
RADIANCE_OFFSET = 3.37836
RADIANCE_SCALING_FACTOR = 0.0322815
REFLECTANCE_SCALING_FACTOR = 0.00105636
MEX:REFLECTANCE_OFFSET = 0.110551
/* IMAGE OBJECT DEFINITIONS */
OBJECT = IMAGE
  INTERCHANGE_FORMAT = BINARY
  LINES = 34935
  LINE_SAMPLES = 9291
  SAMPLE_TYPE = UNSIGNED_INTEGER
  SAMPLE_BITS = 8
  BANDS = 1
  BAND_STORAGE_TYPE = BAND_SEQUENTIAL
  MAXIMUM = 255
  MEAN = 159.447
  MINIMUM = 1
  STANDARD_DEVIATION = 48.1023
END_OBJECT = IMAGE
/* MAP OBJECT DEFINITIONS */
OBJECT = IMAGE_MAP_PROJECTION
  ^DATA_SET_MAP_PROJECTION_CATALOG= "DSMAP.CAT"
  A_AXIS_RADIUS = 3396.0
  B_AXIS_RADIUS = 3396.0
  C_AXIS_RADIUS = 3396.0
  CENTER_LATITUDE = 0.0
  CENTER_LONGITUDE = 318.0
  COORDINATE_SYSTEM_NAME = PLANETOGRAPHIC
  COORDINATE_SYSTEM_TYPE = "BODY-FIXED ROTATING"
  EASTERNMOST_LONGITUDE = 322.961
  FIRST_STANDARD_PARALLEL = "N/A"
  LINE_FIRST_PIXEL = 1
  LINE_LAST_PIXEL = 34935
  LINE_PROJECTION_OFFSET = 198156.75
  MAP_PROJECTION_ROTATION = 0.0
  MAP_PROJECTION_TYPE = SINUSOIDAL
  MAP_RESOLUTION = 2370.85521546667
  MAP_SCALE = 0.025
  MAXIMUM_LATITUDE = 83.5973
  MINIMUM_LATITUDE = 68.87130000000001
  POSITIVE_LONGITUDE_DIRECTION = EAST
  REFERENCE_LATITUDE = "N/A"
  REFERENCE_LONGITUDE = "N/A"
  SAMPLE_FIRST_PIXEL = 1
  SAMPLE_LAST_PIXEL = 9291
  SAMPLE_PROJECTION_OFFSET = 5086.75
  SECOND_STANDARD_PARALLEL = "N/A"
  WESTERNMOST_LONGITUDE = 301.607
END_OBJECT = IMAGE_MAP_PROJECTION
/* The JPEG2000 image data file associated with this label. */
OBJECT = COMPRESSED_FILE
  FILE_NAME = "H5487_0000_P23.JP2"
  RECORD_TYPE = UNDEFINED
  FILE_RECORDS = UNK
  ENCODING_TYPE = "JP2"
  INTERCHANGE_FORMAT = BINARY
  UNCOMPRESSED_FILE_NAME = "H5487_0000_P23.IMG"
  REQUIRED_STORAGE_BYTES = "324608958"
  ^DESCRIPTION = "JP2INFO.TXT"
END_OBJECT = COMPRESSED_FILE
END
