PDS_VERSION_ID = PDS3
/* FILE DATA ELEMENTS */
RECORD_TYPE = STREAM
/* POINTERS TO DATA OBJECTS */
^COMPRESSED_FILE = "H5487_0000_S23.JP2"
/* IDENTIFICATION DATA ELEMENTS */
DATA_SET_ID = "MEX-M-HRSC-5-REFDR-MAPPROJECTED-V3.0"
DATA_SET_NAME = "MARS EXPRESS HRSC MAP PROJECTED REFDR V3.0"
DETECTOR_ID = MEX_HRSC_S2
EVENT_TYPE = "MARS-REGIONAL-MAPPING-Vo-Gl-Pf"
INSTRUMENT_HOST_ID = MEX
INSTRUMENT_HOST_NAME = "MARS EXPRESS"
INSTRUMENT_ID = HRSC
INSTRUMENT_NAME = "HIGH RESOLUTION STEREO CAMERA"
MISSION_NAME = "MARS EXPRESS"
MISSION_PHASE_NAME = ME_Phase_12
PROCESSING_LEVEL_ID = 3
PRODUCT_CREATION_TIME = 2016-05-14T17:13:02.000Z
PRODUCT_ID = "H5487_0000_S23.JP2"
RELEASE_ID = 0062
REVISION_ID = 0000
/* QUALITY DATA ELEMENTS */
DATA_QUALITY_ID = 1
DATA_QUALITY_DESC = "Data calculated based on original SPICE kernels"
/* TIME DATA ELEMENTS */
SPACECRAFT_CLOCK_START_COUNT = "1/0155897174.09061"
SPACECRAFT_CLOCK_STOP_COUNT = "1/0155897479.34459"
START_TIME = 2008-04-10T08:47:36.514Z
STOP_TIME = 2008-04-10T08:51:21.223Z
/* ORBITAL DATA ELEMENTS */
ASCENDING_NODE_LONGITUDE = 114.14
MAXIMUM_RESOLUTION = 30.5
FOOTPRINT_POINT_LATITUDE = (83.469,83.3625,83.2822,83.1972,83.1079 ,83.0144,82.7534,82.4659,82.172,81.8757 ,81.4267,81.1247,80.8209,80.3624,80.055 ,79.7477,79.4379,79.1264,78.8151,78.502 ,78.1883,77.8739,77.5587,77.0851, 76.6134,76.3478,76.0819,75.8159,75.5496 ,75.2831,75.0165,74.7494,74.3488, 74.0813,73.814,73.4128,73.1452,72.7435, 72.4757,72.2079,71.9401,71.5381,71.2703 ,71.0024,70.7346,70.3327,70.0649, 69.6632,69.3956,69.1279,68.8603,68.9059 ,68.9353,68.9686,69.0159,69.1656, 69.4356,69.8407,70.111,70.3815,70.7867, 71.1933,71.464,71.735,72.0059,72.2772, 72.5486,72.8198,73.0914,73.4983,73.7696 ,74.177,74.4485,74.7202,75.1277,75.3991 ,75.6709,76.0783,76.4853,76.7567, 77.0489,77.3728,77.8587,78.1822,78.5059 ,78.8289,79.1521,79.4748,79.7971, 80.1187,80.6004,80.9213,81.2414,81.5611 ,81.8817,82.3616,82.6796,82.9959, 83.3113,83.469)
FOOTPRINT_POINT_LONGITUDE = (311.599,309.082,307.394,305.758, 304.174,302.641,301.787,302.91,303.962, 304.935,306.266,307.077,307.834,308.876 ,309.515,310.113,310.676,311.208, 311.707,312.179,312.625,313.046,313.445 ,314.005,314.52,314.792,315.054,315.305 ,315.546,315.777,316.0,316.214,316.521, 316.715,316.903,317.172,317.344,317.59, 317.747,317.899,318.046,318.257,318.392 ,318.522,318.649,318.831,318.948, 319.116,319.224,319.328,319.43,320.438, 320.981,321.634,322.647,322.949,322.89, 322.799,322.736,322.671,322.569,322.464 ,322.39,322.314,322.236,322.155,322.071 ,321.985,321.895,321.755,321.657, 321.503,321.396,321.285,321.111,320.988 ,320.862,320.661,320.448,320.298,320.13 ,319.934,319.619,319.395,319.157, 318.905,318.638,318.354,318.051,317.727 ,317.198,316.815,316.402,315.957, 315.481,314.691,314.104,313.461,312.758 ,311.599)
ORBIT_NUMBER = 5487
ORBITAL_ECCENTRICITY = 0.568
ORBITAL_INCLINATION = 86.76
ORBITAL_SEMIMAJOR_AXIS = 8646.13
PERIAPSIS_ALTITUDE = 353.67
PERIAPSIS_ARGUMENT_ANGLE = 113.05
PERIAPSIS_TIME = 2008-04-10T08:51:21.000Z
SPACECRAFT_ORIENTATION = (0.0,-1.0,0.0)
^MEX_ORIENTATION_DESC = "MEX_ORIENTATION_DESC.TXT"
SPACECRAFT_POINTING_MODE = ACROSSTRACK
^MEX_POINTING_DESC = "MEX_POINTING_DESC.TXT"
RIGHT_ASCENSION = -1e+32
DECLINATION = -1e+32
OFFSET_ANGLE = 0.6
SPACECRAFT_SOLAR_DISTANCE = 2.48428e+08
TARGET_NAME = MARS
/* CAMERA DATA ELEMENTS */
DETECTOR_TEMPERATURE = 18.5744
FOCAL_PLANE_TEMPERATURE = 5.7287
INST_CMPRS_NAME = "DISCRETE COSINE TRANSFORMATION (DCT)"
INST_CMPRS_RATIO = 9.15107
INST_CMPRS_QUALITY = 0
INST_CMPRS_QUANTZ_TBL_ID = 0
INSTRUMENT_TEMPERATURE = 10.8262
LENS_TEMPERATURE = 7.7677
MACROPIXEL_SIZE = 2
MISSING_FRAMES = 0
PIXEL_SUBSAMPLING_FLAG = N
SIGNAL_CHAIN_ID = 1
/* RADIOMETRIC DATA ELEMENTS */
BANDWIDTH = 178.0
CENTER_FILTER_WAVELENGTH = 679.0
RADIANCE_OFFSET = 3.68588
RADIANCE_SCALING_FACTOR = 0.0332
REFLECTANCE_SCALING_FACTOR = 0.0010851
MEX:REFLECTANCE_OFFSET = 0.120468
/* IMAGE OBJECT DEFINITIONS */
OBJECT = IMAGE
  INTERCHANGE_FORMAT = BINARY
  LINES = 34935
  LINE_SAMPLES = 9291
  SAMPLE_TYPE = UNSIGNED_INTEGER
  SAMPLE_BITS = 8
  BANDS = 1
  BAND_STORAGE_TYPE = BAND_SEQUENTIAL
  MAXIMUM = 255
  MEAN = 163.226
  MINIMUM = 1
  STANDARD_DEVIATION = 48.3876
END_OBJECT = IMAGE
/* MAP OBJECT DEFINITIONS */
OBJECT = IMAGE_MAP_PROJECTION
  ^DATA_SET_MAP_PROJECTION_CATALOG= "DSMAP.CAT"
  A_AXIS_RADIUS = 3396.0
  B_AXIS_RADIUS = 3396.0
  C_AXIS_RADIUS = 3396.0
  CENTER_LATITUDE = 0.0
  CENTER_LONGITUDE = 318.0
  COORDINATE_SYSTEM_NAME = PLANETOGRAPHIC
  COORDINATE_SYSTEM_TYPE = "BODY-FIXED ROTATING"
  EASTERNMOST_LONGITUDE = 322.949
  FIRST_STANDARD_PARALLEL = "N/A"
  LINE_FIRST_PIXEL = 1
  LINE_LAST_PIXEL = 34935
  LINE_PROJECTION_OFFSET = 198156.75
  MAP_PROJECTION_ROTATION = 0.0
  MAP_PROJECTION_TYPE = SINUSOIDAL
  MAP_RESOLUTION = 2370.85521546667
  MAP_SCALE = 0.025
  MAXIMUM_LATITUDE = 83.46899999999999
  MINIMUM_LATITUDE = 68.8603
  POSITIVE_LONGITUDE_DIRECTION = EAST
  REFERENCE_LATITUDE = "N/A"
  REFERENCE_LONGITUDE = "N/A"
  SAMPLE_FIRST_PIXEL = 1
  SAMPLE_LAST_PIXEL = 9291
  SAMPLE_PROJECTION_OFFSET = 5086.75
  SECOND_STANDARD_PARALLEL = "N/A"
  WESTERNMOST_LONGITUDE = 301.787
END_OBJECT = IMAGE_MAP_PROJECTION
/* The JPEG2000 image data file associated with this label. */
OBJECT = COMPRESSED_FILE
  FILE_NAME = "H5487_0000_S23.JP2"
  RECORD_TYPE = UNDEFINED
  FILE_RECORDS = UNK
  ENCODING_TYPE = "JP2"
  INTERCHANGE_FORMAT = BINARY
  UNCOMPRESSED_FILE_NAME = "H5487_0000_S23.IMG"
  REQUIRED_STORAGE_BYTES = "324608958"
  ^DESCRIPTION = "JP2INFO.TXT"
END_OBJECT = COMPRESSED_FILE
END
