PDS_VERSION_ID = PDS3
/* FILE DATA ELEMENTS */
RECORD_TYPE = STREAM
/* POINTERS TO DATA OBJECTS */
^COMPRESSED_FILE = "H5490_0000_IR3.JP2"
/* IDENTIFICATION DATA ELEMENTS */
DATA_SET_ID = "MEX-M-HRSC-5-REFDR-MAPPROJECTED-V3.0"
DATA_SET_NAME = "MARS EXPRESS HRSC MAP PROJECTED REFDR V3.0"
DETECTOR_ID = MEX_HRSC_IR
EVENT_TYPE = "MARS-REGIONAL-MAPPING-Im-Pf-Eo"
INSTRUMENT_HOST_ID = MEX
INSTRUMENT_HOST_NAME = "MARS EXPRESS"
INSTRUMENT_ID = HRSC
INSTRUMENT_NAME = "HIGH RESOLUTION STEREO CAMERA"
MISSION_NAME = "MARS EXPRESS"
MISSION_PHASE_NAME = ME_Phase_12
PROCESSING_LEVEL_ID = 3
PRODUCT_CREATION_TIME = 2016-05-14T17:13:02.000Z
PRODUCT_ID = "H5490_0000_IR3.JP2"
RELEASE_ID = 0062
REVISION_ID = 0000
/* QUALITY DATA ELEMENTS */
DATA_QUALITY_ID = 1
DATA_QUALITY_DESC = "Data calculated based on original SPICE kernels"
/* TIME DATA ELEMENTS */
SPACECRAFT_CLOCK_START_COUNT = "1/0155971273.07300"
SPACECRAFT_CLOCK_STOP_COUNT = "1/0155971518.64901"
START_TIME = 2008-04-11T05:21:22.501Z
STOP_TIME = 2008-04-11T05:24:19.736Z
/* ORBITAL DATA ELEMENTS */
ASCENDING_NODE_LONGITUDE = 114.07
MAXIMUM_RESOLUTION = 59.6
FOOTPRINT_POINT_LATITUDE = (71.397,71.3542,71.3143,71.2676,71.0479 ,70.8245,70.6009,70.3768,70.1523,69.816 ,69.4789,69.2538,69.0285,68.8029, 68.5771,68.3512,68.125,67.8987,67.5589, 67.3322,67.1051,66.8784,66.651,66.4232, 66.1956,65.9678,65.7398,65.5116,65.169, 64.9405,64.7121,64.4832,64.2545,64.0254 ,63.6816,63.4524,63.2231,62.9932, 62.7636,62.4191,62.1893,61.9592,61.7293 ,61.384,61.1537,60.8081,60.5777,60.2318 ,60.0011,59.7721,59.7892,59.7986, 59.8093,59.8215,59.9418,60.2892,60.5207 ,60.7525,60.9841,61.2155,61.5626, 61.9091,62.2556,62.4867,62.7178,62.9486 ,63.1796,63.5256,63.7563,64.1024, 64.3325,64.5629,64.7929,65.0233,65.3676 ,65.5975,65.8272,66.0568,66.2862, 66.6303,66.8594,67.0884,67.3173,67.546, 67.7746,68.0029,68.3453,68.5734,68.8013 ,69.029,69.2567,69.4842,69.7116,69.9387 ,70.1657,70.3924,70.6188,70.9583, 71.1844,71.397)
FOOTPRINT_POINT_LONGITUDE = (21.5976,20.0624,18.9421,17.8398, 17.9251,18.0379,18.1478,18.255,18.3596, 18.5113,18.6576,18.7522,18.8445,18.9346 ,19.0225,19.1083,19.1921,19.2739,19.393 ,19.4701,19.5455,19.619,19.691,19.7613, 19.83,19.8971,19.9628,20.0269,20.1205, 20.1812,20.2404,20.2984,20.3551,20.4106 ,20.4916,20.5441,20.5954,20.6457, 20.6949,20.7666,20.8132,20.8587,20.9033 ,20.9684,21.0106,21.0723,21.1123, 21.1708,21.2087,21.2455,21.8276,22.2041 ,22.7022,23.4698,23.7814,23.747,23.7235 ,23.6992,23.6745,23.6496,23.6114, 23.5727,23.5327,23.5051,23.4767,23.4483 ,23.4189,23.3741,23.3433,23.2954, 23.2638,23.2307,23.1974,23.1626,23.111, 23.0749,23.0381,23.0005,22.9622,22.903, 22.8626,22.8214,22.7791,22.736,22.6919, 22.6473,22.5777,22.5301,22.4815,22.4317 ,22.3805,22.3281,22.2742,22.2196, 22.1635,22.1062,22.0478,21.9571,21.8945 ,21.5976)
ORBIT_NUMBER = 5490
ORBITAL_ECCENTRICITY = 0.568
ORBITAL_INCLINATION = 86.74
ORBITAL_SEMIMAJOR_AXIS = 8648.6
PERIAPSIS_ALTITUDE = 354.14
PERIAPSIS_ARGUMENT_ANGLE = 112.51
PERIAPSIS_TIME = 2008-04-11T05:22:50.000Z
SPACECRAFT_ORIENTATION = (0.0,-1.0,0.0)
^MEX_ORIENTATION_DESC = "MEX_ORIENTATION_DESC.TXT"
SPACECRAFT_POINTING_MODE = ACROSSTRACK
^MEX_POINTING_DESC = "MEX_POINTING_DESC.TXT"
RIGHT_ASCENSION = -1e+32
DECLINATION = -1e+32
OFFSET_ANGLE = 0.5
SPACECRAFT_SOLAR_DISTANCE = 2.48469e+08
TARGET_NAME = MARS
/* CAMERA DATA ELEMENTS */
DETECTOR_TEMPERATURE = 16.9432
FOCAL_PLANE_TEMPERATURE = 7.3599
INST_CMPRS_NAME = "DISCRETE COSINE TRANSFORMATION (DCT)"
INST_CMPRS_RATIO = 19.2279
INST_CMPRS_QUALITY = 0
INST_CMPRS_QUANTZ_TBL_ID = 0
INSTRUMENT_TEMPERATURE = 10.8262
LENS_TEMPERATURE = 7.5638
MACROPIXEL_SIZE = 4
MISSING_FRAMES = 0
PIXEL_SUBSAMPLING_FLAG = N
SIGNAL_CHAIN_ID = 2
/* RADIOMETRIC DATA ELEMENTS */
BANDWIDTH = 81.0
CENTER_FILTER_WAVELENGTH = 955.5
RADIANCE_OFFSET = 0.957739
RADIANCE_SCALING_FACTOR = 0.00570331
REFLECTANCE_SCALING_FACTOR = 0.000759629
MEX:REFLECTANCE_OFFSET = 0.127562
/* IMAGE OBJECT DEFINITIONS */
OBJECT = IMAGE
  INTERCHANGE_FORMAT = BINARY
  LINES = 13682
  LINE_SAMPLES = 2643
  SAMPLE_TYPE = UNSIGNED_INTEGER
  SAMPLE_BITS = 8
  BANDS = 1
  BAND_STORAGE_TYPE = BAND_SEQUENTIAL
  MAXIMUM = 255
  MEAN = 113.638
  MINIMUM = 1
  STANDARD_DEVIATION = 34.709
END_OBJECT = IMAGE
/* MAP OBJECT DEFINITIONS */
OBJECT = IMAGE_MAP_PROJECTION
  ^DATA_SET_MAP_PROJECTION_CATALOG= "DSMAP.CAT"
  A_AXIS_RADIUS = 3396.0
  B_AXIS_RADIUS = 3396.0
  C_AXIS_RADIUS = 3396.0
  CENTER_LATITUDE = 0.0
  CENTER_LONGITUDE = 22.0
  COORDINATE_SYSTEM_NAME = PLANETOGRAPHIC
  COORDINATE_SYSTEM_TYPE = "BODY-FIXED ROTATING"
  EASTERNMOST_LONGITUDE = 23.7814
  FIRST_STANDARD_PARALLEL = "N/A"
  LINE_FIRST_PIXEL = 1
  LINE_LAST_PIXEL = 13682
  LINE_PROJECTION_OFFSET = 84539.625
  MAP_PROJECTION_ROTATION = 0.0
  MAP_PROJECTION_TYPE = SINUSOIDAL
  MAP_RESOLUTION = 1185.42760773333
  MAP_SCALE = 0.05
  MAXIMUM_LATITUDE = 71.39700000000001
  MINIMUM_LATITUDE = 59.7721
  POSITIVE_LONGITUDE_DIRECTION = EAST
  REFERENCE_LATITUDE = "N/A"
  REFERENCE_LONGITUDE = "N/A"
  SAMPLE_FIRST_PIXEL = 1
  SAMPLE_LAST_PIXEL = 2643
  SAMPLE_PROJECTION_OFFSET = 1575.875
  SECOND_STANDARD_PARALLEL = "N/A"
  WESTERNMOST_LONGITUDE = 17.8398
END_OBJECT = IMAGE_MAP_PROJECTION
/* The JPEG2000 image data file associated with this label. */
OBJECT = COMPRESSED_FILE
  FILE_NAME = "H5490_0000_IR3.JP2"
  RECORD_TYPE = UNDEFINED
  FILE_RECORDS = UNK
  ENCODING_TYPE = "JP2"
  INTERCHANGE_FORMAT = BINARY
  UNCOMPRESSED_FILE_NAME = "H5490_0000_IR3.IMG"
  REQUIRED_STORAGE_BYTES = "36182670"
  ^DESCRIPTION = "JP2INFO.TXT"
END_OBJECT = COMPRESSED_FILE
END
