PDS_VERSION_ID = PDS3
/* FILE DATA ELEMENTS */
RECORD_TYPE = STREAM
/* POINTERS TO DATA OBJECTS */
^COMPRESSED_FILE = "H5496_0000_RE3.JP2"
/* IDENTIFICATION DATA ELEMENTS */
DATA_SET_ID = "MEX-M-HRSC-5-REFDR-MAPPROJECTED-V3.0"
DATA_SET_NAME = "MARS EXPRESS HRSC MAP PROJECTED REFDR V3.0"
DETECTOR_ID = MEX_HRSC_RED
EVENT_TYPE = "MARS-REGIONAL-MAPPING-Gl-La"
INSTRUMENT_HOST_ID = MEX
INSTRUMENT_HOST_NAME = "MARS EXPRESS"
INSTRUMENT_ID = HRSC
INSTRUMENT_NAME = "HIGH RESOLUTION STEREO CAMERA"
MISSION_NAME = "MARS EXPRESS"
MISSION_PHASE_NAME = ME_Phase_12
PROCESSING_LEVEL_ID = 3
PRODUCT_CREATION_TIME = 2016-05-14T17:13:02.000Z
PRODUCT_ID = "H5496_0000_RE3.JP2"
RELEASE_ID = 0062
REVISION_ID = 0000
/* QUALITY DATA ELEMENTS */
DATA_QUALITY_ID = 1
DATA_QUALITY_DESC = "Data calculated based on original SPICE kernels"
/* TIME DATA ELEMENTS */
SPACECRAFT_CLOCK_START_COUNT = "1/0156118677.07292"
SPACECRAFT_CLOCK_STOP_COUNT = "1/0156118927.31725"
START_TIME = 2008-04-12T22:19:33.632Z
STOP_TIME = 2008-04-12T22:22:02.849Z
/* ORBITAL DATA ELEMENTS */
ASCENDING_NODE_LONGITUDE = 113.96
MAXIMUM_RESOLUTION = 68.1
FOOTPRINT_POINT_LATITUDE = (84.3518,84.2486,84.1002,83.8981, 83.7863,83.6428,83.5567,83.7967,83.9531 ,84.1067,84.3299,84.4712,84.6107, 84.7447,84.8739,84.9976,85.1137,85.2249 ,85.33,85.4755,85.5639,85.6435,85.7157, 85.7798,85.8356,85.8829,85.9374,85.9624 ,85.9779,85.9846,85.9823,85.9709, 85.9505,85.922,85.8852,85.8151,85.7277, 85.6604,85.5862,85.5069,85.3779,85.285, 85.1361,85.0309,84.9214,84.8078,84.6928 ,84.5152,84.2679,84.0155,84.1593, 84.2758,84.4199,84.5344,84.6605,84.9178 ,85.0723,85.2228,85.448,85.5961,85.8133 ,85.958,86.1001,86.3068,86.4397,86.5686 ,86.6922,86.8676,86.977,87.1273,87.2168 ,87.3325,87.4241,87.4694,87.5015, 87.5192,87.5225,87.5003,87.4676,87.4203 ,87.3237,87.2438,87.1529,87.0519, 86.9412,86.8203,86.6917,86.5562,86.4141 ,86.2679,86.1155,85.9565,85.7928, 85.6273,85.3698,85.1952,85.0158,84.8316 ,84.6498,84.3518)
FOOTPRINT_POINT_LONGITUDE = (355.019,357.052,359.643,362.692, 364.194,365.97,368.258,370.027,371.284, 372.611,374.727,376.204,377.771,379.413 ,381.14,382.947,384.808,386.764,388.809 ,392.048,394.321,396.633,399.029, 401.499,404.038,406.641,410.627,413.301 ,415.985,418.689,421.4,424.103,426.787, 429.382,431.923,435.641,439.224,441.526 ,443.755,445.871,448.879,450.79,453.518 ,455.243,456.891,458.466,459.944, 462.025,464.588,466.889,468.591,470.035 ,471.98,473.684,475.69,478.513,477.511, 476.451,474.721,473.469,471.422,469.903 ,468.269,465.586,463.626,461.514, 459.241,455.485,452.711,448.157,444.857 ,439.516,433.715,429.6,425.326,420.968, 416.573,410.002,405.722,401.524,395.503 ,391.746,388.227,384.934,381.839, 378.949,376.266,373.784,371.474,369.378 ,367.42,365.584,363.874,362.321,360.145 ,358.852,357.625,356.451,355.407, 355.019)
ORBIT_NUMBER = 5496
ORBITAL_ECCENTRICITY = 0.568
ORBITAL_INCLINATION = 86.74
ORBITAL_SEMIMAJOR_AXIS = 8646.93
PERIAPSIS_ALTITUDE = 354.84
PERIAPSIS_ARGUMENT_ANGLE = 111.47
PERIAPSIS_TIME = 2008-04-12T22:25:54.000Z
SPACECRAFT_ORIENTATION = (0.0,-1.0,0.0)
^MEX_ORIENTATION_DESC = "MEX_ORIENTATION_DESC.TXT"
SPACECRAFT_POINTING_MODE = NADIR
^MEX_POINTING_DESC = "MEX_POINTING_DESC.TXT"
RIGHT_ASCENSION = -1e+32
DECLINATION = -1e+32
OFFSET_ANGLE = -1e+32
SPACECRAFT_SOLAR_DISTANCE = 2.48548e+08
TARGET_NAME = MARS
/* CAMERA DATA ELEMENTS */
DETECTOR_TEMPERATURE = 18.5744
FOCAL_PLANE_TEMPERATURE = 7.9716
INST_CMPRS_NAME = "DISCRETE COSINE TRANSFORMATION (DCT)"
INST_CMPRS_RATIO = 18.5918
INST_CMPRS_QUALITY = 0
INST_CMPRS_QUANTZ_TBL_ID = 0
INSTRUMENT_TEMPERATURE = 11.234
LENS_TEMPERATURE = 8.3794
MACROPIXEL_SIZE = 4
MISSING_FRAMES = 0
PIXEL_SUBSAMPLING_FLAG = N
SIGNAL_CHAIN_ID = 2
/* RADIOMETRIC DATA ELEMENTS */
BANDWIDTH = 48.0
CENTER_FILTER_WAVELENGTH = 748.0
RADIANCE_OFFSET = 0.570867
RADIANCE_SCALING_FACTOR = 0.00907057
REFLECTANCE_SCALING_FACTOR = 0.00127873
MEX:REFLECTANCE_OFFSET = 0.0804785
/* IMAGE OBJECT DEFINITIONS */
OBJECT = IMAGE
  INTERCHANGE_FORMAT = BINARY
  LINES = 10740
  LINE_SAMPLES = 7551
  SAMPLE_TYPE = UNSIGNED_INTEGER
  SAMPLE_BITS = 8
  BANDS = 1
  BAND_STORAGE_TYPE = BAND_SEQUENTIAL
  MAXIMUM = 255
  MEAN = 141.102
  MINIMUM = 1
  STANDARD_DEVIATION = 33.0307
END_OBJECT = IMAGE
/* MAP OBJECT DEFINITIONS */
OBJECT = IMAGE_MAP_PROJECTION
  ^DATA_SET_MAP_PROJECTION_CATALOG= "DSMAP.CAT"
  A_AXIS_RADIUS = 3396.0
  B_AXIS_RADIUS = 3396.0
  C_AXIS_RADIUS = 3396.0
  CENTER_LATITUDE = 90.0
  CENTER_LONGITUDE = 0.0
  COORDINATE_SYSTEM_NAME = PLANETOGRAPHIC
  COORDINATE_SYSTEM_TYPE = "BODY-FIXED ROTATING"
  EASTERNMOST_LONGITUDE = 118.513
  FIRST_STANDARD_PARALLEL = "N/A"
  LINE_FIRST_PIXEL = 1
  LINE_LAST_PIXEL = 10740
  LINE_PROJECTION_OFFSET = 2962.875
  MAP_PROJECTION_ROTATION = 0.0
  MAP_PROJECTION_TYPE = STEREOGRAPHIC
  MAP_RESOLUTION = 1185.42760773333
  MAP_SCALE = 0.05
  MAXIMUM_LATITUDE = 87.52249999999999
  MINIMUM_LATITUDE = 83.55670000000001
  POSITIVE_LONGITUDE_DIRECTION = EAST
  REFERENCE_LATITUDE = "N/A"
  REFERENCE_LONGITUDE = "N/A"
  SAMPLE_FIRST_PIXEL = 1
  SAMPLE_LAST_PIXEL = 7551
  SAMPLE_PROJECTION_OFFSET = 759.875
  SECOND_STANDARD_PARALLEL = "N/A"
  WESTERNMOST_LONGITUDE = -4.981
END_OBJECT = IMAGE_MAP_PROJECTION
/* The JPEG2000 image data file associated with this label. */
OBJECT = COMPRESSED_FILE
  FILE_NAME = "H5496_0000_RE3.JP2"
  RECORD_TYPE = UNDEFINED
  FILE_RECORDS = UNK
  ENCODING_TYPE = "JP2"
  INTERCHANGE_FORMAT = BINARY
  UNCOMPRESSED_FILE_NAME = "H5496_0000_RE3.IMG"
  REQUIRED_STORAGE_BYTES = "81135495"
  ^DESCRIPTION = "JP2INFO.TXT"
END_OBJECT = COMPRESSED_FILE
END
