PDS_VERSION_ID = PDS3
/* FILE DATA ELEMENTS */
RECORD_TYPE = STREAM
/* POINTERS TO DATA OBJECTS */
^COMPRESSED_FILE = "H5508_0000_RE3.JP2"
/* IDENTIFICATION DATA ELEMENTS */
DATA_SET_ID = "MEX-M-HRSC-5-REFDR-MAPPROJECTED-V3.0"
DATA_SET_NAME = "MARS EXPRESS HRSC MAP PROJECTED REFDR V3.0"
DETECTOR_ID = MEX_HRSC_RED
EVENT_TYPE = "MARS-REGIONAL-MAPPING-Im-Gl-Eo"
INSTRUMENT_HOST_ID = MEX
INSTRUMENT_HOST_NAME = "MARS EXPRESS"
INSTRUMENT_ID = HRSC
INSTRUMENT_NAME = "HIGH RESOLUTION STEREO CAMERA"
MISSION_NAME = "MARS EXPRESS"
MISSION_PHASE_NAME = ME_Phase_12
PROCESSING_LEVEL_ID = 3
PRODUCT_CREATION_TIME = 2016-05-15T06:04:46.000Z
PRODUCT_ID = "H5508_0000_RE3.JP2"
RELEASE_ID = 0063
REVISION_ID = 0000
/* QUALITY DATA ELEMENTS */
DATA_QUALITY_ID = 2
DATA_QUALITY_DESC = "Data calculated based on photogrammetrically improved orbit and attitude data"
/* TIME DATA ELEMENTS */
SPACECRAFT_CLOCK_START_COUNT = "1/0156414531.08405"
SPACECRAFT_CLOCK_STOP_COUNT = "1/0156414770.48278"
START_TIME = 2008-04-16T08:29:57.982Z
STOP_TIME = 2008-04-16T08:32:46.856Z
/* ORBITAL DATA ELEMENTS */
ASCENDING_NODE_LONGITUDE = 113.71
MAXIMUM_RESOLUTION = 60.1
FOOTPRINT_POINT_LATITUDE = (79.716,79.6714,79.6147,79.5336,79.4391 ,79.3613,79.1459,78.9419,78.6338, 78.3241,78.117,77.9091,77.7007,77.4918, 77.283,77.0735,76.7587,76.4434,76.2327, 76.0218,75.8106,75.5993,75.2818,75.0699 ,74.8578,74.6455,74.4331,74.1143, 73.9015,73.6887,73.476,73.2629,73.0499, 72.8367,72.6235,72.4103,72.197,71.9836, 71.6633,71.3433,71.1297,70.9162,70.7028 ,70.4892,70.2756,70.0621,69.8487, 69.6353,69.4219,69.2085,68.8885,68.8824 ,68.9215,68.9429,68.9674,69.0006,69.216 ,69.5394,69.8631,70.0789,70.2948, 70.5106,70.7268,70.9429,71.1592,71.3754 ,71.5917,71.8079,72.1326,72.349,72.6739 ,72.8904,73.215,73.4317,73.6483,73.8648 ,74.1899,74.5148,74.7312,74.9481, 75.2728,75.5976,75.8142,76.1388,76.4633 ,76.6795,77.0037,77.2197,77.4356, 77.6513,77.867,78.0821,78.2972,78.5124, 78.7265,78.9421,79.1521,79.3665,79.5806 ,79.716)
FOOTPRINT_POINT_LONGITUDE = (12.1142,11.1894,10.0909,8.64351, 7.10029,5.92808,6.11389,6.51726,7.09838 ,7.64937,8.00021,8.33965,8.66786, 8.98452,9.28902,9.58408,10.0083,10.411, 10.669,10.9187,11.1606,11.3947,11.7326, 11.9495,12.1599,12.3639,12.562,12.848, 13.0322,13.2108,13.3839,13.5528,13.7169 ,13.8765,14.0317,14.1827,14.3298, 14.4729,14.681,14.8805,15.0097,15.1353, 15.2578,15.3774,15.494,15.6077,15.7185, 15.8266,15.9322,16.0352,16.1853,17.1181 ,17.8983,18.3549,18.91,19.7065,19.6388, 19.5343,19.4263,19.3522,19.2763,19.1984 ,19.1189,19.0373,18.9538,18.8682, 18.7804,18.6903,18.5509,18.4549,18.3062 ,18.2037,18.0446,17.935,17.8223,17.7063 ,17.5263,17.3382,17.2081,17.0744, 16.8657,16.6473,16.496,16.2597,16.0118, 15.8395,15.57,15.3825,15.1883,14.9871, 14.7787,14.5622,14.3377,14.1046,13.862, 13.6107,13.3465,13.0739,12.7898, 12.1142)
ORBIT_NUMBER = 5508
ORBITAL_ECCENTRICITY = 0.568
ORBITAL_INCLINATION = 86.74
ORBITAL_SEMIMAJOR_AXIS = 8645.01
PERIAPSIS_ALTITUDE = 355.34
PERIAPSIS_ARGUMENT_ANGLE = 109.35
PERIAPSIS_TIME = 2008-04-16T08:31:57.000Z
SPACECRAFT_ORIENTATION = (0.0,-1.0,0.0)
^MEX_ORIENTATION_DESC = "MEX_ORIENTATION_DESC.TXT"
SPACECRAFT_POINTING_MODE = ACROSSTRACK
^MEX_POINTING_DESC = "MEX_POINTING_DESC.TXT"
RIGHT_ASCENSION = -1e+32
DECLINATION = -1e+32
OFFSET_ANGLE = -0.03
SPACECRAFT_SOLAR_DISTANCE = 2.48692e+08
TARGET_NAME = MARS
/* CAMERA DATA ELEMENTS */
DETECTOR_TEMPERATURE = 18.1666
FOCAL_PLANE_TEMPERATURE = 7.7677
INST_CMPRS_NAME = "DISCRETE COSINE TRANSFORMATION (DCT)"
INST_CMPRS_RATIO = 14.7181
INST_CMPRS_QUALITY = 0
INST_CMPRS_QUANTZ_TBL_ID = 0
INSTRUMENT_TEMPERATURE = 10.8262
LENS_TEMPERATURE = 7.9716
MACROPIXEL_SIZE = 4
MISSING_FRAMES = 0
PIXEL_SUBSAMPLING_FLAG = N
SIGNAL_CHAIN_ID = 2
/* RADIOMETRIC DATA ELEMENTS */
BANDWIDTH = 48.0
CENTER_FILTER_WAVELENGTH = 748.0
RADIANCE_OFFSET = 1.29641
RADIANCE_SCALING_FACTOR = 0.00902972
REFLECTANCE_SCALING_FACTOR = 0.00127445
MEX:REFLECTANCE_OFFSET = 0.182974
/* IMAGE OBJECT DEFINITIONS */
OBJECT = IMAGE
  INTERCHANGE_FORMAT = BINARY
  LINES = 13057
  LINE_SAMPLES = 4030
  SAMPLE_TYPE = UNSIGNED_INTEGER
  SAMPLE_BITS = 8
  BANDS = 1
  BAND_STORAGE_TYPE = BAND_SEQUENTIAL
  MAXIMUM = 255
  MEAN = 140.868
  MINIMUM = 1
  STANDARD_DEVIATION = 31.273
END_OBJECT = IMAGE
/* MAP OBJECT DEFINITIONS */
OBJECT = IMAGE_MAP_PROJECTION
  ^DATA_SET_MAP_PROJECTION_CATALOG= "DSMAP.CAT"
  A_AXIS_RADIUS = 3396.0
  B_AXIS_RADIUS = 3396.0
  C_AXIS_RADIUS = 3396.0
  CENTER_LATITUDE = 0.0
  CENTER_LONGITUDE = 15.0
  COORDINATE_SYSTEM_NAME = PLANETOGRAPHIC
  COORDINATE_SYSTEM_TYPE = "BODY-FIXED ROTATING"
  EASTERNMOST_LONGITUDE = 19.7065
  FIRST_STANDARD_PARALLEL = "N/A"
  LINE_FIRST_PIXEL = 1
  LINE_LAST_PIXEL = 13057
  LINE_PROJECTION_OFFSET = 94638.125
  MAP_PROJECTION_ROTATION = 0.0
  MAP_PROJECTION_TYPE = SINUSOIDAL
  MAP_RESOLUTION = 1185.42760773333
  MAP_SCALE = 0.05
  MAXIMUM_LATITUDE = 79.71599999999999
  MINIMUM_LATITUDE = 68.8824
  POSITIVE_LONGITUDE_DIRECTION = EAST
  REFERENCE_LATITUDE = "N/A"
  REFERENCE_LONGITUDE = "N/A"
  SAMPLE_FIRST_PIXEL = 1
  SAMPLE_LAST_PIXEL = 4030
  SAMPLE_PROJECTION_OFFSET = 2032.125
  SECOND_STANDARD_PARALLEL = "N/A"
  WESTERNMOST_LONGITUDE = 5.92808
END_OBJECT = IMAGE_MAP_PROJECTION
/* The JPEG2000 image data file associated with this label. */
OBJECT = COMPRESSED_FILE
  FILE_NAME = "H5508_0000_RE3.JP2"
  RECORD_TYPE = UNDEFINED
  FILE_RECORDS = UNK
  ENCODING_TYPE = "JP2"
  INTERCHANGE_FORMAT = BINARY
  UNCOMPRESSED_FILE_NAME = "H5508_0000_RE3.IMG"
  REQUIRED_STORAGE_BYTES = "52643890"
  ^DESCRIPTION = "JP2INFO.TXT"
END_OBJECT = COMPRESSED_FILE
END
