PDS_VERSION_ID = PDS3
/* FILE DATA ELEMENTS */
RECORD_TYPE = STREAM
/* POINTERS TO DATA OBJECTS */
^COMPRESSED_FILE = "H5508_0000_S13.JP2"
/* IDENTIFICATION DATA ELEMENTS */
DATA_SET_ID = "MEX-M-HRSC-5-REFDR-MAPPROJECTED-V3.0"
DATA_SET_NAME = "MARS EXPRESS HRSC MAP PROJECTED REFDR V3.0"
DETECTOR_ID = MEX_HRSC_S1
EVENT_TYPE = "MARS-REGIONAL-MAPPING-Im-Gl-Eo"
INSTRUMENT_HOST_ID = MEX
INSTRUMENT_HOST_NAME = "MARS EXPRESS"
INSTRUMENT_ID = HRSC
INSTRUMENT_NAME = "HIGH RESOLUTION STEREO CAMERA"
MISSION_NAME = "MARS EXPRESS"
MISSION_PHASE_NAME = ME_Phase_12
PROCESSING_LEVEL_ID = 3
PRODUCT_CREATION_TIME = 2016-05-15T06:04:46.000Z
PRODUCT_ID = "H5508_0000_S13.JP2"
RELEASE_ID = 0063
REVISION_ID = 0000
/* QUALITY DATA ELEMENTS */
DATA_QUALITY_ID = 2
DATA_QUALITY_DESC = "Data calculated based on photogrammetrically improved orbit and attitude data"
/* TIME DATA ELEMENTS */
SPACECRAFT_CLOCK_START_COUNT = "1/0156414531.08405"
SPACECRAFT_CLOCK_STOP_COUNT = "1/0156414770.48278"
START_TIME = 2008-04-16T08:28:54.851Z
STOP_TIME = 2008-04-16T08:31:48.083Z
/* ORBITAL DATA ELEMENTS */
ASCENDING_NODE_LONGITUDE = 113.71
MAXIMUM_RESOLUTION = 30.4
FOOTPRINT_POINT_LATITUDE = (79.9603,79.9073,79.8247,79.7585, 79.6926,79.6362,79.4089,79.0724,78.8456 ,78.6161,78.3876,78.1582,77.8131, 77.5824,77.3504,77.0012,76.7679,76.5333 ,76.2983,75.948,75.7498,75.5512,75.3524 ,75.0532,74.8534,74.6531,74.4525, 74.1508,73.9494,73.7476,73.5451,73.2412 ,73.0382,72.8349,72.5292,72.3252, 72.1209,71.9162,71.7115,71.5062,71.1983 ,70.9925,70.7865,70.4771,70.1673, 69.9604,69.7533,69.5459,69.2345,69.0268 ,68.8056,68.8629,68.9019,68.928,68.9622 ,69.1818,69.392,69.707,70.0213,70.2308, 70.4402,70.6495,70.8585,71.0673,71.2759 ,71.4845,71.797,72.1089,72.4206,72.6281 ,72.8353,73.146,73.3529,73.5594,73.869, 74.0751,74.2807,74.589,74.7945,74.9991, 75.204,75.4084,75.6126,75.9185,76.2236, 76.4573,76.6992,76.9408,77.182,77.4227, 77.663,77.9028,78.2621,78.5004,78.7396, 79.0967,79.3361,79.5716,79.8081, 79.9603)
FOOTPRINT_POINT_LONGITUDE = (12.2061,11.109,9.55261,8.41878,7.36637 ,6.5203,5.3979,6.1101,6.56112,6.99436, 7.41001,7.80942,8.37994,8.7424,9.09142, 9.59118,9.90944,10.2164,10.5126,10.9339 ,11.1621,11.3839,11.5995,11.9117, 12.1128,12.3084,12.4988,12.7749,12.953, 13.1265,13.2954,13.5408,13.6993,13.8538 ,14.0784,14.2235,14.3652,14.5033, 14.6383,14.7699,14.9618,15.0858,15.2071 ,15.3837,15.5544,15.6649,15.773,15.8786 ,16.0327,16.1326,16.4755,17.4452,18.183 ,18.7214,19.4971,19.6476,19.5821, 19.4812,19.3773,19.306,19.2331,19.1584, 19.0824,19.0045,18.9249,18.8434,18.7174 ,18.5873,18.4522,18.3595,18.2646, 18.1174,18.0162,17.9128,17.7521,17.6415 ,17.5286,17.3528,17.2314,17.1075, 16.9795,16.8482,16.7131,16.503,16.2839, 16.1092,15.9216,15.7267,15.5247,15.3151 ,15.0971,14.8708,14.5127,14.2634, 13.9995,13.5843,13.2859,12.9847,12.6644 ,12.2061)
ORBIT_NUMBER = 5508
ORBITAL_ECCENTRICITY = 0.568
ORBITAL_INCLINATION = 86.74
ORBITAL_SEMIMAJOR_AXIS = 8645.01
PERIAPSIS_ALTITUDE = 355.34
PERIAPSIS_ARGUMENT_ANGLE = 109.35
PERIAPSIS_TIME = 2008-04-16T08:31:57.000Z
SPACECRAFT_ORIENTATION = (0.0,-1.0,0.0)
^MEX_ORIENTATION_DESC = "MEX_ORIENTATION_DESC.TXT"
SPACECRAFT_POINTING_MODE = ACROSSTRACK
^MEX_POINTING_DESC = "MEX_POINTING_DESC.TXT"
RIGHT_ASCENSION = -1e+32
DECLINATION = -1e+32
OFFSET_ANGLE = -0.03
SPACECRAFT_SOLAR_DISTANCE = 2.48692e+08
TARGET_NAME = MARS
/* CAMERA DATA ELEMENTS */
DETECTOR_TEMPERATURE = 17.351
FOCAL_PLANE_TEMPERATURE = 7.7677
INST_CMPRS_NAME = "DISCRETE COSINE TRANSFORMATION (DCT)"
INST_CMPRS_RATIO = 10.5421
INST_CMPRS_QUALITY = 0
INST_CMPRS_QUANTZ_TBL_ID = 0
INSTRUMENT_TEMPERATURE = 10.8262
LENS_TEMPERATURE = 7.9716
MACROPIXEL_SIZE = 2
MISSING_FRAMES = 0
PIXEL_SUBSAMPLING_FLAG = N
SIGNAL_CHAIN_ID = 1
/* RADIOMETRIC DATA ELEMENTS */
BANDWIDTH = 180.0
CENTER_FILTER_WAVELENGTH = 677.0
RADIANCE_OFFSET = 5.46538
RADIANCE_SCALING_FACTOR = 0.0326152
REFLECTANCE_SCALING_FACTOR = 0.00105241
MEX:REFLECTANCE_OFFSET = 0.176354
/* IMAGE OBJECT DEFINITIONS */
OBJECT = IMAGE
  INTERCHANGE_FORMAT = BINARY
  LINES = 26113
  LINE_SAMPLES = 8059
  SAMPLE_TYPE = UNSIGNED_INTEGER
  SAMPLE_BITS = 8
  BANDS = 1
  BAND_STORAGE_TYPE = BAND_SEQUENTIAL
  MAXIMUM = 255
  MEAN = 138.697
  MINIMUM = 1
  STANDARD_DEVIATION = 40.6283
END_OBJECT = IMAGE
/* MAP OBJECT DEFINITIONS */
OBJECT = IMAGE_MAP_PROJECTION
  ^DATA_SET_MAP_PROJECTION_CATALOG= "DSMAP.CAT"
  A_AXIS_RADIUS = 3396.0
  B_AXIS_RADIUS = 3396.0
  C_AXIS_RADIUS = 3396.0
  CENTER_LATITUDE = 0.0
  CENTER_LONGITUDE = 15.0
  COORDINATE_SYSTEM_NAME = PLANETOGRAPHIC
  COORDINATE_SYSTEM_TYPE = "BODY-FIXED ROTATING"
  EASTERNMOST_LONGITUDE = 19.6476
  FIRST_STANDARD_PARALLEL = "N/A"
  LINE_FIRST_PIXEL = 1
  LINE_LAST_PIXEL = 26113
  LINE_PROJECTION_OFFSET = 189276.75
  MAP_PROJECTION_ROTATION = 0.0
  MAP_PROJECTION_TYPE = SINUSOIDAL
  MAP_RESOLUTION = 2370.85521546667
  MAP_SCALE = 0.025
  MAXIMUM_LATITUDE = 79.9603
  MINIMUM_LATITUDE = 68.8056
  POSITIVE_LONGITUDE_DIRECTION = EAST
  REFERENCE_LATITUDE = "N/A"
  REFERENCE_LONGITUDE = "N/A"
  SAMPLE_FIRST_PIXEL = 1
  SAMPLE_LAST_PIXEL = 8059
  SAMPLE_PROJECTION_OFFSET = 4064.75
  SECOND_STANDARD_PARALLEL = "N/A"
  WESTERNMOST_LONGITUDE = 5.3979
END_OBJECT = IMAGE_MAP_PROJECTION
/* The JPEG2000 image data file associated with this label. */
OBJECT = COMPRESSED_FILE
  FILE_NAME = "H5508_0000_S13.JP2"
  RECORD_TYPE = UNDEFINED
  FILE_RECORDS = UNK
  ENCODING_TYPE = "JP2"
  INTERCHANGE_FORMAT = BINARY
  UNCOMPRESSED_FILE_NAME = "H5508_0000_S13.IMG"
  REQUIRED_STORAGE_BYTES = "210476903"
  ^DESCRIPTION = "JP2INFO.TXT"
END_OBJECT = COMPRESSED_FILE
END
