PDS_VERSION_ID = PDS3
/* FILE DATA ELEMENTS */
RECORD_TYPE = STREAM
/* POINTERS TO DATA OBJECTS */
^COMPRESSED_FILE = "H5513_0000_P13.JP2"
/* IDENTIFICATION DATA ELEMENTS */
DATA_SET_ID = "MEX-M-HRSC-5-REFDR-MAPPROJECTED-V3.0"
DATA_SET_NAME = "MARS EXPRESS HRSC MAP PROJECTED REFDR V3.0"
DETECTOR_ID = MEX_HRSC_P1
EVENT_TYPE = "MARS-REGIONAL-MAPPING-Gl-Eo-La"
INSTRUMENT_HOST_ID = MEX
INSTRUMENT_HOST_NAME = "MARS EXPRESS"
INSTRUMENT_ID = HRSC
INSTRUMENT_NAME = "HIGH RESOLUTION STEREO CAMERA"
MISSION_NAME = "MARS EXPRESS"
MISSION_PHASE_NAME = ME_Phase_12
PROCESSING_LEVEL_ID = 3
PRODUCT_CREATION_TIME = 2016-05-15T06:04:46.000Z
PRODUCT_ID = "H5513_0000_P13.JP2"
RELEASE_ID = 0063
REVISION_ID = 0000
/* QUALITY DATA ELEMENTS */
DATA_QUALITY_ID = 1
DATA_QUALITY_DESC = "Data calculated based on original SPICE kernels"
/* TIME DATA ELEMENTS */
SPACECRAFT_CLOCK_START_COUNT = "1/0156537484.08249"
SPACECRAFT_CLOCK_STOP_COUNT = "1/0156537731.40443"
START_TIME = 2008-04-17T18:38:24.476Z
STOP_TIME = 2008-04-17T18:41:15.454Z
/* ORBITAL DATA ELEMENTS */
ASCENDING_NODE_LONGITUDE = 113.62
MAXIMUM_RESOLUTION = 32.2
FOOTPRINT_POINT_LATITUDE = (86.4958,86.2987,86.1492,85.9912,85.826 ,85.6546,85.4777,85.6817,85.8236, 85.9565,86.0826,86.2001,86.3084,86.4038 ,86.527,86.6229,86.6705,86.716,86.7291, 86.7228,86.6853,86.6444,86.5909,86.5253 ,86.4483,86.361,86.2659,86.0499,85.8685 ,85.7396,85.5366,85.395,85.1755,85.0243 ,84.8693,84.7103,84.5509,84.3105, 83.9808,83.8127,83.6426,83.4707,83.2971 ,83.1217,82.945,82.7669,82.5876,82.407, 82.2252,81.9359,82.0666,82.1321,82.1925 ,82.2474,82.297,82.5115,82.707,82.9019, 83.0958,83.29,83.4835,83.6762,83.9652, 84.1571,84.3475,84.5368,84.9122,85.1941 ,85.4757,85.6633,85.8493,86.0338, 86.2161,86.3958,86.5727,86.751,87.0113, 87.179,87.341,87.4964,87.6447,87.786, 87.9153,88.0305,88.1289,88.2079,88.2857 ,88.3055,88.2985,88.2651,88.2067, 88.1241,87.9627,87.8341,87.6938,87.4567 ,87.2878,87.1124,86.8402,86.4958)
FOOTPRINT_POINT_LONGITUDE = (97.1118,101.94,104.969,107.747,110.293 ,112.629,114.774,117.853,120.148, 122.566,125.168,127.941,130.895,133.938 ,138.811,143.992,147.591,153.081, 156.799,162.371,167.877,171.391,174.824 ,178.143,181.336,184.371,187.198, 192.421,195.949,198.126,201.129,202.979 ,205.529,207.099,208.578,209.973, 211.266,213.041,215.189,216.176,217.112 ,217.999,218.841,219.64,220.399,221.121 ,221.807,222.462,223.086,224.419, 227.031,228.524,230.055,231.624,233.227 ,233.539,233.187,232.816,232.432, 232.015,231.576,231.111,230.343,229.784 ,229.204,228.589,227.234,226.005, 224.655,223.655,222.569,221.365,220.053 ,218.619,217.037,215.239,212.142, 209.767,207.113,204.122,200.707,196.781 ,192.35,187.379,181.843,175.766,165.617 ,158.44,151.226,144.191,137.525,131.236 ,122.923,118.14,113.929,108.455,105.344 ,102.608,99.0857,97.1118)
ORBIT_NUMBER = 5513
ORBITAL_ECCENTRICITY = 0.568
ORBITAL_INCLINATION = 86.76
ORBITAL_SEMIMAJOR_AXIS = 8641.14
PERIAPSIS_ALTITUDE = 354.58
PERIAPSIS_ARGUMENT_ANGLE = 108.47
PERIAPSIS_TIME = 2008-04-17T18:44:28.000Z
SPACECRAFT_ORIENTATION = (0.0,-1.0,0.0)
^MEX_ORIENTATION_DESC = "MEX_ORIENTATION_DESC.TXT"
SPACECRAFT_POINTING_MODE = ACROSSTRACK
^MEX_POINTING_DESC = "MEX_POINTING_DESC.TXT"
RIGHT_ASCENSION = -1e+32
DECLINATION = -1e+32
OFFSET_ANGLE = 0.7
SPACECRAFT_SOLAR_DISTANCE = 2.48746e+08
TARGET_NAME = MARS
/* CAMERA DATA ELEMENTS */
DETECTOR_TEMPERATURE = 16.7393
FOCAL_PLANE_TEMPERATURE = 7.5638
INST_CMPRS_NAME = "DISCRETE COSINE TRANSFORMATION (DCT)"
INST_CMPRS_RATIO = 11.4835
INST_CMPRS_QUALITY = 0
INST_CMPRS_QUANTZ_TBL_ID = 0
INSTRUMENT_TEMPERATURE = 10.6223
LENS_TEMPERATURE = 8.3794
MACROPIXEL_SIZE = 2
MISSING_FRAMES = 0
PIXEL_SUBSAMPLING_FLAG = N
SIGNAL_CHAIN_ID = 3
/* RADIOMETRIC DATA ELEMENTS */
BANDWIDTH = 174.0
CENTER_FILTER_WAVELENGTH = 675.0
RADIANCE_OFFSET = 4.20303
RADIANCE_SCALING_FACTOR = 0.0294462
REFLECTANCE_SCALING_FACTOR = 0.000980007
MEX:REFLECTANCE_OFFSET = 0.139882
/* IMAGE OBJECT DEFINITIONS */
OBJECT = IMAGE
  INTERCHANGE_FORMAT = BINARY
  LINES = 12651
  LINE_SAMPLES = 24082
  SAMPLE_TYPE = UNSIGNED_INTEGER
  SAMPLE_BITS = 8
  BANDS = 1
  BAND_STORAGE_TYPE = BAND_SEQUENTIAL
  MAXIMUM = 255
  MEAN = 127.282
  MINIMUM = 1
  STANDARD_DEVIATION = 35.1919
END_OBJECT = IMAGE
/* MAP OBJECT DEFINITIONS */
OBJECT = IMAGE_MAP_PROJECTION
  ^DATA_SET_MAP_PROJECTION_CATALOG= "DSMAP.CAT"
  A_AXIS_RADIUS = 3396.0
  B_AXIS_RADIUS = 3396.0
  C_AXIS_RADIUS = 3396.0
  CENTER_LATITUDE = 90.0
  CENTER_LONGITUDE = 0.0
  COORDINATE_SYSTEM_NAME = PLANETOGRAPHIC
  COORDINATE_SYSTEM_TYPE = "BODY-FIXED ROTATING"
  EASTERNMOST_LONGITUDE = 233.539
  FIRST_STANDARD_PARALLEL = "N/A"
  LINE_FIRST_PIXEL = 1
  LINE_LAST_PIXEL = 12651
  LINE_PROJECTION_OFFSET = 13790.75
  MAP_PROJECTION_ROTATION = 0.0
  MAP_PROJECTION_TYPE = STEREOGRAPHIC
  MAP_RESOLUTION = 2370.85521546667
  MAP_SCALE = 0.025
  MAXIMUM_LATITUDE = 88.30549999999999
  MINIMUM_LATITUDE = 81.9359
  POSITIVE_LONGITUDE_DIRECTION = EAST
  REFERENCE_LATITUDE = "N/A"
  REFERENCE_LONGITUDE = "N/A"
  SAMPLE_FIRST_PIXEL = 1
  SAMPLE_LAST_PIXEL = 24082
  SAMPLE_PROJECTION_OFFSET = 14583.75
  SECOND_STANDARD_PARALLEL = "N/A"
  WESTERNMOST_LONGITUDE = 97.1118
END_OBJECT = IMAGE_MAP_PROJECTION
/* The JPEG2000 image data file associated with this label. */
OBJECT = COMPRESSED_FILE
  FILE_NAME = "H5513_0000_P13.JP2"
  RECORD_TYPE = UNDEFINED
  FILE_RECORDS = UNK
  ENCODING_TYPE = "JP2"
  INTERCHANGE_FORMAT = BINARY
  UNCOMPRESSED_FILE_NAME = "H5513_0000_P13.IMG"
  REQUIRED_STORAGE_BYTES = "304733628"
  ^DESCRIPTION = "JP2INFO.TXT"
END_OBJECT = COMPRESSED_FILE
END
