PDS_VERSION_ID = PDS3
/* FILE DATA ELEMENTS */
RECORD_TYPE = STREAM
/* POINTERS TO DATA OBJECTS */
^COMPRESSED_FILE = "H5515_0000_GR3.JP2"
/* IDENTIFICATION DATA ELEMENTS */
DATA_SET_ID = "MEX-M-HRSC-5-REFDR-MAPPROJECTED-V3.0"
DATA_SET_NAME = "MARS EXPRESS HRSC MAP PROJECTED REFDR V3.0"
DETECTOR_ID = MEX_HRSC_GREEN
EVENT_TYPE = "MARS-REGIONAL-MAPPING-Gl-La"
INSTRUMENT_HOST_ID = MEX
INSTRUMENT_HOST_NAME = "MARS EXPRESS"
INSTRUMENT_ID = HRSC
INSTRUMENT_NAME = "HIGH RESOLUTION STEREO CAMERA"
MISSION_NAME = "MARS EXPRESS"
MISSION_PHASE_NAME = ME_Phase_12
PROCESSING_LEVEL_ID = 3
PRODUCT_CREATION_TIME = 2016-05-15T06:04:46.000Z
PRODUCT_ID = "H5515_0000_GR3.JP2"
RELEASE_ID = 0063
REVISION_ID = 0000
/* QUALITY DATA ELEMENTS */
DATA_QUALITY_ID = 1
DATA_QUALITY_DESC = "Data calculated based on original SPICE kernels"
/* TIME DATA ELEMENTS */
SPACECRAFT_CLOCK_START_COUNT = "1/0156586712.08261"
SPACECRAFT_CLOCK_STOP_COUNT = "1/0156586948.49844"
START_TIME = 2008-04-18T08:19:16.860Z
STOP_TIME = 2008-04-18T08:21:48.309Z
/* ORBITAL DATA ELEMENTS */
ASCENDING_NODE_LONGITUDE = 113.57
MAXIMUM_RESOLUTION = 58.8
FOOTPRINT_POINT_LATITUDE = (84.4798,84.3947,84.3013,84.2,84.0917, 83.9767,83.8554,84.0757,84.2422,84.4066 ,84.5687,84.7246,84.878,85.0285,85.2479 ,85.3886,85.5889,85.7168,85.8398, 85.9573,86.0682,86.1709,86.2669,86.3555 ,86.4363,86.5087,86.5718,86.6244, 86.6674,86.7006,86.7234,86.7357,86.7342 ,86.7203,86.6805,86.6418,86.5936, 86.5365,86.4706,86.3972,86.2753,86.1857 ,86.0396,85.9353,85.8257,85.7112, 85.5342,85.2877,85.0282,84.8055,84.9171 ,85.0518,85.1523,85.2537,85.3869, 85.6016,85.7623,85.9218,86.2362,86.5427 ,86.7723,86.922,87.0682,87.2104,87.3481 ,87.544,87.6671,87.8403,87.9429,88.0344 ,88.1128,88.1751,88.2218,88.25,88.2596, 88.2357,88.1961,88.1386,88.0224,87.9262 ,87.817,87.6976,87.5689,87.433,87.2914, 87.1418,86.9855,86.825,86.6615,86.4952, 86.3265,86.1523,85.9748,85.7964,85.6162 ,85.435,85.1558,84.9684,84.7809, 84.4798)
FOOTPRINT_POINT_LONGITUDE = (246.809,249.162,251.426,253.6,255.68, 257.672,259.579,261.964,263.049,264.201 ,265.425,266.693,268.043,269.477, 271.797,273.457,276.104,278.006,280.025 ,282.167,284.422,286.766,289.236, 291.836,294.563,297.413,300.366,303.361 ,306.444,309.603,312.819,316.072, 320.967,324.144,328.845,331.901,334.883 ,337.77,340.563,343.225,346.949,349.293 ,352.603,354.673,356.639,358.503, 361.079,364.171,366.951,371.01,372.805, 375.208,377.214,379.465,382.892,383.281 ,382.346,381.339,379.077,376.38,373.98, 372.182,370.202,368.019,365.613,361.492 ,358.398,352.963,348.836,344.324, 339.415,334.109,328.502,322.624,316.497 ,307.362,301.509,295.967,288.382, 283.789,279.592,275.812,272.427,269.391 ,266.659,264.188,261.949,259.938, 258.119,256.471,254.974,253.572,252.313 ,251.151,250.091,249.114,247.763, 246.939,246.162,246.809)
ORBIT_NUMBER = 5515
ORBITAL_ECCENTRICITY = 0.568
ORBITAL_INCLINATION = 86.75
ORBITAL_SEMIMAJOR_AXIS = 8644.38
PERIAPSIS_ALTITUDE = 355.51
PERIAPSIS_ARGUMENT_ANGLE = 108.14
PERIAPSIS_TIME = 2008-04-18T08:25:30.000Z
SPACECRAFT_ORIENTATION = (0.0,-1.0,0.0)
^MEX_ORIENTATION_DESC = "MEX_ORIENTATION_DESC.TXT"
SPACECRAFT_POINTING_MODE = ACROSSTRACK
^MEX_POINTING_DESC = "MEX_POINTING_DESC.TXT"
RIGHT_ASCENSION = -1e+32
DECLINATION = -1e+32
OFFSET_ANGLE = 0.686
SPACECRAFT_SOLAR_DISTANCE = 2.48768e+08
TARGET_NAME = MARS
/* CAMERA DATA ELEMENTS */
DETECTOR_TEMPERATURE = 17.7588
FOCAL_PLANE_TEMPERATURE = 6.9521
INST_CMPRS_NAME = "DISCRETE COSINE TRANSFORMATION (DCT)"
INST_CMPRS_RATIO = 16.2788
INST_CMPRS_QUALITY = 0
INST_CMPRS_QUANTZ_TBL_ID = 0
INSTRUMENT_TEMPERATURE = 10.8262
LENS_TEMPERATURE = 7.7677
MACROPIXEL_SIZE = 4
MISSING_FRAMES = 1
PIXEL_SUBSAMPLING_FLAG = N
SIGNAL_CHAIN_ID = 2
/* RADIOMETRIC DATA ELEMENTS */
BANDWIDTH = 88.0
CENTER_FILTER_WAVELENGTH = 538.0
RADIANCE_OFFSET = 1.24665
RADIANCE_SCALING_FACTOR = 0.011438
REFLECTANCE_SCALING_FACTOR = 0.000609433
MEX:REFLECTANCE_OFFSET = 0.0664233
/* IMAGE OBJECT DEFINITIONS */
OBJECT = IMAGE
  INTERCHANGE_FORMAT = BINARY
  LINES = 8807
  LINE_SAMPLES = 9369
  SAMPLE_TYPE = UNSIGNED_INTEGER
  SAMPLE_BITS = 8
  BANDS = 1
  BAND_STORAGE_TYPE = BAND_SEQUENTIAL
  MAXIMUM = 255
  MEAN = 156.677
  MINIMUM = 1
  STANDARD_DEVIATION = 31.2623
END_OBJECT = IMAGE
/* MAP OBJECT DEFINITIONS */
OBJECT = IMAGE_MAP_PROJECTION
  ^DATA_SET_MAP_PROJECTION_CATALOG= "DSMAP.CAT"
  A_AXIS_RADIUS = 3396.0
  B_AXIS_RADIUS = 3396.0
  C_AXIS_RADIUS = 3396.0
  CENTER_LATITUDE = 90.0
  CENTER_LONGITUDE = 0.0
  COORDINATE_SYSTEM_NAME = PLANETOGRAPHIC
  COORDINATE_SYSTEM_TYPE = "BODY-FIXED ROTATING"
  EASTERNMOST_LONGITUDE = 23.281
  FIRST_STANDARD_PARALLEL = "N/A"
  LINE_FIRST_PIXEL = 1
  LINE_LAST_PIXEL = 8807
  LINE_PROJECTION_OFFSET = 2619.875
  MAP_PROJECTION_ROTATION = 0.0
  MAP_PROJECTION_TYPE = STEREOGRAPHIC
  MAP_RESOLUTION = 1185.42760773333
  MAP_SCALE = 0.05
  MAXIMUM_LATITUDE = 88.25960000000001
  MINIMUM_LATITUDE = 83.8554
  POSITIVE_LONGITUDE_DIRECTION = EAST
  REFERENCE_LATITUDE = "N/A"
  REFERENCE_LONGITUDE = "N/A"
  SAMPLE_FIRST_PIXEL = 1
  SAMPLE_LAST_PIXEL = 9369
  SAMPLE_PROJECTION_OFFSET = 7215.625
  SECOND_STANDARD_PARALLEL = "N/A"
  WESTERNMOST_LONGITUDE = -113.838
END_OBJECT = IMAGE_MAP_PROJECTION
/* The JPEG2000 image data file associated with this label. */
OBJECT = COMPRESSED_FILE
  FILE_NAME = "H5515_0000_GR3.JP2"
  RECORD_TYPE = UNDEFINED
  FILE_RECORDS = UNK
  ENCODING_TYPE = "JP2"
  INTERCHANGE_FORMAT = BINARY
  UNCOMPRESSED_FILE_NAME = "H5515_0000_GR3.IMG"
  REQUIRED_STORAGE_BYTES = "82540890"
  ^DESCRIPTION = "JP2INFO.TXT"
END_OBJECT = COMPRESSED_FILE
END
