PDS_VERSION_ID = PDS3
/* FILE DATA ELEMENTS */
RECORD_TYPE = STREAM
/* POINTERS TO DATA OBJECTS */
^COMPRESSED_FILE = "H5518_0000_S13.JP2"
/* IDENTIFICATION DATA ELEMENTS */
DATA_SET_ID = "MEX-M-HRSC-5-REFDR-MAPPROJECTED-V3.0"
DATA_SET_NAME = "MARS EXPRESS HRSC MAP PROJECTED REFDR V3.0"
DETECTOR_ID = MEX_HRSC_S1
EVENT_TYPE = "MARS-REGIONAL-MAPPING-Gl-Pf-Eo"
INSTRUMENT_HOST_ID = MEX
INSTRUMENT_HOST_NAME = "MARS EXPRESS"
INSTRUMENT_ID = HRSC
INSTRUMENT_NAME = "HIGH RESOLUTION STEREO CAMERA"
MISSION_NAME = "MARS EXPRESS"
MISSION_PHASE_NAME = ME_Phase_12
PROCESSING_LEVEL_ID = 3
PRODUCT_CREATION_TIME = 2016-05-15T06:04:46.000Z
PRODUCT_ID = "H5518_0000_S13.JP2"
RELEASE_ID = 0063
REVISION_ID = 0000
/* QUALITY DATA ELEMENTS */
DATA_QUALITY_ID = 1
DATA_QUALITY_DESC = "Data calculated based on original SPICE kernels"
/* TIME DATA ELEMENTS */
SPACECRAFT_CLOCK_START_COUNT = "1/0156660864.08250"
SPACECRAFT_CLOCK_STOP_COUNT = "1/0156661057.39302"
START_TIME = 2008-04-19T04:54:27.833Z
STOP_TIME = 2008-04-19T04:56:35.101Z
/* ORBITAL DATA ELEMENTS */
ASCENDING_NODE_LONGITUDE = 113.52
MAXIMUM_RESOLUTION = 30.4
FOOTPRINT_POINT_LATITUDE = (80.1669,80.1026,80.0534,80.0006, 79.9444,79.8848,79.8218,79.5117,79.2552 ,79.0836,78.9114,78.7388,78.5661, 78.3924,78.2181,77.9565,77.7815,77.4856 ,77.1916,76.8945,76.5972,76.4479, 76.2239,76.0744,75.925,75.775,75.6248, 75.4743,75.3239,75.1731,75.0221,74.8712 ,74.7197,74.4924,74.2649,74.1128, 73.9606,73.8082,73.5796,73.427,73.2743, 73.0449,72.8921,72.7382,72.5847,72.4309 ,72.277,72.1232,71.8817,71.9127,71.9417 ,71.9766,71.9964,72.02,72.0386,72.1946, 72.3507,72.5068,72.7406,72.8966,73.1302 ,73.2857,73.4405,73.5958,73.7512, 73.9062,74.0616,74.2168,74.3716,74.5255 ,74.6801,74.9117,75.0661,75.2202, 75.3742,75.528,75.7586,75.9888,76.1421, 76.2954,76.4485,76.6015,76.7543,76.9072 ,77.0598,77.2121,77.3643,77.6679, 77.8956,78.2253,78.4059,78.5863,78.7662 ,79.0356,79.215,79.3939,79.5727,79.7513 ,79.9294,80.1669)
FOOTPRINT_POINT_LONGITUDE = (93.0951,91.488,90.3877,89.3024,88.234, 87.1804,86.1424,86.6142,87.1145,87.4348 ,87.745,88.0457,88.3369,88.6195,88.8939 ,89.2898,89.5442,89.9566,90.3466, 90.7196,91.0752,91.2471,91.4976,91.6599 ,91.8185,91.9738,92.1258,92.2745, 92.4199,92.5624,92.7018,92.8382,92.9719 ,93.1673,93.3567,93.4798,93.6005, 93.7187,93.8917,94.0042,94.1145,94.2759 ,94.381,94.4841,94.5853,94.6845,94.7819 ,94.8775,95.2601,95.878,96.4995,97.3214 ,97.8342,98.5085,99.0813,99.0239, 98.9652,98.9051,98.8133,98.7503,98.6536 ,98.5881,98.5224,98.4545,98.3845, 98.3139,98.2407,98.1662,98.0911,98.0161 ,97.9376,97.8174,97.7345,97.6505, 97.5647,97.4772,97.3421,97.2028,97.1071 ,97.0092,96.9093,96.8068,96.7021, 96.5945,96.4848,96.3728,96.2579,96.0207 ,95.8339,95.5506,95.3875,95.2191, 95.0464,94.7769,94.5893,94.3958,94.1953 ,93.9875,93.7733,93.0951)
ORBIT_NUMBER = 5518
ORBITAL_ECCENTRICITY = 0.568
ORBITAL_INCLINATION = 86.75
ORBITAL_SEMIMAJOR_AXIS = 8643.75
PERIAPSIS_ALTITUDE = 354.83
PERIAPSIS_ARGUMENT_ANGLE = 107.59
PERIAPSIS_TIME = 2008-04-19T04:57:04.000Z
SPACECRAFT_ORIENTATION = (0.0,-1.0,0.0)
^MEX_ORIENTATION_DESC = "MEX_ORIENTATION_DESC.TXT"
SPACECRAFT_POINTING_MODE = ACROSSTRACK
^MEX_POINTING_DESC = "MEX_POINTING_DESC.TXT"
RIGHT_ASCENSION = -1e+32
DECLINATION = -1e+32
OFFSET_ANGLE = 0.269
SPACECRAFT_SOLAR_DISTANCE = 2.48798e+08
TARGET_NAME = MARS
/* CAMERA DATA ELEMENTS */
DETECTOR_TEMPERATURE = 16.7393
FOCAL_PLANE_TEMPERATURE = 6.9521
INST_CMPRS_NAME = "DISCRETE COSINE TRANSFORMATION (DCT)"
INST_CMPRS_RATIO = 8.06527
INST_CMPRS_QUALITY = 0
INST_CMPRS_QUANTZ_TBL_ID = 0
INSTRUMENT_TEMPERATURE = 10.4184
LENS_TEMPERATURE = 7.5638
MACROPIXEL_SIZE = 2
MISSING_FRAMES = 0
PIXEL_SUBSAMPLING_FLAG = N
SIGNAL_CHAIN_ID = 1
/* RADIOMETRIC DATA ELEMENTS */
BANDWIDTH = 180.0
CENTER_FILTER_WAVELENGTH = 677.0
RADIANCE_OFFSET = 5.86896
RADIANCE_SCALING_FACTOR = 0.0317834
REFLECTANCE_SCALING_FACTOR = 0.00102645
MEX:REFLECTANCE_OFFSET = 0.189539
/* IMAGE OBJECT DEFINITIONS */
OBJECT = IMAGE
  INTERCHANGE_FORMAT = BINARY
  LINES = 19383
  LINE_SAMPLES = 6771
  SAMPLE_TYPE = UNSIGNED_INTEGER
  SAMPLE_BITS = 8
  BANDS = 1
  BAND_STORAGE_TYPE = BAND_SEQUENTIAL
  MAXIMUM = 255
  MEAN = 139.777
  MINIMUM = 1
  STANDARD_DEVIATION = 43.2965
END_OBJECT = IMAGE
/* MAP OBJECT DEFINITIONS */
OBJECT = IMAGE_MAP_PROJECTION
  ^DATA_SET_MAP_PROJECTION_CATALOG= "DSMAP.CAT"
  A_AXIS_RADIUS = 3396.0
  B_AXIS_RADIUS = 3396.0
  C_AXIS_RADIUS = 3396.0
  CENTER_LATITUDE = 0.0
  CENTER_LONGITUDE = 94.0
  COORDINATE_SYSTEM_NAME = PLANETOGRAPHIC
  COORDINATE_SYSTEM_TYPE = "BODY-FIXED ROTATING"
  EASTERNMOST_LONGITUDE = 99.0813
  FIRST_STANDARD_PARALLEL = "N/A"
  LINE_FIRST_PIXEL = 1
  LINE_LAST_PIXEL = 19383
  LINE_PROJECTION_OFFSET = 189786.75
  MAP_PROJECTION_ROTATION = 0.0
  MAP_PROJECTION_TYPE = SINUSOIDAL
  MAP_RESOLUTION = 2370.85521546667
  MAP_SCALE = 0.025
  MAXIMUM_LATITUDE = 80.1669
  MINIMUM_LATITUDE = 71.8817
  POSITIVE_LONGITUDE_DIRECTION = EAST
  REFERENCE_LATITUDE = "N/A"
  REFERENCE_LONGITUDE = "N/A"
  SAMPLE_FIRST_PIXEL = 1
  SAMPLE_LAST_PIXEL = 6771
  SAMPLE_PROJECTION_OFFSET = 3209.25
  SECOND_STANDARD_PARALLEL = "N/A"
  WESTERNMOST_LONGITUDE = 86.14239999999999
END_OBJECT = IMAGE_MAP_PROJECTION
/* The JPEG2000 image data file associated with this label. */
OBJECT = COMPRESSED_FILE
  FILE_NAME = "H5518_0000_S13.JP2"
  RECORD_TYPE = UNDEFINED
  FILE_RECORDS = UNK
  ENCODING_TYPE = "JP2"
  INTERCHANGE_FORMAT = BINARY
  UNCOMPRESSED_FILE_NAME = "H5518_0000_S13.IMG"
  REQUIRED_STORAGE_BYTES = "131276148"
  ^DESCRIPTION = "JP2INFO.TXT"
END_OBJECT = COMPRESSED_FILE
END
