PDS_VERSION_ID = PDS3
/* FILE DATA ELEMENTS */
RECORD_TYPE = STREAM
/* POINTERS TO DATA OBJECTS */
^COMPRESSED_FILE = "H5519_0000_P23.JP2"
/* IDENTIFICATION DATA ELEMENTS */
DATA_SET_ID = "MEX-M-HRSC-5-REFDR-MAPPROJECTED-V3.0"
DATA_SET_NAME = "MARS EXPRESS HRSC MAP PROJECTED REFDR V3.0"
DETECTOR_ID = MEX_HRSC_P2
EVENT_TYPE = "MARS-REGIONAL-MAPPING-Gl-Pf-Eo"
INSTRUMENT_HOST_ID = MEX
INSTRUMENT_HOST_NAME = "MARS EXPRESS"
INSTRUMENT_ID = HRSC
INSTRUMENT_NAME = "HIGH RESOLUTION STEREO CAMERA"
MISSION_NAME = "MARS EXPRESS"
MISSION_PHASE_NAME = ME_Phase_12
PROCESSING_LEVEL_ID = 3
PRODUCT_CREATION_TIME = 2016-05-15T06:04:46.000Z
PRODUCT_ID = "H5519_0000_P23.JP2"
RELEASE_ID = 0063
REVISION_ID = 0000
/* QUALITY DATA ELEMENTS */
DATA_QUALITY_ID = 1
DATA_QUALITY_DESC = "Data calculated based on original SPICE kernels"
/* TIME DATA ELEMENTS */
SPACECRAFT_CLOCK_START_COUNT = "1/0156685530.09049"
SPACECRAFT_CLOCK_STOP_COUNT = "1/0156685743.41254"
START_TIME = 2008-04-19T11:46:28.969Z
STOP_TIME = 2008-04-19T11:48:53.987Z
/* ORBITAL DATA ELEMENTS */
ASCENDING_NODE_LONGITUDE = 113.5
MAXIMUM_RESOLUTION = 26.7
FOOTPRINT_POINT_LATITUDE = (77.8053,77.7647,77.7219,77.6296, 77.6693,77.487,77.3046,77.122,76.9391, 76.7562,76.5731,76.3898,76.2064,75.931, 75.5635,75.3796,75.1957,75.0118,74.8277 ,74.6435,74.4592,74.1826,73.9982, 73.8137,73.6291,73.3522,73.1677,72.9829 ,72.706,72.5213,72.3365,72.0592,71.8746 ,71.6898,71.5052,71.3205,71.0435, 70.7666,70.5819,70.3972,70.2126,70.0279 ,69.8434,69.6589,69.3821,69.1056, 68.9212,68.737,68.4628,68.4917,68.5191, 68.545,68.5816,68.3909,68.5817,68.7085, 68.9872,69.1731,69.4517,69.6379,69.824, 70.0102,70.2872,70.4735,70.6599,70.9398 ,71.1263,71.3128,71.5813,71.8752, 72.1556,72.3425,72.5294,72.7164,72.9035 ,73.0907,73.2777,73.4647,73.6519, 73.9327,74.1199,74.3071,74.4944,74.7752 ,74.9625,75.1498,75.337,75.6179,75.8052 ,75.9925,76.1797,76.3671,76.648,76.8352 ,77.0224,77.2095,77.3965,77.6769, 77.9575,77.8053)
FOOTPRINT_POINT_LONGITUDE = (355.282,354.412,353.552,351.868, 350.881,351.11,351.333,351.549,351.758, 351.961,352.159,352.35,352.537,352.806, 353.149,353.313,353.472,353.628,353.779 ,353.926,354.07,354.278,354.413,354.544 ,354.672,354.858,354.978,355.095, 355.266,355.376,355.484,355.641,355.743 ,355.842,355.939,356.034,356.172, 356.306,356.392,356.477,356.56,356.641, 356.72,356.798,356.911,357.021,357.092, 357.162,357.499,358.033,358.571,359.113 ,359.937,359.712,360.002,360.762, 360.698,360.654,360.585,360.539,360.492 ,360.443,360.364,360.313,360.261, 360.181,360.126,360.07,359.504,359.899, 359.808,359.744,359.68,359.613,359.546, 359.477,359.406,359.333,359.258,359.143 ,359.064,358.983,358.899,358.77,358.681 ,358.59,358.496,358.351,358.251,358.148 ,358.042,357.933,357.764,357.647, 357.526,357.402,357.274,357.073,356.864 ,355.282)
ORBIT_NUMBER = 5519
ORBITAL_ECCENTRICITY = 0.568
ORBITAL_INCLINATION = 86.75
ORBITAL_SEMIMAJOR_AXIS = 8641.9
PERIAPSIS_ALTITUDE = 355.96
PERIAPSIS_ARGUMENT_ANGLE = 107.41
PERIAPSIS_TIME = 2008-04-19T11:47:32.000Z
SPACECRAFT_ORIENTATION = (0.0,-1.0,0.0)
^MEX_ORIENTATION_DESC = "MEX_ORIENTATION_DESC.TXT"
SPACECRAFT_POINTING_MODE = ACROSSTRACK
^MEX_POINTING_DESC = "MEX_POINTING_DESC.TXT"
RIGHT_ASCENSION = -1e+32
DECLINATION = -1e+32
OFFSET_ANGLE = 0.5
SPACECRAFT_SOLAR_DISTANCE = 2.48808e+08
TARGET_NAME = MARS
/* CAMERA DATA ELEMENTS */
DETECTOR_TEMPERATURE = 17.7588
FOCAL_PLANE_TEMPERATURE = 7.3599
INST_CMPRS_NAME = "DISCRETE COSINE TRANSFORMATION (DCT)"
INST_CMPRS_RATIO = 6.15727
INST_CMPRS_QUALITY = 0
INST_CMPRS_QUANTZ_TBL_ID = 0
INSTRUMENT_TEMPERATURE = 10.8262
LENS_TEMPERATURE = 7.7677
MACROPIXEL_SIZE = 2
MISSING_FRAMES = 0
PIXEL_SUBSAMPLING_FLAG = N
SIGNAL_CHAIN_ID = 3
/* RADIOMETRIC DATA ELEMENTS */
BANDWIDTH = 177.0
CENTER_FILTER_WAVELENGTH = 676.5
RADIANCE_OFFSET = 6.24699
RADIANCE_SCALING_FACTOR = 0.0200438
REFLECTANCE_SCALING_FACTOR = 0.000657911
MEX:REFLECTANCE_OFFSET = 0.205049
/* IMAGE OBJECT DEFINITIONS */
OBJECT = IMAGE
  INTERCHANGE_FORMAT = BINARY
  LINES = 22475
  LINE_SAMPLES = 6213
  SAMPLE_TYPE = UNSIGNED_INTEGER
  SAMPLE_BITS = 8
  BANDS = 1
  BAND_STORAGE_TYPE = BAND_SEQUENTIAL
  MAXIMUM = 255
  MEAN = 153.141
  MINIMUM = 1
  STANDARD_DEVIATION = 48.7557
END_OBJECT = IMAGE
/* MAP OBJECT DEFINITIONS */
OBJECT = IMAGE_MAP_PROJECTION
  ^DATA_SET_MAP_PROJECTION_CATALOG= "DSMAP.CAT"
  A_AXIS_RADIUS = 3396.0
  B_AXIS_RADIUS = 3396.0
  C_AXIS_RADIUS = 3396.0
  CENTER_LATITUDE = 0.0
  CENTER_LONGITUDE = 357.0
  COORDINATE_SYSTEM_NAME = PLANETOGRAPHIC
  COORDINATE_SYSTEM_TYPE = "BODY-FIXED ROTATING"
  EASTERNMOST_LONGITUDE = 0.762
  FIRST_STANDARD_PARALLEL = "N/A"
  LINE_FIRST_PIXEL = 1
  LINE_LAST_PIXEL = 22475
  LINE_PROJECTION_OFFSET = 184763.25
  MAP_PROJECTION_ROTATION = 0.0
  MAP_PROJECTION_TYPE = SINUSOIDAL
  MAP_RESOLUTION = 2370.85521546667
  MAP_SCALE = 0.025
  MAXIMUM_LATITUDE = 77.9575
  MINIMUM_LATITUDE = 68.3909
  POSITIVE_LONGITUDE_DIRECTION = EAST
  REFERENCE_LATITUDE = "N/A"
  REFERENCE_LONGITUDE = "N/A"
  SAMPLE_FIRST_PIXEL = 1
  SAMPLE_LAST_PIXEL = 6213
  SAMPLE_PROJECTION_OFFSET = 3094.75
  SECOND_STANDARD_PARALLEL = "N/A"
  WESTERNMOST_LONGITUDE = -9.119
END_OBJECT = IMAGE_MAP_PROJECTION
/* The JPEG2000 image data file associated with this label. */
OBJECT = COMPRESSED_FILE
  FILE_NAME = "H5519_0000_P23.JP2"
  RECORD_TYPE = UNDEFINED
  FILE_RECORDS = UNK
  ENCODING_TYPE = "JP2"
  INTERCHANGE_FORMAT = BINARY
  UNCOMPRESSED_FILE_NAME = "H5519_0000_P23.IMG"
  REQUIRED_STORAGE_BYTES = "139668240"
  ^DESCRIPTION = "JP2INFO.TXT"
END_OBJECT = COMPRESSED_FILE
END
