PDS_VERSION_ID = PDS3
/* FILE DATA ELEMENTS */
RECORD_TYPE = STREAM
/* POINTERS TO DATA OBJECTS */
^COMPRESSED_FILE = "H5519_0000_S13.JP2"
/* IDENTIFICATION DATA ELEMENTS */
DATA_SET_ID = "MEX-M-HRSC-5-REFDR-MAPPROJECTED-V3.0"
DATA_SET_NAME = "MARS EXPRESS HRSC MAP PROJECTED REFDR V3.0"
DETECTOR_ID = MEX_HRSC_S1
EVENT_TYPE = "MARS-REGIONAL-MAPPING-Gl-Pf-Eo"
INSTRUMENT_HOST_ID = MEX
INSTRUMENT_HOST_NAME = "MARS EXPRESS"
INSTRUMENT_ID = HRSC
INSTRUMENT_NAME = "HIGH RESOLUTION STEREO CAMERA"
MISSION_NAME = "MARS EXPRESS"
MISSION_PHASE_NAME = ME_Phase_12
PROCESSING_LEVEL_ID = 3
PRODUCT_CREATION_TIME = 2016-05-15T06:04:46.000Z
PRODUCT_ID = "H5519_0000_S13.JP2"
RELEASE_ID = 0063
REVISION_ID = 0000
/* QUALITY DATA ELEMENTS */
DATA_QUALITY_ID = 1
DATA_QUALITY_DESC = "Data calculated based on original SPICE kernels"
/* TIME DATA ELEMENTS */
SPACECRAFT_CLOCK_START_COUNT = "1/0156685530.09049"
SPACECRAFT_CLOCK_STOP_COUNT = "1/0156685743.41254"
START_TIME = 2008-04-19T11:45:33.874Z
STOP_TIME = 2008-04-19T11:48:00.125Z
/* ORBITAL DATA ELEMENTS */
ASCENDING_NODE_LONGITUDE = 113.5
MAXIMUM_RESOLUTION = 27.3
FOOTPRINT_POINT_LATITUDE = (78.0326,77.9912,77.9588,77.9234, 77.8852,77.8441,77.6621,77.4549,77.0101 ,76.5633,76.2944,75.9348,75.6642, 75.4836,75.3026,75.1212,74.9396,74.758, 74.576,74.3938,74.2114,74.0288,73.846, 73.663,73.4798,73.2963,73.0209,72.8368, 72.6527,72.4685,72.2841,72.0996,71.9147 ,71.7298,71.5445,71.359,71.0807,70.802, 70.6161,70.4301,70.2438,70.0576,69.8711 ,69.6844,69.4978,69.3108,69.1239, 68.9369,68.7495,68.4599,68.4966,68.5206 ,68.534,68.7898,68.5401,68.5526,68.7416 ,69.0249,69.3081,69.4969,69.7828, 69.9712,70.1598,70.3476,70.5356,70.8177 ,71.0055,71.1932,71.381,71.5686,71.756, 72.1011,71.9403,72.2209,72.408,72.5948, 72.7817,72.9681,73.2478,73.4342,73.6203 ,73.8064,73.9921,74.1779,74.3636,74.549 ,74.8269,75.1044,75.3817,75.5663, 75.7507,75.9349,76.1191,76.3029,76.4865 ,76.8533,77.128,77.4024,77.7775, 78.0326)
FOOTPRINT_POINT_LONGITUDE = (356.517,355.182,354.266,353.361, 352.469,351.587,350.842,351.106,351.641 ,352.139,352.422,352.782,353.039, 353.205,353.367,353.525,353.679,353.828 ,353.975,354.117,354.256,354.392, 354.524,354.653,354.779,354.903,355.082 ,355.198,355.312,355.423,355.531, 355.637,355.741,355.842,355.941,356.038 ,356.179,356.316,356.405,356.492, 356.577,356.661,356.742,356.822,356.901 ,356.977,357.052,357.126,357.198, 357.505,358.534,359.341,359.885,359.572 ,359.982,360.79,360.748,360.684,360.618 ,360.573,360.497,360.45,360.401,360.353 ,360.302,360.225,360.172,360.118, 360.063,360.006,359.949,359.336,359.897 ,359.807,359.744,359.681,359.616,359.55 ,359.448,359.378,359.306,359.233, 359.158,359.081,359.002,358.921,358.796 ,358.666,358.531,358.439,358.344, 358.246,358.146,358.043,357.937,357.717 ,357.543,357.362,357.1,356.517)
ORBIT_NUMBER = 5519
ORBITAL_ECCENTRICITY = 0.568
ORBITAL_INCLINATION = 86.75
ORBITAL_SEMIMAJOR_AXIS = 8641.9
PERIAPSIS_ALTITUDE = 355.96
PERIAPSIS_ARGUMENT_ANGLE = 107.41
PERIAPSIS_TIME = 2008-04-19T11:47:32.000Z
SPACECRAFT_ORIENTATION = (0.0,-1.0,0.0)
^MEX_ORIENTATION_DESC = "MEX_ORIENTATION_DESC.TXT"
SPACECRAFT_POINTING_MODE = ACROSSTRACK
^MEX_POINTING_DESC = "MEX_POINTING_DESC.TXT"
RIGHT_ASCENSION = -1e+32
DECLINATION = -1e+32
OFFSET_ANGLE = 0.5
SPACECRAFT_SOLAR_DISTANCE = 2.48808e+08
TARGET_NAME = MARS
/* CAMERA DATA ELEMENTS */
DETECTOR_TEMPERATURE = 16.7393
FOCAL_PLANE_TEMPERATURE = 7.3599
INST_CMPRS_NAME = "DISCRETE COSINE TRANSFORMATION (DCT)"
INST_CMPRS_RATIO = 9.0166
INST_CMPRS_QUALITY = 0
INST_CMPRS_QUANTZ_TBL_ID = 0
INSTRUMENT_TEMPERATURE = 10.8262
LENS_TEMPERATURE = 7.7677
MACROPIXEL_SIZE = 2
MISSING_FRAMES = 0
PIXEL_SUBSAMPLING_FLAG = N
SIGNAL_CHAIN_ID = 1
/* RADIOMETRIC DATA ELEMENTS */
BANDWIDTH = 180.0
CENTER_FILTER_WAVELENGTH = 677.0
RADIANCE_OFFSET = 6.26023
RADIANCE_SCALING_FACTOR = 0.0225772
REFLECTANCE_SCALING_FACTOR = 0.000729192
MEX:REFLECTANCE_OFFSET = 0.202191
/* IMAGE OBJECT DEFINITIONS */
OBJECT = IMAGE
  INTERCHANGE_FORMAT = BINARY
  LINES = 22475
  LINE_SAMPLES = 6213
  SAMPLE_TYPE = UNSIGNED_INTEGER
  SAMPLE_BITS = 8
  BANDS = 1
  BAND_STORAGE_TYPE = BAND_SEQUENTIAL
  MAXIMUM = 255
  MEAN = 158.824
  MINIMUM = 1
  STANDARD_DEVIATION = 50.023
END_OBJECT = IMAGE
/* MAP OBJECT DEFINITIONS */
OBJECT = IMAGE_MAP_PROJECTION
  ^DATA_SET_MAP_PROJECTION_CATALOG= "DSMAP.CAT"
  A_AXIS_RADIUS = 3396.0
  B_AXIS_RADIUS = 3396.0
  C_AXIS_RADIUS = 3396.0
  CENTER_LATITUDE = 0.0
  CENTER_LONGITUDE = 357.0
  COORDINATE_SYSTEM_NAME = PLANETOGRAPHIC
  COORDINATE_SYSTEM_TYPE = "BODY-FIXED ROTATING"
  EASTERNMOST_LONGITUDE = 0.79
  FIRST_STANDARD_PARALLEL = "N/A"
  LINE_FIRST_PIXEL = 1
  LINE_LAST_PIXEL = 22475
  LINE_PROJECTION_OFFSET = 184763.25
  MAP_PROJECTION_ROTATION = 0.0
  MAP_PROJECTION_TYPE = SINUSOIDAL
  MAP_RESOLUTION = 2370.85521546667
  MAP_SCALE = 0.025
  MAXIMUM_LATITUDE = 78.0326
  MINIMUM_LATITUDE = 68.4599
  POSITIVE_LONGITUDE_DIRECTION = EAST
  REFERENCE_LATITUDE = "N/A"
  REFERENCE_LONGITUDE = "N/A"
  SAMPLE_FIRST_PIXEL = 1
  SAMPLE_LAST_PIXEL = 6213
  SAMPLE_PROJECTION_OFFSET = 3094.75
  SECOND_STANDARD_PARALLEL = "N/A"
  WESTERNMOST_LONGITUDE = -9.157999999999999
END_OBJECT = IMAGE_MAP_PROJECTION
/* The JPEG2000 image data file associated with this label. */
OBJECT = COMPRESSED_FILE
  FILE_NAME = "H5519_0000_S13.JP2"
  RECORD_TYPE = UNDEFINED
  FILE_RECORDS = UNK
  ENCODING_TYPE = "JP2"
  INTERCHANGE_FORMAT = BINARY
  UNCOMPRESSED_FILE_NAME = "H5519_0000_S13.IMG"
  REQUIRED_STORAGE_BYTES = "139668240"
  ^DESCRIPTION = "JP2INFO.TXT"
END_OBJECT = COMPRESSED_FILE
END
