PDS_VERSION_ID = PDS3
/* FILE DATA ELEMENTS */
RECORD_TYPE = STREAM
/* POINTERS TO DATA OBJECTS */
^COMPRESSED_FILE = "H5522_0000_S23.JP2"
/* IDENTIFICATION DATA ELEMENTS */
DATA_SET_ID = "MEX-M-HRSC-5-REFDR-MAPPROJECTED-V3.0"
DATA_SET_NAME = "MARS EXPRESS HRSC MAP PROJECTED REFDR V3.0"
DETECTOR_ID = MEX_HRSC_S2
EVENT_TYPE = "MARS-REGIONAL-MAPPING-Gl-Eo-La"
INSTRUMENT_HOST_ID = MEX
INSTRUMENT_HOST_NAME = "MARS EXPRESS"
INSTRUMENT_ID = HRSC
INSTRUMENT_NAME = "HIGH RESOLUTION STEREO CAMERA"
MISSION_NAME = "MARS EXPRESS"
MISSION_PHASE_NAME = ME_Phase_12
PROCESSING_LEVEL_ID = 3
PRODUCT_CREATION_TIME = 2016-05-15T06:04:46.000Z
PRODUCT_ID = "H5522_0000_S23.JP2"
RELEASE_ID = 0063
REVISION_ID = 0000
/* QUALITY DATA ELEMENTS */
DATA_QUALITY_ID = 1
DATA_QUALITY_DESC = "Data calculated based on original SPICE kernels"
/* TIME DATA ELEMENTS */
SPACECRAFT_CLOCK_START_COUNT = "1/0156759289.07287"
SPACECRAFT_CLOCK_STOP_COUNT = "1/0156759500.55732"
START_TIME = 2008-04-20T08:16:06.706Z
STOP_TIME = 2008-04-20T08:18:22.583Z
/* ORBITAL DATA ELEMENTS */
ASCENDING_NODE_LONGITUDE = 113.43
MAXIMUM_RESOLUTION = 30.8
FOOTPRINT_POINT_LATITUDE = (85.7968,85.5794,85.3324,85.1859, 85.0493,84.8624,84.7319,84.5283,84.3877 ,84.2436,84.0961,83.9457,83.7924, 83.6365,83.4781,83.3176,83.155,82.9904, 82.8241,82.5715,82.4015,82.2447,82.0283 ,81.8814,81.7348,81.4432,81.2933, 80.9954,80.8435,80.6924,80.5431,80.3906 ,80.2369,80.0843,79.8542,79.7005, 79.5461,79.3912,79.2358,79.0804,78.9245 ,78.7683,78.6119,78.4552,78.2982, 78.1411,77.9049,77.7473,77.5895,77.4315 ,77.4812,77.5311,77.5756,77.6241, 77.6836,77.7425,77.9053,78.0679,78.2303 ,78.3932,78.5558,78.7996,78.962,79.1243 ,79.3675,79.61,79.7716,79.9328,80.0943, 80.2556,80.4972,80.739,80.9789,81.1393, 81.4552,81.6165,81.7749,82.0119,82.1699 ,82.3285,82.4872,82.7224,82.8784, 83.0626,83.2481,83.4324,83.708,83.9814, 84.1622,84.3418,84.52,84.6966,84.8716, 85.0446,85.2156,85.4677,85.6325,85.7941 ,85.9528,85.7968)
FOOTPRINT_POINT_LONGITUDE = (25.9028,22.7145,19.6164,17.9872, 14.5122,17.1609,18.8185,21.1541,22.6145 ,24.0025,25.3218,26.5756,27.7675,28.901 ,29.979,31.0047,31.9812,32.9114,33.7978 ,35.0513,35.837,36.5235,37.4187,37.9992 ,38.5517,39.573,40.0767,41.0098,41.4648 ,41.8968,42.3028,42.7093,43.1065, 43.4836,44.0289,44.378,44.7176,45.0475, 45.3682,45.6782,45.9799,46.2727,46.5572 ,46.8334,47.1022,47.3633,47.7416, 47.9853,48.2221,48.4527,49.2742,50.0992 ,50.8738,51.7657,52.9466,54.215,54.0568 ,53.8942,53.7268,53.5548,53.3777, 53.1021,52.9115,52.715,52.4086,52.0875, 51.8647,51.6346,51.397,51.1512,50.7667, 50.3618,49.9347,49.6369,49.0075,48.6744 ,48.3284,47.7833,47.4013,47.003,46.5876 ,45.9312,45.4694,44.8929,44.2819, 43.6365,42.5963,41.4603,40.6437,39.7747 ,38.8486,37.8603,36.8039,35.6728,34.46, 32.47,31.0163,29.4497,27.7561,25.9028)
ORBIT_NUMBER = 5522
ORBITAL_ECCENTRICITY = 0.568
ORBITAL_INCLINATION = 86.76
ORBITAL_SEMIMAJOR_AXIS = 8643.12
PERIAPSIS_ALTITUDE = 355.39
PERIAPSIS_ARGUMENT_ANGLE = 106.91
PERIAPSIS_TIME = 2008-04-20T08:19:05.000Z
SPACECRAFT_ORIENTATION = (0.0,-1.0,0.0)
^MEX_ORIENTATION_DESC = "MEX_ORIENTATION_DESC.TXT"
SPACECRAFT_POINTING_MODE = NADIR
^MEX_POINTING_DESC = "MEX_POINTING_DESC.TXT"
RIGHT_ASCENSION = -1e+32
DECLINATION = -1e+32
OFFSET_ANGLE = -1e+32
SPACECRAFT_SOLAR_DISTANCE = 2.48838e+08
TARGET_NAME = MARS
/* CAMERA DATA ELEMENTS */
DETECTOR_TEMPERATURE = 17.7588
FOCAL_PLANE_TEMPERATURE = 6.9521
INST_CMPRS_NAME = "DISCRETE COSINE TRANSFORMATION (DCT)"
INST_CMPRS_RATIO = 11.439
INST_CMPRS_QUALITY = 0
INST_CMPRS_QUANTZ_TBL_ID = 0
INSTRUMENT_TEMPERATURE = 10.6223
LENS_TEMPERATURE = 7.7677
MACROPIXEL_SIZE = 2
MISSING_FRAMES = 0
PIXEL_SUBSAMPLING_FLAG = N
SIGNAL_CHAIN_ID = 1
/* RADIOMETRIC DATA ELEMENTS */
BANDWIDTH = 178.0
CENTER_FILTER_WAVELENGTH = 679.0
RADIANCE_OFFSET = 5.5864
RADIANCE_SCALING_FACTOR = 0.0313932
REFLECTANCE_SCALING_FACTOR = 0.00102943
MEX:REFLECTANCE_OFFSET = 0.183186
/* IMAGE OBJECT DEFINITIONS */
OBJECT = IMAGE
  INTERCHANGE_FORMAT = BINARY
  LINES = 20412
  LINE_SAMPLES = 11067
  SAMPLE_TYPE = UNSIGNED_INTEGER
  SAMPLE_BITS = 8
  BANDS = 1
  BAND_STORAGE_TYPE = BAND_SEQUENTIAL
  MAXIMUM = 255
  MEAN = 120.912
  MINIMUM = 1
  STANDARD_DEVIATION = 20.6448
END_OBJECT = IMAGE
/* MAP OBJECT DEFINITIONS */
OBJECT = IMAGE_MAP_PROJECTION
  ^DATA_SET_MAP_PROJECTION_CATALOG= "DSMAP.CAT"
  A_AXIS_RADIUS = 3396.0
  B_AXIS_RADIUS = 3396.0
  C_AXIS_RADIUS = 3396.0
  CENTER_LATITUDE = 0.0
  CENTER_LONGITUDE = 44.0
  COORDINATE_SYSTEM_NAME = PLANETOGRAPHIC
  COORDINATE_SYSTEM_TYPE = "BODY-FIXED ROTATING"
  EASTERNMOST_LONGITUDE = 54.215
  FIRST_STANDARD_PARALLEL = "N/A"
  LINE_FIRST_PIXEL = 1
  LINE_LAST_PIXEL = 20412
  LINE_PROJECTION_OFFSET = 203952.75
  MAP_PROJECTION_ROTATION = 0.0
  MAP_PROJECTION_TYPE = SINUSOIDAL
  MAP_RESOLUTION = 2370.85521546667
  MAP_SCALE = 0.025
  MAXIMUM_LATITUDE = 85.9528
  MINIMUM_LATITUDE = 77.4315
  POSITIVE_LONGITUDE_DIRECTION = EAST
  REFERENCE_LATITUDE = "N/A"
  REFERENCE_LONGITUDE = "N/A"
  SAMPLE_FIRST_PIXEL = 1
  SAMPLE_LAST_PIXEL = 11067
  SAMPLE_PROJECTION_OFFSET = 6005.75
  SECOND_STANDARD_PARALLEL = "N/A"
  WESTERNMOST_LONGITUDE = 14.5122
END_OBJECT = IMAGE_MAP_PROJECTION
/* The JPEG2000 image data file associated with this label. */
OBJECT = COMPRESSED_FILE
  FILE_NAME = "H5522_0000_S23.JP2"
  RECORD_TYPE = UNDEFINED
  FILE_RECORDS = UNK
  ENCODING_TYPE = "JP2"
  INTERCHANGE_FORMAT = BINARY
  UNCOMPRESSED_FILE_NAME = "H5522_0000_S23.IMG"
  REQUIRED_STORAGE_BYTES = "225932805"
  ^DESCRIPTION = "JP2INFO.TXT"
END_OBJECT = COMPRESSED_FILE
END
