PDS_VERSION_ID = PDS3
/* FILE DATA ELEMENTS */
RECORD_TYPE = STREAM
/* POINTERS TO DATA OBJECTS */
^COMPRESSED_FILE = "H5524_0000_GR3.JP2"
/* IDENTIFICATION DATA ELEMENTS */
DATA_SET_ID = "MEX-M-HRSC-5-REFDR-MAPPROJECTED-V3.0"
DATA_SET_NAME = "MARS EXPRESS HRSC MAP PROJECTED REFDR V3.0"
DETECTOR_ID = MEX_HRSC_GREEN
EVENT_TYPE = "MARS-REGIONAL-MAPPING-Im-Gl-Pf"
INSTRUMENT_HOST_ID = MEX
INSTRUMENT_HOST_NAME = "MARS EXPRESS"
INSTRUMENT_ID = HRSC
INSTRUMENT_NAME = "HIGH RESOLUTION STEREO CAMERA"
MISSION_NAME = "MARS EXPRESS"
MISSION_PHASE_NAME = ME_Phase_12
PROCESSING_LEVEL_ID = 3
PRODUCT_CREATION_TIME = 2016-05-15T06:04:46.000Z
PRODUCT_ID = "H5524_0000_GR3.JP2"
RELEASE_ID = 0063
REVISION_ID = 0000
/* QUALITY DATA ELEMENTS */
DATA_QUALITY_ID = 1
DATA_QUALITY_DESC = "Data calculated based on original SPICE kernels"
/* TIME DATA ELEMENTS */
SPACECRAFT_CLOCK_START_COUNT = "1/0156808660.08240"
SPACECRAFT_CLOCK_STOP_COUNT = "1/0156808908.08284"
START_TIME = 2008-04-20T21:58:12.138Z
STOP_TIME = 2008-04-20T22:01:11.277Z
/* ORBITAL DATA ELEMENTS */
ASCENDING_NODE_LONGITUDE = 113.39
MAXIMUM_RESOLUTION = 57.4
FOOTPRINT_POINT_LATITUDE = (79.8703,79.7989,79.7457,79.6968, 79.5925,79.4996,79.2856,79.0708,78.8552 ,78.639,78.4222,78.2048,77.9868,77.7683 ,77.5491,77.3294,77.1092,76.8886, 76.6676,76.3353,76.1134,75.8909,75.5566 ,75.2215,74.9977,74.7671,74.4305, 74.2059,73.9808,73.6428,73.4173,73.0786 ,72.7395,72.5129,72.2866,72.0598, 71.7194,71.4924,71.2652,71.0378,70.8104 ,70.469,70.2412,70.0134,69.7854,69.5574 ,69.3293,69.1012,68.8729,68.6446,68.302 ,68.3056,68.3376,68.381,68.4036,68.5535 ,68.784,69.0145,69.245,69.4754,69.7058, 69.9363,70.1667,70.5124,70.8578,71.0882 ,71.3184,71.5484,71.7785,72.0087, 72.2386,72.4685,72.8133,73.043,73.2726, 73.6169,73.8462,74.0755,74.4192,74.7625 ,74.9913,75.2268,75.4553,75.6836, 76.0257,76.2535,76.4813,76.8218,77.163, 77.5035,77.8429,78.0689,78.2947,78.6328 ,78.8579,79.0826,79.4191,79.643,79.8664 ,79.8703)
FOOTPRINT_POINT_LONGITUDE = (210.61,209.2,208.23,207.39,205.734, 204.731,205.181,205.613,206.027,206.426 ,206.809,207.178,207.534,207.876, 208.206,208.524,208.83,209.126,209.411, 209.822,210.085,210.338,210.703,211.05, 211.273,211.495,211.806,212.006,212.199 ,212.478,212.657,212.917,213.165, 213.324,213.481,213.631,213.85,213.991, 214.128,214.261,214.391,214.58,214.702, 214.82,214.936,215.048,215.158,215.266, 215.37,215.472,215.62,216.196,216.796, 217.681,218.19,218.994,218.926,218.857, 218.786,218.713,218.638,218.562,218.483 ,218.361,218.235,218.148,218.059, 217.969,217.875,217.778,217.679,217.577 ,217.419,217.311,217.199,217.024, 216.904,216.78,216.587,216.385,216.245, 216.094,215.945,215.791,215.55,215.383, 215.209,214.947,214.652,214.345,214.03, 213.808,213.577,213.213,212.957,212.69, 212.268,211.971,211.662,210.61)
ORBIT_NUMBER = 5524
ORBITAL_ECCENTRICITY = 0.568
ORBITAL_INCLINATION = 86.76
ORBITAL_SEMIMAJOR_AXIS = 8638.72
PERIAPSIS_ALTITUDE = 355.26
PERIAPSIS_ARGUMENT_ANGLE = 106.55
PERIAPSIS_TIME = 2008-04-20T22:00:02.000Z
SPACECRAFT_ORIENTATION = (0.0,-1.0,0.0)
^MEX_ORIENTATION_DESC = "MEX_ORIENTATION_DESC.TXT"
SPACECRAFT_POINTING_MODE = NADIR
^MEX_POINTING_DESC = "MEX_POINTING_DESC.TXT"
RIGHT_ASCENSION = -1e+32
DECLINATION = -1e+32
OFFSET_ANGLE = -1e+32
SPACECRAFT_SOLAR_DISTANCE = 2.48857e+08
TARGET_NAME = MARS
/* CAMERA DATA ELEMENTS */
DETECTOR_TEMPERATURE = 17.7588
FOCAL_PLANE_TEMPERATURE = 6.9521
INST_CMPRS_NAME = "DISCRETE COSINE TRANSFORMATION (DCT)"
INST_CMPRS_RATIO = 15.8417
INST_CMPRS_QUALITY = 0
INST_CMPRS_QUANTZ_TBL_ID = 0
INSTRUMENT_TEMPERATURE = 10.4184
LENS_TEMPERATURE = 7.5638
MACROPIXEL_SIZE = 4
MISSING_FRAMES = 1
PIXEL_SUBSAMPLING_FLAG = N
SIGNAL_CHAIN_ID = 2
/* RADIOMETRIC DATA ELEMENTS */
BANDWIDTH = 88.0
CENTER_FILTER_WAVELENGTH = 538.0
RADIANCE_OFFSET = 1.37983
RADIANCE_SCALING_FACTOR = 0.0142656
REFLECTANCE_SCALING_FACTOR = 0.000760639
MEX:REFLECTANCE_OFFSET = 0.0735722
/* IMAGE OBJECT DEFINITIONS */
OBJECT = IMAGE
  INTERCHANGE_FORMAT = BINARY
  LINES = 13758
  LINE_SAMPLES = 4183
  SAMPLE_TYPE = UNSIGNED_INTEGER
  SAMPLE_BITS = 8
  BANDS = 1
  BAND_STORAGE_TYPE = BAND_SEQUENTIAL
  MAXIMUM = 255
  MEAN = 82.3982
  MINIMUM = 1
  STANDARD_DEVIATION = 63.5237
END_OBJECT = IMAGE
/* MAP OBJECT DEFINITIONS */
OBJECT = IMAGE_MAP_PROJECTION
  ^DATA_SET_MAP_PROJECTION_CATALOG= "DSMAP.CAT"
  A_AXIS_RADIUS = 3396.0
  B_AXIS_RADIUS = 3396.0
  C_AXIS_RADIUS = 3396.0
  CENTER_LATITUDE = 0.0
  CENTER_LONGITUDE = 214.0
  COORDINATE_SYSTEM_NAME = PLANETOGRAPHIC
  COORDINATE_SYSTEM_TYPE = "BODY-FIXED ROTATING"
  EASTERNMOST_LONGITUDE = 218.994
  FIRST_STANDARD_PARALLEL = "N/A"
  LINE_FIRST_PIXEL = 1
  LINE_LAST_PIXEL = 13758
  LINE_PROJECTION_OFFSET = 94702.375
  MAP_PROJECTION_ROTATION = 0.0
  MAP_PROJECTION_TYPE = SINUSOIDAL
  MAP_RESOLUTION = 1185.42760773333
  MAP_SCALE = 0.05
  MAXIMUM_LATITUDE = 79.8703
  MINIMUM_LATITUDE = 68.30200000000001
  POSITIVE_LONGITUDE_DIRECTION = EAST
  REFERENCE_LATITUDE = "N/A"
  REFERENCE_LONGITUDE = "N/A"
  SAMPLE_FIRST_PIXEL = 1
  SAMPLE_LAST_PIXEL = 4183
  SAMPLE_PROJECTION_OFFSET = 2001.875
  SECOND_STANDARD_PARALLEL = "N/A"
  WESTERNMOST_LONGITUDE = 204.731
END_OBJECT = IMAGE_MAP_PROJECTION
/* The JPEG2000 image data file associated with this label. */
OBJECT = COMPRESSED_FILE
  FILE_NAME = "H5524_0000_GR3.JP2"
  RECORD_TYPE = UNDEFINED
  FILE_RECORDS = UNK
  ENCODING_TYPE = "JP2"
  INTERCHANGE_FORMAT = BINARY
  UNCOMPRESSED_FILE_NAME = "H5524_0000_GR3.IMG"
  REQUIRED_STORAGE_BYTES = "57574812"
  ^DESCRIPTION = "JP2INFO.TXT"
END_OBJECT = COMPRESSED_FILE
END
