PDS_VERSION_ID = PDS3
/* FILE DATA ELEMENTS */
RECORD_TYPE = STREAM
/* POINTERS TO DATA OBJECTS */
^COMPRESSED_FILE = "H5527_0000_ND3.JP2"
/* IDENTIFICATION DATA ELEMENTS */
DATA_SET_ID = "MEX-M-HRSC-5-REFDR-MAPPROJECTED-V3.0"
DATA_SET_NAME = "MARS EXPRESS HRSC MAP PROJECTED REFDR V3.0"
DETECTOR_ID = MEX_HRSC_NADIR
EVENT_TYPE = "MARS-REGIONAL-MAPPING-Te-Im-Pf"
INSTRUMENT_HOST_ID = MEX
INSTRUMENT_HOST_NAME = "MARS EXPRESS"
INSTRUMENT_ID = HRSC
INSTRUMENT_NAME = "HIGH RESOLUTION STEREO CAMERA"
MISSION_NAME = "MARS EXPRESS"
MISSION_PHASE_NAME = ME_Phase_12
PROCESSING_LEVEL_ID = 3
PRODUCT_CREATION_TIME = 2016-05-15T06:04:46.000Z
PRODUCT_ID = "H5527_0000_ND3.JP2"
RELEASE_ID = 0063
REVISION_ID = 0000
/* QUALITY DATA ELEMENTS */
DATA_QUALITY_ID = 1
DATA_QUALITY_DESC = "Data calculated based on original SPICE kernels"
/* TIME DATA ELEMENTS */
SPACECRAFT_CLOCK_START_COUNT = "1/0156882715.08405"
SPACECRAFT_CLOCK_STOP_COUNT = "1/0156882992.08123"
START_TIME = 2008-04-21T18:32:30.951Z
STOP_TIME = 2008-04-21T18:35:53.947Z
/* ORBITAL DATA ELEMENTS */
ASCENDING_NODE_LONGITUDE = 113.34
MAXIMUM_RESOLUTION = 14.4
FOOTPRINT_POINT_LATITUDE = (70.5046,70.4733,70.4182,70.3756, 70.1087,69.8742,69.6397,69.4051,69.1705 ,68.9359,68.7012,68.4665,68.2318, 67.9971,67.7623,67.5276,67.2929,66.8234 ,66.3541,65.8848,65.4157,64.9468, 64.6759,64.3962,64.1167,63.8373,63.558, 63.2788,62.9997,62.7208,62.442,62.1633, 61.8848,61.6064,61.3282,61.0502,60.7724 ,60.4947,60.2172,59.94,59.6629,59.386, 59.1093,58.8329,58.5567,58.2807,58.0049 ,57.7294,57.4541,57.4756,57.5002,57.533 ,57.6876,57.9642,58.2409,58.518,58.7952 ,59.0728,59.3505,59.6285,59.9068, 60.1854,60.4638,60.7427,61.0218,61.3011 ,61.5806,61.8603,62.1402,62.4203, 62.7005,62.9809,63.2615,63.5422,63.8231 ,64.1041,64.3853,64.6667,65.0806, 65.5527,66.025,66.2613,66.4977,66.7341, 66.9706,67.2072,67.4438,67.6804,67.9172 ,68.1539,68.3907,68.6275,68.8644, 69.1012,69.3382,69.5751,69.812,70.049, 70.2859,70.5046)
FOOTPRINT_POINT_LONGITUDE = (277.942,277.21,276.066,275.274,274.801 ,274.918,275.031,275.142,275.25,275.355 ,275.458,275.558,275.656,275.75,275.843 ,275.933,276.021,276.191,276.352, 276.506,276.653,276.793,276.871,276.949 ,277.025,277.099,277.17,277.24,277.308, 277.375,277.439,277.502,277.563,277.622 ,277.68,277.736,277.791,277.844,277.896 ,277.946,277.996,278.043,278.09,278.135 ,278.18,278.223,278.265,278.305,278.345 ,278.896,279.5,280.45,281.004,280.973, 280.94,280.907,280.874,280.84,280.804, 280.768,280.733,280.699,280.655,280.617 ,280.577,280.536,280.494,280.451, 280.407,280.363,280.316,280.269,280.221 ,280.172,280.121,280.069,280.016, 279.962,279.879,279.781,279.679,279.626 ,279.572,279.517,279.461,279.403, 279.344,279.284,279.222,279.159,279.094 ,279.027,278.96,278.89,278.818,278.745, 278.67,278.593,278.514,277.942)
ORBIT_NUMBER = 5527
ORBITAL_ECCENTRICITY = 0.568
ORBITAL_INCLINATION = 86.74
ORBITAL_SEMIMAJOR_AXIS = 8640.23
PERIAPSIS_ALTITUDE = 356.18
PERIAPSIS_ARGUMENT_ANGLE = 106.04
PERIAPSIS_TIME = 2008-04-21T18:31:40.000Z
SPACECRAFT_ORIENTATION = (0.0,-1.0,0.0)
^MEX_ORIENTATION_DESC = "MEX_ORIENTATION_DESC.TXT"
SPACECRAFT_POINTING_MODE = ACROSSTRACK
^MEX_POINTING_DESC = "MEX_POINTING_DESC.TXT"
RIGHT_ASCENSION = -1e+32
DECLINATION = -1e+32
OFFSET_ANGLE = 0.1
SPACECRAFT_SOLAR_DISTANCE = 2.48884e+08
TARGET_NAME = MARS
/* CAMERA DATA ELEMENTS */
DETECTOR_TEMPERATURE = 17.7588
FOCAL_PLANE_TEMPERATURE = 7.156
INST_CMPRS_NAME = "DISCRETE COSINE TRANSFORMATION (DCT)"
INST_CMPRS_RATIO = 7.91524
INST_CMPRS_QUALITY = 0
INST_CMPRS_QUANTZ_TBL_ID = 0
INSTRUMENT_TEMPERATURE = 10.4184
LENS_TEMPERATURE = 7.5638
MACROPIXEL_SIZE = 1
MISSING_FRAMES = 0
PIXEL_SUBSAMPLING_FLAG = N
SIGNAL_CHAIN_ID = 0
/* RADIOMETRIC DATA ELEMENTS */
BANDWIDTH = 177.0
CENTER_FILTER_WAVELENGTH = 677.5
RADIANCE_OFFSET = 4.22405
RADIANCE_SCALING_FACTOR = 0.0105831
REFLECTANCE_SCALING_FACTOR = 0.000348252
MEX:REFLECTANCE_OFFSET = 0.138998
/* IMAGE OBJECT DEFINITIONS */
OBJECT = IMAGE
  INTERCHANGE_FORMAT = BINARY
  LINES = 61982
  LINE_SAMPLES = 12691
  SAMPLE_TYPE = UNSIGNED_INTEGER
  SAMPLE_BITS = 8
  BANDS = 1
  BAND_STORAGE_TYPE = BAND_SEQUENTIAL
  MAXIMUM = 255
  MEAN = 101.581
  MINIMUM = 1
  STANDARD_DEVIATION = 41.7483
END_OBJECT = IMAGE
/* MAP OBJECT DEFINITIONS */
OBJECT = IMAGE_MAP_PROJECTION
  ^DATA_SET_MAP_PROJECTION_CATALOG= "DSMAP.CAT"
  A_AXIS_RADIUS = 3396.0
  B_AXIS_RADIUS = 3396.0
  C_AXIS_RADIUS = 3396.0
  CENTER_LATITUDE = 0.0
  CENTER_LONGITUDE = 278.0
  COORDINATE_SYSTEM_NAME = PLANETOGRAPHIC
  COORDINATE_SYSTEM_TYPE = "BODY-FIXED ROTATING"
  EASTERNMOST_LONGITUDE = 281.004
  FIRST_STANDARD_PARALLEL = "N/A"
  LINE_FIRST_PIXEL = 1
  LINE_LAST_PIXEL = 61982
  LINE_PROJECTION_OFFSET = 334398.0
  MAP_PROJECTION_ROTATION = 0.0
  MAP_PROJECTION_TYPE = SINUSOIDAL
  MAP_RESOLUTION = 4741.71043093333
  MAP_SCALE = 0.0125
  MAXIMUM_LATITUDE = 70.5046
  MINIMUM_LATITUDE = 57.4541
  POSITIVE_LONGITUDE_DIRECTION = EAST
  REFERENCE_LATITUDE = "N/A"
  REFERENCE_LONGITUDE = "N/A"
  SAMPLE_FIRST_PIXEL = 1
  SAMPLE_LAST_PIXEL = 12691
  SAMPLE_PROJECTION_OFFSET = 5137.0
  SECOND_STANDARD_PARALLEL = "N/A"
  WESTERNMOST_LONGITUDE = 274.801
END_OBJECT = IMAGE_MAP_PROJECTION
/* The JPEG2000 image data file associated with this label. */
OBJECT = COMPRESSED_FILE
  FILE_NAME = "H5527_0000_ND3.JP2"
  RECORD_TYPE = UNDEFINED
  FILE_RECORDS = UNK
  ENCODING_TYPE = "JP2"
  INTERCHANGE_FORMAT = BINARY
  UNCOMPRESSED_FILE_NAME = "H5527_0000_ND3.IMG"
  REQUIRED_STORAGE_BYTES = "786651635"
  ^DESCRIPTION = "JP2INFO.TXT"
END_OBJECT = COMPRESSED_FILE
END
