PDS_VERSION_ID = PDS3
/* FILE DATA ELEMENTS */
RECORD_TYPE = STREAM
/* POINTERS TO DATA OBJECTS */
^COMPRESSED_FILE = "H5527_0000_S13.JP2"
/* IDENTIFICATION DATA ELEMENTS */
DATA_SET_ID = "MEX-M-HRSC-5-REFDR-MAPPROJECTED-V3.0"
DATA_SET_NAME = "MARS EXPRESS HRSC MAP PROJECTED REFDR V3.0"
DETECTOR_ID = MEX_HRSC_S1
EVENT_TYPE = "MARS-REGIONAL-MAPPING-Te-Im-Pf"
INSTRUMENT_HOST_ID = MEX
INSTRUMENT_HOST_NAME = "MARS EXPRESS"
INSTRUMENT_ID = HRSC
INSTRUMENT_NAME = "HIGH RESOLUTION STEREO CAMERA"
MISSION_NAME = "MARS EXPRESS"
MISSION_PHASE_NAME = ME_Phase_12
PROCESSING_LEVEL_ID = 3
PRODUCT_CREATION_TIME = 2016-05-15T06:04:46.000Z
PRODUCT_ID = "H5527_0000_S13.JP2"
RELEASE_ID = 0063
REVISION_ID = 0000
/* QUALITY DATA ELEMENTS */
DATA_QUALITY_ID = 1
DATA_QUALITY_DESC = "Data calculated based on original SPICE kernels"
/* TIME DATA ELEMENTS */
SPACECRAFT_CLOCK_START_COUNT = "1/0156882715.08405"
SPACECRAFT_CLOCK_STOP_COUNT = "1/0156882992.08123"
START_TIME = 2008-04-21T18:31:58.833Z
STOP_TIME = 2008-04-21T18:35:17.567Z
/* ORBITAL DATA ELEMENTS */
ASCENDING_NODE_LONGITUDE = 113.34
MAXIMUM_RESOLUTION = 30.5
FOOTPRINT_POINT_LATITUDE = (70.6301,70.5991,70.5754,70.5225, 70.4877,70.3262,70.0898,69.7343,69.4972 ,69.2599,68.9031,68.6653,68.4273, 68.1895,67.8317,67.5928,67.3546,66.9959 ,66.7566,66.3975,66.1579,65.9183, 65.5585,65.3185,65.0785,64.8383,64.5977 ,64.2372,63.9966,63.7557,63.3947, 63.0333,62.7923,62.5137,62.0819,61.794, 61.3619,61.0735,60.7854,60.3535,60.065, 59.6325,59.3439,59.0554,58.7671,58.3345 ,58.0461,57.7578,57.4694,57.4605, 57.4792,57.4932,57.5063,57.5197,57.5332 ,57.8227,58.1125,58.4019,58.6918, 58.9813,59.2707,59.5609,59.8504,60.2788 ,60.5752,61.0089,61.2986,61.7324, 62.0218,62.3114,62.601,62.8855,63.1279, 63.4914,63.8548,64.097,64.3395,64.5811, 64.8231,65.0652,65.307,65.5487,65.7903, 66.0319,66.3942,66.6356,66.9972,67.3581 ,67.5992,67.8399,68.0806,68.3213, 68.5617,68.9221,69.2824,69.5224,69.7625 ,70.0019,70.2414,70.6301)
FOOTPRINT_POINT_LONGITUDE = (278.265,277.472,276.923,275.832, 275.188,274.711,274.832,275.009,275.123 ,275.235,275.396,275.5,275.602,275.701, 275.845,275.938,276.029,276.162,276.247 ,276.371,276.452,276.531,276.645, 276.719,276.791,276.862,276.931,277.032 ,277.097,277.16,277.253,277.343,277.401 ,277.466,277.564,277.628,277.719, 277.778,277.836,277.92,277.974,278.052, 278.102,278.151,278.199,278.268,278.313 ,278.357,278.399,278.826,279.275,279.65 ,280.026,280.479,280.992,280.96,280.927 ,280.894,280.86,280.825,280.79,280.753, 280.716,280.664,280.619,280.558,280.517 ,280.453,280.409,280.364,280.317, 280.271,280.23,280.168,280.103,280.06, 280.014,279.969,279.922,279.874,279.826 ,279.776,279.725,279.673,279.593, 279.538,279.453,279.366,279.306,279.245 ,279.182,279.118,279.052,278.95,278.844 ,278.772,278.697,278.621,278.543, 278.265)
ORBIT_NUMBER = 5527
ORBITAL_ECCENTRICITY = 0.568
ORBITAL_INCLINATION = 86.74
ORBITAL_SEMIMAJOR_AXIS = 8640.23
PERIAPSIS_ALTITUDE = 356.18
PERIAPSIS_ARGUMENT_ANGLE = 106.04
PERIAPSIS_TIME = 2008-04-21T18:31:40.000Z
SPACECRAFT_ORIENTATION = (0.0,-1.0,0.0)
^MEX_ORIENTATION_DESC = "MEX_ORIENTATION_DESC.TXT"
SPACECRAFT_POINTING_MODE = ACROSSTRACK
^MEX_POINTING_DESC = "MEX_POINTING_DESC.TXT"
RIGHT_ASCENSION = -1e+32
DECLINATION = -1e+32
OFFSET_ANGLE = 0.1
SPACECRAFT_SOLAR_DISTANCE = 2.48884e+08
TARGET_NAME = MARS
/* CAMERA DATA ELEMENTS */
DETECTOR_TEMPERATURE = 16.7393
FOCAL_PLANE_TEMPERATURE = 7.156
INST_CMPRS_NAME = "DISCRETE COSINE TRANSFORMATION (DCT)"
INST_CMPRS_RATIO = 10.0796
INST_CMPRS_QUALITY = 0
INST_CMPRS_QUANTZ_TBL_ID = 0
INSTRUMENT_TEMPERATURE = 10.4184
LENS_TEMPERATURE = 7.5638
MACROPIXEL_SIZE = 2
MISSING_FRAMES = 0
PIXEL_SUBSAMPLING_FLAG = N
SIGNAL_CHAIN_ID = 1
/* RADIOMETRIC DATA ELEMENTS */
BANDWIDTH = 180.0
CENTER_FILTER_WAVELENGTH = 677.0
RADIANCE_OFFSET = 4.63928
RADIANCE_SCALING_FACTOR = 0.00986381
REFLECTANCE_SCALING_FACTOR = 0.000318773
MEX:REFLECTANCE_OFFSET = 0.14993
/* IMAGE OBJECT DEFINITIONS */
OBJECT = IMAGE
  INTERCHANGE_FORMAT = BINARY
  LINES = 30991
  LINE_SAMPLES = 6346
  SAMPLE_TYPE = UNSIGNED_INTEGER
  SAMPLE_BITS = 8
  BANDS = 1
  BAND_STORAGE_TYPE = BAND_SEQUENTIAL
  MAXIMUM = 255
  MEAN = 119.729
  MINIMUM = 1
  STANDARD_DEVIATION = 36.3712
END_OBJECT = IMAGE
/* MAP OBJECT DEFINITIONS */
OBJECT = IMAGE_MAP_PROJECTION
  ^DATA_SET_MAP_PROJECTION_CATALOG= "DSMAP.CAT"
  A_AXIS_RADIUS = 3396.0
  B_AXIS_RADIUS = 3396.0
  C_AXIS_RADIUS = 3396.0
  CENTER_LATITUDE = 0.0
  CENTER_LONGITUDE = 278.0
  COORDINATE_SYSTEM_NAME = PLANETOGRAPHIC
  COORDINATE_SYSTEM_TYPE = "BODY-FIXED ROTATING"
  EASTERNMOST_LONGITUDE = 280.992
  FIRST_STANDARD_PARALLEL = "N/A"
  LINE_FIRST_PIXEL = 1
  LINE_LAST_PIXEL = 30991
  LINE_PROJECTION_OFFSET = 167198.75
  MAP_PROJECTION_ROTATION = 0.0
  MAP_PROJECTION_TYPE = SINUSOIDAL
  MAP_RESOLUTION = 2370.85521546667
  MAP_SCALE = 0.025
  MAXIMUM_LATITUDE = 70.6301
  MINIMUM_LATITUDE = 57.4605
  POSITIVE_LONGITUDE_DIRECTION = EAST
  REFERENCE_LATITUDE = "N/A"
  REFERENCE_LONGITUDE = "N/A"
  SAMPLE_FIRST_PIXEL = 1
  SAMPLE_LAST_PIXEL = 6346
  SAMPLE_PROJECTION_OFFSET = 2568.25
  SECOND_STANDARD_PARALLEL = "N/A"
  WESTERNMOST_LONGITUDE = 274.711
END_OBJECT = IMAGE_MAP_PROJECTION
/* The JPEG2000 image data file associated with this label. */
OBJECT = COMPRESSED_FILE
  FILE_NAME = "H5527_0000_S13.JP2"
  RECORD_TYPE = UNDEFINED
  FILE_RECORDS = UNK
  ENCODING_TYPE = "JP2"
  INTERCHANGE_FORMAT = BINARY
  UNCOMPRESSED_FILE_NAME = "H5527_0000_S13.IMG"
  REQUIRED_STORAGE_BYTES = "196700616"
  ^DESCRIPTION = "JP2INFO.TXT"
END_OBJECT = COMPRESSED_FILE
END
