PDS_VERSION_ID = PDS3
/* FILE DATA ELEMENTS */
RECORD_TYPE = STREAM
/* POINTERS TO DATA OBJECTS */
^COMPRESSED_FILE = "H5529_0000_GR3.JP2"
/* IDENTIFICATION DATA ELEMENTS */
DATA_SET_ID = "MEX-M-HRSC-5-REFDR-MAPPROJECTED-V3.0"
DATA_SET_NAME = "MARS EXPRESS HRSC MAP PROJECTED REFDR V3.0"
DETECTOR_ID = MEX_HRSC_GREEN
EVENT_TYPE = "MARS-REGIONAL-MAPPING-Gl-Pf-Eo"
INSTRUMENT_HOST_ID = MEX
INSTRUMENT_HOST_NAME = "MARS EXPRESS"
INSTRUMENT_ID = HRSC
INSTRUMENT_NAME = "HIGH RESOLUTION STEREO CAMERA"
MISSION_NAME = "MARS EXPRESS"
MISSION_PHASE_NAME = ME_Phase_12
PROCESSING_LEVEL_ID = 3
PRODUCT_CREATION_TIME = 2016-05-15T06:04:46.000Z
PRODUCT_ID = "H5529_0000_GR3.JP2"
RELEASE_ID = 0063
REVISION_ID = 0000
/* QUALITY DATA ELEMENTS */
DATA_QUALITY_ID = 2
DATA_QUALITY_DESC = "Data calculated based on photogrammetrically improved orbit and attitude data"
/* TIME DATA ELEMENTS */
SPACECRAFT_CLOCK_START_COUNT = "1/0156931916.08254"
SPACECRAFT_CLOCK_STOP_COUNT = "1/0156932149.47579"
START_TIME = 2008-04-22T08:12:26.638Z
STOP_TIME = 2008-04-22T08:15:10.330Z
/* ORBITAL DATA ELEMENTS */
ASCENDING_NODE_LONGITUDE = 113.29
MAXIMUM_RESOLUTION = 57.2
FOOTPRINT_POINT_LATITUDE = (74.6254,74.5814,74.5182,74.3879, 74.0828,73.8793,73.6755,73.3696,73.1654 ,72.9611,72.7566,72.552,72.3473,72.1423 ,71.9372,71.7321,71.4175,71.212,71.0066 ,70.801,70.5953,70.3896,70.1837,69.9777 ,69.7718,69.5658,69.3598,69.1535, 68.9473,68.7411,68.5348,68.3285,68.1221 ,67.9157,67.7094,67.5029,67.2965,67.09, 66.7533,66.5468,66.3404,66.0307,65.8242 ,65.6178,65.4113,65.205,64.8953,64.689, 64.455,64.2088,63.9626,64.0066,64.0455, 64.0741,64.3379,64.5857,64.9258,65.1335 ,65.3413,65.5491,65.757,65.965,66.2769, 66.4849,66.6929,67.0323,67.2404,67.4485 ,67.6567,67.8649,68.1771,68.3853, 68.5935,68.8017,69.0099,69.2181,69.4263 ,69.6345,69.8427,70.0509,70.2591, 70.4672,70.6753,70.8834,71.0915,71.2995 ,71.6115,71.9302,72.1381,72.3459, 72.5537,72.7615,72.9691,73.1767,73.3841 ,73.5916,73.9026,74.2135,74.4206, 74.6254)
FOOTPRINT_POINT_LONGITUDE = (75.4593,74.5276,73.3202,71.5119, 71.7784,71.9502,72.1174,72.3597,72.516, 72.6685,72.8169,72.9614,73.1023,73.2394 ,73.3731,73.5036,73.6976,73.82,73.94, 74.0567,74.1707,74.2822,74.3908,74.4968 ,74.6006,74.702,74.8017,74.8978,74.9924 ,75.085,75.1755,75.2639,75.3503,75.4348 ,75.518,75.5987,75.6778,75.7554,75.8785 ,75.9517,76.0235,76.1282,76.1964, 76.2629,76.328,76.3921,76.4853,76.5459, 76.6132,76.6823,76.7498,77.7178,78.5776 ,79.3007,79.6793,79.6295,79.5593, 79.5156,79.471,79.4256,79.3791,79.3316, 79.2589,79.2096,79.159,79.0744,79.0213, 78.9669,78.9114,78.8546,78.768,78.7086, 78.6478,78.5858,78.5224,78.4575,78.3916 ,78.3239,78.2548,78.1839,78.1117, 78.0382,77.9626,77.8852,77.806,77.7255, 77.6003,77.4676,77.3785,77.287,77.1935, 77.0971,76.9993,76.8984,76.7952,76.6889 ,76.524,76.3524,76.2345,75.4593)
ORBIT_NUMBER = 5529
ORBITAL_ECCENTRICITY = 0.568
ORBITAL_INCLINATION = 86.76
ORBITAL_SEMIMAJOR_AXIS = 8641.73
PERIAPSIS_ALTITUDE = 355.41
PERIAPSIS_ARGUMENT_ANGLE = 105.67
PERIAPSIS_TIME = 2008-04-22T08:12:40.000Z
SPACECRAFT_ORIENTATION = (0.0,-1.0,0.0)
^MEX_ORIENTATION_DESC = "MEX_ORIENTATION_DESC.TXT"
SPACECRAFT_POINTING_MODE = NADIR
^MEX_POINTING_DESC = "MEX_POINTING_DESC.TXT"
RIGHT_ASCENSION = -1e+32
DECLINATION = -1e+32
OFFSET_ANGLE = -1e+32
SPACECRAFT_SOLAR_DISTANCE = 2.48902e+08
TARGET_NAME = MARS
/* CAMERA DATA ELEMENTS */
DETECTOR_TEMPERATURE = 17.5549
FOCAL_PLANE_TEMPERATURE = 6.7482
INST_CMPRS_NAME = "DISCRETE COSINE TRANSFORMATION (DCT)"
INST_CMPRS_RATIO = 7.35635
INST_CMPRS_QUALITY = 0
INST_CMPRS_QUANTZ_TBL_ID = 0
INSTRUMENT_TEMPERATURE = 10.6223
LENS_TEMPERATURE = 7.3599
MACROPIXEL_SIZE = 4
MISSING_FRAMES = 5
PIXEL_SUBSAMPLING_FLAG = N
SIGNAL_CHAIN_ID = 2
/* RADIOMETRIC DATA ELEMENTS */
BANDWIDTH = 88.0
CENTER_FILTER_WAVELENGTH = 538.0
RADIANCE_OFFSET = 1.35999
RADIANCE_SCALING_FACTOR = 0.0149743
REFLECTANCE_SCALING_FACTOR = 0.000798718
MEX:REFLECTANCE_OFFSET = 0.0725411
/* IMAGE OBJECT DEFINITIONS */
OBJECT = IMAGE
  INTERCHANGE_FORMAT = BINARY
  LINES = 12646
  LINE_SAMPLES = 3087
  SAMPLE_TYPE = UNSIGNED_INTEGER
  SAMPLE_BITS = 8
  BANDS = 1
  BAND_STORAGE_TYPE = BAND_SEQUENTIAL
  MAXIMUM = 255
  MEAN = 57.8257
  MINIMUM = 1
  STANDARD_DEVIATION = 51.2066
END_OBJECT = IMAGE
/* MAP OBJECT DEFINITIONS */
OBJECT = IMAGE_MAP_PROJECTION
  ^DATA_SET_MAP_PROJECTION_CATALOG= "DSMAP.CAT"
  A_AXIS_RADIUS = 3396.0
  B_AXIS_RADIUS = 3396.0
  C_AXIS_RADIUS = 3396.0
  CENTER_LATITUDE = 0.0
  CENTER_LONGITUDE = 77.0
  COORDINATE_SYSTEM_NAME = PLANETOGRAPHIC
  COORDINATE_SYSTEM_TYPE = "BODY-FIXED ROTATING"
  EASTERNMOST_LONGITUDE = 79.6793
  FIRST_STANDARD_PARALLEL = "N/A"
  LINE_FIRST_PIXEL = 1
  LINE_LAST_PIXEL = 12646
  LINE_PROJECTION_OFFSET = 88465.625
  MAP_PROJECTION_ROTATION = 0.0
  MAP_PROJECTION_TYPE = SINUSOIDAL
  MAP_RESOLUTION = 1185.42760773333
  MAP_SCALE = 0.05
  MAXIMUM_LATITUDE = 74.6254
  MINIMUM_LATITUDE = 63.9626
  POSITIVE_LONGITUDE_DIRECTION = EAST
  REFERENCE_LATITUDE = "N/A"
  REFERENCE_LONGITUDE = "N/A"
  SAMPLE_FIRST_PIXEL = 1
  SAMPLE_LAST_PIXEL = 3087
  SAMPLE_PROJECTION_OFFSET = 1709.125
  SECOND_STANDARD_PARALLEL = "N/A"
  WESTERNMOST_LONGITUDE = 71.5119
END_OBJECT = IMAGE_MAP_PROJECTION
/* The JPEG2000 image data file associated with this label. */
OBJECT = COMPRESSED_FILE
  FILE_NAME = "H5529_0000_GR3.JP2"
  RECORD_TYPE = UNDEFINED
  FILE_RECORDS = UNK
  ENCODING_TYPE = "JP2"
  INTERCHANGE_FORMAT = BINARY
  UNCOMPRESSED_FILE_NAME = "H5529_0000_GR3.IMG"
  REQUIRED_STORAGE_BYTES = "39062898"
  ^DESCRIPTION = "JP2INFO.TXT"
END_OBJECT = COMPRESSED_FILE
END
