PDS_VERSION_ID = PDS3
/* FILE DATA ELEMENTS */
RECORD_TYPE = STREAM
/* POINTERS TO DATA OBJECTS */
^COMPRESSED_FILE = "H5530_0000_P13.JP2"
/* IDENTIFICATION DATA ELEMENTS */
DATA_SET_ID = "MEX-M-HRSC-5-REFDR-MAPPROJECTED-V3.0"
DATA_SET_NAME = "MARS EXPRESS HRSC MAP PROJECTED REFDR V3.0"
DETECTOR_ID = MEX_HRSC_P1
EVENT_TYPE = "MARS-REGIONAL-MAPPING-Im-Pf"
INSTRUMENT_HOST_ID = MEX
INSTRUMENT_HOST_NAME = "MARS EXPRESS"
INSTRUMENT_ID = HRSC
INSTRUMENT_NAME = "HIGH RESOLUTION STEREO CAMERA"
MISSION_NAME = "MARS EXPRESS"
MISSION_PHASE_NAME = ME_Phase_12
PROCESSING_LEVEL_ID = 3
PRODUCT_CREATION_TIME = 2016-05-15T06:04:46.000Z
PRODUCT_ID = "H5530_0000_P13.JP2"
RELEASE_ID = 0063
REVISION_ID = 0000
/* QUALITY DATA ELEMENTS */
DATA_QUALITY_ID = 1
DATA_QUALITY_DESC = "Data calculated based on original SPICE kernels"
/* TIME DATA ELEMENTS */
SPACECRAFT_CLOCK_START_COUNT = "1/0156956587.08406"
SPACECRAFT_CLOCK_STOP_COUNT = "1/0156956773.40253"
START_TIME = 2008-04-22T15:03:21.723Z
STOP_TIME = 2008-04-22T15:05:17.959Z
/* ORBITAL DATA ELEMENTS */
ASCENDING_NODE_LONGITUDE = 113.28
MAXIMUM_RESOLUTION = 29.6
FOOTPRINT_POINT_LATITUDE = (72.1685,72.1416,72.1158,72.0679, 72.0371,71.998,71.8883,71.741,71.5936, 71.4461,71.2247,71.0032,70.8556,70.7076 ,70.5596,70.4116,70.2635,70.0414,69.819 ,69.6706,69.5223,69.3737,69.2253, 69.0767,68.9281,68.7794,68.6307,68.482, 68.3331,68.1842,68.0353,67.8119,67.5885 ,67.4394,67.2157,67.0665,66.9173,66.768 ,66.5441,66.3949,66.1709,66.0214, 65.8721,65.7228,65.4988,65.3493,65.1995 ,65.0501,64.8259,64.6763,64.4281, 64.4521,64.485,64.5186,64.5386,64.6252, 64.7757,64.9262,65.0768,65.3025,65.4532 ,65.6037,65.7542,65.9045,66.0549, 66.2806,66.431,66.5815,66.8071,66.9575, 67.1079,67.2583,67.4086,67.559,67.7093, 67.8595,68.0098,68.1601,68.3103,68.4605 ,68.6857,68.8359,69.0611,69.2112, 69.3613,69.5112,69.6611,69.886,70.0359, 70.2606,70.4852,70.6349,70.7846,71.009, 71.2333,71.4576,71.6071,71.7564,71.9057 ,72.1685)
FOOTPRINT_POINT_LONGITUDE = (337.54,336.871,336.278,335.284,334.699 ,334.007,333.688,333.779,333.869, 333.956,334.085,334.211,334.293,334.374 ,334.453,334.531,334.607,334.72,334.83, 334.901,334.972,335.041,335.109,335.176 ,335.242,335.307,335.371,335.434, 335.496,335.557,335.616,335.705,335.791 ,335.847,335.93,335.984,336.037,336.09, 336.167,336.218,336.292,336.341,336.389 ,336.436,336.505,336.551,336.596,336.64 ,336.705,336.747,336.963,337.43,338.131 ,338.954,339.515,339.836,339.807, 339.778,339.748,339.702,339.671,339.639 ,339.608,339.576,339.543,339.493, 339.459,339.425,339.373,339.337,339.301 ,339.264,339.228,339.19,339.152,339.113 ,339.074,339.034,338.993,338.952,338.89 ,338.847,338.782,338.737,338.692, 338.647,338.6,338.53,338.481,338.408, 338.332,338.281,338.229,338.149,338.067 ,337.983,337.925,337.867,337.808, 337.54)
ORBIT_NUMBER = 5530
ORBITAL_ECCENTRICITY = 0.568
ORBITAL_INCLINATION = 86.76
ORBITAL_SEMIMAJOR_AXIS = 8639.13
PERIAPSIS_ALTITUDE = 356.45
PERIAPSIS_ARGUMENT_ANGLE = 105.49
PERIAPSIS_TIME = 2008-04-22T15:03:08.000Z
SPACECRAFT_ORIENTATION = (0.0,-1.0,0.0)
^MEX_ORIENTATION_DESC = "MEX_ORIENTATION_DESC.TXT"
SPACECRAFT_POINTING_MODE = ACROSSTRACK
^MEX_POINTING_DESC = "MEX_POINTING_DESC.TXT"
RIGHT_ASCENSION = -1e+32
DECLINATION = -1e+32
OFFSET_ANGLE = 0.1
SPACECRAFT_SOLAR_DISTANCE = 2.48911e+08
TARGET_NAME = MARS
/* CAMERA DATA ELEMENTS */
DETECTOR_TEMPERATURE = 16.5354
FOCAL_PLANE_TEMPERATURE = 6.9521
INST_CMPRS_NAME = "DISCRETE COSINE TRANSFORMATION (DCT)"
INST_CMPRS_RATIO = 13.7347
INST_CMPRS_QUALITY = 0
INST_CMPRS_QUANTZ_TBL_ID = 0
INSTRUMENT_TEMPERATURE = 10.6223
LENS_TEMPERATURE = 7.3599
MACROPIXEL_SIZE = 2
MISSING_FRAMES = 0
PIXEL_SUBSAMPLING_FLAG = N
SIGNAL_CHAIN_ID = 3
/* RADIOMETRIC DATA ELEMENTS */
BANDWIDTH = 174.0
CENTER_FILTER_WAVELENGTH = 675.0
RADIANCE_OFFSET = 2.89437
RADIANCE_SCALING_FACTOR = 0.02429
REFLECTANCE_SCALING_FACTOR = 0.00080947
MEX:REFLECTANCE_OFFSET = 0.0964555
/* IMAGE OBJECT DEFINITIONS */
OBJECT = IMAGE
  INTERCHANGE_FORMAT = BINARY
  LINES = 18131
  LINE_SAMPLES = 5177
  SAMPLE_TYPE = UNSIGNED_INTEGER
  SAMPLE_BITS = 8
  BANDS = 1
  BAND_STORAGE_TYPE = BAND_SEQUENTIAL
  MAXIMUM = 255
  MEAN = 93.6972
  MINIMUM = 1
  STANDARD_DEVIATION = 50.394
END_OBJECT = IMAGE
/* MAP OBJECT DEFINITIONS */
OBJECT = IMAGE_MAP_PROJECTION
  ^DATA_SET_MAP_PROJECTION_CATALOG= "DSMAP.CAT"
  A_AXIS_RADIUS = 3396.0
  B_AXIS_RADIUS = 3396.0
  C_AXIS_RADIUS = 3396.0
  CENTER_LATITUDE = 0.0
  CENTER_LONGITUDE = 337.0
  COORDINATE_SYSTEM_NAME = PLANETOGRAPHIC
  COORDINATE_SYSTEM_TYPE = "BODY-FIXED ROTATING"
  EASTERNMOST_LONGITUDE = 339.836
  FIRST_STANDARD_PARALLEL = "N/A"
  LINE_FIRST_PIXEL = 1
  LINE_LAST_PIXEL = 18131
  LINE_PROJECTION_OFFSET = 170911.75
  MAP_PROJECTION_ROTATION = 0.0
  MAP_PROJECTION_TYPE = SINUSOIDAL
  MAP_RESOLUTION = 2370.85521546667
  MAP_SCALE = 0.025
  MAXIMUM_LATITUDE = 72.16849999999999
  MINIMUM_LATITUDE = 64.4281
  POSITIVE_LONGITUDE_DIRECTION = EAST
  REFERENCE_LATITUDE = "N/A"
  REFERENCE_LONGITUDE = "N/A"
  SAMPLE_FIRST_PIXEL = 1
  SAMPLE_LAST_PIXEL = 5177
  SAMPLE_PROJECTION_OFFSET = 2371.75
  SECOND_STANDARD_PARALLEL = "N/A"
  WESTERNMOST_LONGITUDE = 333.688
END_OBJECT = IMAGE_MAP_PROJECTION
/* The JPEG2000 image data file associated with this label. */
OBJECT = COMPRESSED_FILE
  FILE_NAME = "H5530_0000_P13.JP2"
  RECORD_TYPE = UNDEFINED
  FILE_RECORDS = UNK
  ENCODING_TYPE = "JP2"
  INTERCHANGE_FORMAT = BINARY
  UNCOMPRESSED_FILE_NAME = "H5530_0000_P13.IMG"
  REQUIRED_STORAGE_BYTES = "93890072"
  ^DESCRIPTION = "JP2INFO.TXT"
END_OBJECT = COMPRESSED_FILE
END
