PDS_VERSION_ID = PDS3
/* FILE DATA ELEMENTS */
RECORD_TYPE = STREAM
/* POINTERS TO DATA OBJECTS */
^COMPRESSED_FILE = "H5532_0000_GR3.JP2"
/* IDENTIFICATION DATA ELEMENTS */
DATA_SET_ID = "MEX-M-HRSC-5-REFDR-MAPPROJECTED-V3.0"
DATA_SET_NAME = "MARS EXPRESS HRSC MAP PROJECTED REFDR V3.0"
DETECTOR_ID = MEX_HRSC_GREEN
EVENT_TYPE = "MARS-REGIONAL-MAPPING-Gl-La"
INSTRUMENT_HOST_ID = MEX
INSTRUMENT_HOST_NAME = "MARS EXPRESS"
INSTRUMENT_ID = HRSC
INSTRUMENT_NAME = "HIGH RESOLUTION STEREO CAMERA"
MISSION_NAME = "MARS EXPRESS"
MISSION_PHASE_NAME = ME_Phase_12
PROCESSING_LEVEL_ID = 3
PRODUCT_CREATION_TIME = 2016-05-15T06:04:46.000Z
PRODUCT_ID = "H5532_0000_GR3.JP2"
RELEASE_ID = 0063
REVISION_ID = 0000
/* QUALITY DATA ELEMENTS */
DATA_QUALITY_ID = 1
DATA_QUALITY_DESC = "Data calculated based on original SPICE kernels"
/* TIME DATA ELEMENTS */
SPACECRAFT_CLOCK_START_COUNT = "1/0157005630.09093"
SPACECRAFT_CLOCK_STOP_COUNT = "1/0157005855.14980"
START_TIME = 2008-04-23T04:41:04.544Z
STOP_TIME = 2008-04-23T04:43:39.210Z
/* ORBITAL DATA ELEMENTS */
ASCENDING_NODE_LONGITUDE = 113.24
MAXIMUM_RESOLUTION = 57.8
FOOTPRINT_POINT_LATITUDE = (85.2293,85.013,84.8745,84.732,84.5855, 84.3684,84.2264,84.081,83.9313,83.7773, 83.6183,83.3745,83.2083,83.0384,82.8665 ,82.6912,82.5135,82.2435,82.0612,81.877 ,81.6909,81.5031,81.3138,81.1229, 80.8342,80.5081,80.1788,79.8466,79.5117 ,79.1745,78.8349,78.6644,78.4934, 78.3218,78.1499,77.9774,77.8046,77.6312 ,77.4576,77.1964,77.0219,76.847,76.6719 ,76.4964,76.3207,76.0565,75.8961, 75.9496,76.0033,76.0658,76.124,76.2773, 76.4583,76.6392,76.82,77.0006,77.181, 77.3613,77.5413,77.7212,77.9908,78.1702 ,78.3494,78.5283,78.707,78.8855,79.0637 ,79.2416,79.4192,79.5966,79.7736, 79.9504,80.1268,80.3028,80.4785,80.6537 ,80.8286,81.0031,81.3506,81.5549, 81.7605,81.9654,82.1694,82.3724,82.5744 ,82.7753,82.9751,83.1735,83.4686, 83.6637,83.857,84.0483,84.2376,84.4246, 84.6093,84.8811,85.0587,85.2327,85.403, 85.2293)
FOOTPRINT_POINT_LONGITUDE = (103.331,100.711,99.2042,97.772,96.4085 ,96.2708,97.9156,99.4867,100.982, 102.403,103.75,105.652,106.846,107.979, 109.061,110.087,111.064,112.45,113.322, 114.154,114.949,115.708,116.435,117.13, 118.116,119.147,120.108,121.005,121.845 ,122.631,123.369,123.721,124.062, 124.393,124.714,125.025,125.328,125.621 ,125.906,126.318,126.584,126.842, 127.094,127.338,127.576,127.921,128.531 ,129.285,130.087,131.082,132.08,133.16, 132.998,132.831,132.66,132.484,132.303, 132.117,131.926,131.728,131.421,131.208 ,130.988,130.762,130.53,130.288,130.039 ,129.783,129.517,129.242,128.957, 128.663,128.358,128.041,127.713,127.373 ,127.019,126.652,125.873,125.383, 124.864,124.317,123.742,123.137,122.498 ,121.824,121.112,120.359,119.144, 118.266,117.333,116.345,115.291,114.169 ,112.968,111.006,109.574,108.043,106.4, 103.331)
ORBIT_NUMBER = 5532
ORBITAL_ECCENTRICITY = 0.568
ORBITAL_INCLINATION = 86.74
ORBITAL_SEMIMAJOR_AXIS = 8640.79
PERIAPSIS_ALTITUDE = 357.07
PERIAPSIS_ARGUMENT_ANGLE = 105.16
PERIAPSIS_TIME = 2008-04-23T04:44:10.000Z
SPACECRAFT_ORIENTATION = (0.0,-1.0,0.0)
^MEX_ORIENTATION_DESC = "MEX_ORIENTATION_DESC.TXT"
SPACECRAFT_POINTING_MODE = ACROSSTRACK
^MEX_POINTING_DESC = "MEX_POINTING_DESC.TXT"
RIGHT_ASCENSION = -1e+32
DECLINATION = -1e+32
OFFSET_ANGLE = -0.35
SPACECRAFT_SOLAR_DISTANCE = 2.48928e+08
TARGET_NAME = MARS
/* CAMERA DATA ELEMENTS */
DETECTOR_TEMPERATURE = 17.7588
FOCAL_PLANE_TEMPERATURE = 7.3599
INST_CMPRS_NAME = "DISCRETE COSINE TRANSFORMATION (DCT)"
INST_CMPRS_RATIO = 7.86517
INST_CMPRS_QUALITY = 0
INST_CMPRS_QUANTZ_TBL_ID = 0
INSTRUMENT_TEMPERATURE = 10.6223
LENS_TEMPERATURE = 7.7677
MACROPIXEL_SIZE = 4
MISSING_FRAMES = 0
PIXEL_SUBSAMPLING_FLAG = N
SIGNAL_CHAIN_ID = 2
/* RADIOMETRIC DATA ELEMENTS */
BANDWIDTH = 88.0
CENTER_FILTER_WAVELENGTH = 538.0
RADIANCE_OFFSET = 1.71072
RADIANCE_SCALING_FACTOR = 0.0160425
REFLECTANCE_SCALING_FACTOR = 0.000855871
MEX:REFLECTANCE_OFFSET = 0.091267
/* IMAGE OBJECT DEFINITIONS */
OBJECT = IMAGE
  INTERCHANGE_FORMAT = BINARY
  LINES = 11265
  LINE_SAMPLES = 5839
  SAMPLE_TYPE = UNSIGNED_INTEGER
  SAMPLE_BITS = 8
  BANDS = 1
  BAND_STORAGE_TYPE = BAND_SEQUENTIAL
  MAXIMUM = 255
  MEAN = 142.401
  MINIMUM = 1
  STANDARD_DEVIATION = 40.539
END_OBJECT = IMAGE
/* MAP OBJECT DEFINITIONS */
OBJECT = IMAGE_MAP_PROJECTION
  ^DATA_SET_MAP_PROJECTION_CATALOG= "DSMAP.CAT"
  A_AXIS_RADIUS = 3396.0
  B_AXIS_RADIUS = 3396.0
  C_AXIS_RADIUS = 3396.0
  CENTER_LATITUDE = 0.0
  CENTER_LONGITUDE = 124.0
  COORDINATE_SYSTEM_NAME = PLANETOGRAPHIC
  COORDINATE_SYSTEM_TYPE = "BODY-FIXED ROTATING"
  EASTERNMOST_LONGITUDE = 133.16
  FIRST_STANDARD_PARALLEL = "N/A"
  LINE_FIRST_PIXEL = 1
  LINE_LAST_PIXEL = 11265
  LINE_PROJECTION_OFFSET = 101225.375
  MAP_PROJECTION_ROTATION = 0.0
  MAP_PROJECTION_TYPE = SINUSOIDAL
  MAP_RESOLUTION = 1185.42760773333
  MAP_SCALE = 0.05
  MAXIMUM_LATITUDE = 85.40300000000001
  MINIMUM_LATITUDE = 75.8961
  POSITIVE_LONGITUDE_DIRECTION = EAST
  REFERENCE_LATITUDE = "N/A"
  REFERENCE_LONGITUDE = "N/A"
  SAMPLE_FIRST_PIXEL = 1
  SAMPLE_LAST_PIXEL = 5839
  SAMPLE_PROJECTION_OFFSET = 3241.875
  SECOND_STANDARD_PARALLEL = "N/A"
  WESTERNMOST_LONGITUDE = 96.27079999999999
END_OBJECT = IMAGE_MAP_PROJECTION
/* The JPEG2000 image data file associated with this label. */
OBJECT = COMPRESSED_FILE
  FILE_NAME = "H5532_0000_GR3.JP2"
  RECORD_TYPE = UNDEFINED
  FILE_RECORDS = UNK
  ENCODING_TYPE = "JP2"
  INTERCHANGE_FORMAT = BINARY
  UNCOMPRESSED_FILE_NAME = "H5532_0000_GR3.IMG"
  REQUIRED_STORAGE_BYTES = "65805530"
  ^DESCRIPTION = "JP2INFO.TXT"
END_OBJECT = COMPRESSED_FILE
END
