PDS_VERSION_ID = PDS3
/* FILE DATA ELEMENTS */
RECORD_TYPE = STREAM
/* POINTERS TO DATA OBJECTS */
^COMPRESSED_FILE = "H5532_0000_IR3.JP2"
/* IDENTIFICATION DATA ELEMENTS */
DATA_SET_ID = "MEX-M-HRSC-5-REFDR-MAPPROJECTED-V3.0"
DATA_SET_NAME = "MARS EXPRESS HRSC MAP PROJECTED REFDR V3.0"
DETECTOR_ID = MEX_HRSC_IR
EVENT_TYPE = "MARS-REGIONAL-MAPPING-Gl-La"
INSTRUMENT_HOST_ID = MEX
INSTRUMENT_HOST_NAME = "MARS EXPRESS"
INSTRUMENT_ID = HRSC
INSTRUMENT_NAME = "HIGH RESOLUTION STEREO CAMERA"
MISSION_NAME = "MARS EXPRESS"
MISSION_PHASE_NAME = ME_Phase_12
PROCESSING_LEVEL_ID = 3
PRODUCT_CREATION_TIME = 2016-05-15T06:04:46.000Z
PRODUCT_ID = "H5532_0000_IR3.JP2"
RELEASE_ID = 0063
REVISION_ID = 0000
/* QUALITY DATA ELEMENTS */
DATA_QUALITY_ID = 1
DATA_QUALITY_DESC = "Data calculated based on original SPICE kernels"
/* TIME DATA ELEMENTS */
SPACECRAFT_CLOCK_START_COUNT = "1/0157005630.09093"
SPACECRAFT_CLOCK_STOP_COUNT = "1/0157005855.14980"
START_TIME = 2008-04-23T04:40:40.547Z
STOP_TIME = 2008-04-23T04:43:17.623Z
/* ORBITAL DATA ELEMENTS */
ASCENDING_NODE_LONGITUDE = 113.24
MAXIMUM_RESOLUTION = 60.6
FOOTPRINT_POINT_LATITUDE = (85.3591,85.2225,85.0811,84.9354, 84.7857,84.5238,84.3347,84.1974,84.0578 ,83.9138,83.7654,83.6113,83.3759, 83.2162,83.0519,82.8022,82.6301,82.4577 ,82.2834,82.1077,81.8402,81.6598, 81.4774,81.2937,81.1082,80.9215,80.7335 ,80.5441,80.3536,80.1619,79.9693, 79.7755,79.4897,79.1608,78.7463,78.4123 ,78.2444,78.0761,77.9073,77.7378, 77.5679,77.3976,77.1415,76.9704,76.7988 ,76.627,76.4547,76.2821,76.0225,75.8491 ,75.9315,76.029,76.0791,76.1263,76.1709 ,76.4585,76.6363,76.8139,76.9914, 77.1686,77.3455,77.5222,77.6987,77.8753 ,78.0514,78.2273,78.4905,78.7524, 78.9272,79.1017,79.362,79.7085,79.9676, 80.2686,80.4732,80.6773,80.8807,81.0835 ,81.2855,81.4868,81.6873,81.8869, 82.0858,82.2838,82.4806,82.6764,82.9681 ,83.1608,83.4468,83.6383,83.8278, 84.0138,84.198,84.3794,84.6482,84.9112, 85.0842,85.2527,85.4172,85.3591)
FOOTPRINT_POINT_LONGITUDE = (103.675,101.97,100.354,98.826,97.3809, 95.1126,96.4077,97.9938,99.4996,100.937 ,102.309,103.621,105.471,106.632, 107.741,109.307,110.294,111.235,112.133 ,112.992,114.21,114.979,115.715,116.42, 117.096,117.744,118.366,118.963,119.537 ,120.088,120.618,121.127,121.841, 122.609,123.506,124.176,124.497,124.808 ,125.11,125.404,125.69,125.968,126.37, 126.63,126.883,127.129,127.368,127.602, 127.94,128.159,129.243,130.618,131.381, 132.146,132.912,133.028,132.866,132.699 ,132.528,132.352,132.172,131.986, 131.794,131.597,131.394,131.185,130.86, 130.521,130.285,130.041,129.663,129.128 ,128.701,128.176,127.799,127.406, 126.995,126.565,126.116,125.646,125.153 ,124.636,124.093,123.523,122.923, 122.291,121.278,120.557,119.399,118.552 ,117.657,116.718,115.719,114.662, 112.936,111.032,109.637,108.156,106.575 ,103.675)
ORBIT_NUMBER = 5532
ORBITAL_ECCENTRICITY = 0.568
ORBITAL_INCLINATION = 86.74
ORBITAL_SEMIMAJOR_AXIS = 8640.79
PERIAPSIS_ALTITUDE = 357.07
PERIAPSIS_ARGUMENT_ANGLE = 105.16
PERIAPSIS_TIME = 2008-04-23T04:44:10.000Z
SPACECRAFT_ORIENTATION = (0.0,-1.0,0.0)
^MEX_ORIENTATION_DESC = "MEX_ORIENTATION_DESC.TXT"
SPACECRAFT_POINTING_MODE = ACROSSTRACK
^MEX_POINTING_DESC = "MEX_POINTING_DESC.TXT"
RIGHT_ASCENSION = -1e+32
DECLINATION = -1e+32
OFFSET_ANGLE = -0.35
SPACECRAFT_SOLAR_DISTANCE = 2.48928e+08
TARGET_NAME = MARS
/* CAMERA DATA ELEMENTS */
DETECTOR_TEMPERATURE = 16.7393
FOCAL_PLANE_TEMPERATURE = 7.3599
INST_CMPRS_NAME = "DISCRETE COSINE TRANSFORMATION (DCT)"
INST_CMPRS_RATIO = 9.11424
INST_CMPRS_QUALITY = 0
INST_CMPRS_QUANTZ_TBL_ID = 0
INSTRUMENT_TEMPERATURE = 10.6223
LENS_TEMPERATURE = 7.7677
MACROPIXEL_SIZE = 4
MISSING_FRAMES = 0
PIXEL_SUBSAMPLING_FLAG = N
SIGNAL_CHAIN_ID = 2
/* RADIOMETRIC DATA ELEMENTS */
BANDWIDTH = 81.0
CENTER_FILTER_WAVELENGTH = 955.5
RADIANCE_OFFSET = 1.01049
RADIANCE_SCALING_FACTOR = 0.00821676
REFLECTANCE_SCALING_FACTOR = 0.00109844
MEX:REFLECTANCE_OFFSET = 0.135085
/* IMAGE OBJECT DEFINITIONS */
OBJECT = IMAGE
  INTERCHANGE_FORMAT = BINARY
  LINES = 11265
  LINE_SAMPLES = 5839
  SAMPLE_TYPE = UNSIGNED_INTEGER
  SAMPLE_BITS = 8
  BANDS = 1
  BAND_STORAGE_TYPE = BAND_SEQUENTIAL
  MAXIMUM = 255
  MEAN = 147.416
  MINIMUM = 1
  STANDARD_DEVIATION = 43.9716
END_OBJECT = IMAGE
/* MAP OBJECT DEFINITIONS */
OBJECT = IMAGE_MAP_PROJECTION
  ^DATA_SET_MAP_PROJECTION_CATALOG= "DSMAP.CAT"
  A_AXIS_RADIUS = 3396.0
  B_AXIS_RADIUS = 3396.0
  C_AXIS_RADIUS = 3396.0
  CENTER_LATITUDE = 0.0
  CENTER_LONGITUDE = 124.0
  COORDINATE_SYSTEM_NAME = PLANETOGRAPHIC
  COORDINATE_SYSTEM_TYPE = "BODY-FIXED ROTATING"
  EASTERNMOST_LONGITUDE = 133.028
  FIRST_STANDARD_PARALLEL = "N/A"
  LINE_FIRST_PIXEL = 1
  LINE_LAST_PIXEL = 11265
  LINE_PROJECTION_OFFSET = 101225.375
  MAP_PROJECTION_ROTATION = 0.0
  MAP_PROJECTION_TYPE = SINUSOIDAL
  MAP_RESOLUTION = 1185.42760773333
  MAP_SCALE = 0.05
  MAXIMUM_LATITUDE = 85.41719999999999
  MINIMUM_LATITUDE = 75.84910000000001
  POSITIVE_LONGITUDE_DIRECTION = EAST
  REFERENCE_LATITUDE = "N/A"
  REFERENCE_LONGITUDE = "N/A"
  SAMPLE_FIRST_PIXEL = 1
  SAMPLE_LAST_PIXEL = 5839
  SAMPLE_PROJECTION_OFFSET = 3241.875
  SECOND_STANDARD_PARALLEL = "N/A"
  WESTERNMOST_LONGITUDE = 95.1126
END_OBJECT = IMAGE_MAP_PROJECTION
/* The JPEG2000 image data file associated with this label. */
OBJECT = COMPRESSED_FILE
  FILE_NAME = "H5532_0000_IR3.JP2"
  RECORD_TYPE = UNDEFINED
  FILE_RECORDS = UNK
  ENCODING_TYPE = "JP2"
  INTERCHANGE_FORMAT = BINARY
  UNCOMPRESSED_FILE_NAME = "H5532_0000_IR3.IMG"
  REQUIRED_STORAGE_BYTES = "65805530"
  ^DESCRIPTION = "JP2INFO.TXT"
END_OBJECT = COMPRESSED_FILE
END
