PDS_VERSION_ID = PDS3
/* FILE DATA ELEMENTS */
RECORD_TYPE = STREAM
/* POINTERS TO DATA OBJECTS */
^COMPRESSED_FILE = "H5532_0000_ND3.JP2"
/* IDENTIFICATION DATA ELEMENTS */
DATA_SET_ID = "MEX-M-HRSC-5-REFDR-MAPPROJECTED-V3.0"
DATA_SET_NAME = "MARS EXPRESS HRSC MAP PROJECTED REFDR V3.0"
DETECTOR_ID = MEX_HRSC_NADIR
EVENT_TYPE = "MARS-REGIONAL-MAPPING-Gl-La"
INSTRUMENT_HOST_ID = MEX
INSTRUMENT_HOST_NAME = "MARS EXPRESS"
INSTRUMENT_ID = HRSC
INSTRUMENT_NAME = "HIGH RESOLUTION STEREO CAMERA"
MISSION_NAME = "MARS EXPRESS"
MISSION_PHASE_NAME = ME_Phase_12
PROCESSING_LEVEL_ID = 3
PRODUCT_CREATION_TIME = 2016-05-15T06:04:46.000Z
PRODUCT_ID = "H5532_0000_ND3.JP2"
RELEASE_ID = 0063
REVISION_ID = 0000
/* QUALITY DATA ELEMENTS */
DATA_QUALITY_ID = 1
DATA_QUALITY_DESC = "Data calculated based on original SPICE kernels"
/* TIME DATA ELEMENTS */
SPACECRAFT_CLOCK_START_COUNT = "1/0157005630.09093"
SPACECRAFT_CLOCK_STOP_COUNT = "1/0157005855.14980"
START_TIME = 2008-04-23T04:41:10.706Z
STOP_TIME = 2008-04-23T04:43:44.701Z
/* ORBITAL DATA ELEMENTS */
ASCENDING_NODE_LONGITUDE = 113.24
MAXIMUM_RESOLUTION = 14.4
FOOTPRINT_POINT_LATITUDE = (85.2693,85.1335,84.9926,84.8471, 84.6972,84.4319,84.2917,84.1471,83.9982 ,83.8448,83.687,83.5257,83.3607,83.193, 83.0219,82.8485,82.672,82.493,82.3121, 82.1294,81.9446,81.7579,81.5696,81.3797 ,81.1028,80.7778,80.4493,80.1176, 79.7831,79.446,79.1065,78.7648,78.4212, 78.0757,77.9023,77.7286,77.5544,77.3798 ,77.2049,77.0298,76.8543,76.6784, 76.5023,76.326,76.1493,75.9724,75.9152, 75.9737,76.0288,76.0778,76.124,76.1672, 76.4593,76.6408,76.8223,77.0035,77.1846 ,77.3656,77.5464,77.727,77.9074,78.0877 ,78.2677,78.4476,78.6272,78.8066, 78.9858,79.1647,79.3433,79.5217,79.6998 ,79.8776,80.055,80.2322,80.4089,80.5853 ,80.7613,80.9369,81.2868,81.6347, 81.8273,82.0331,82.238,82.442,82.6449, 82.8467,83.0474,83.2467,83.4446,83.6408 ,83.8352,84.028,84.2188,84.4075,84.5935 ,84.7773,84.9574,85.1347,85.3083, 85.2693)
FOOTPRINT_POINT_LONGITUDE = (104.413,102.638,100.953,99.3561,97.841 ,95.4109,97.1084,98.7275,100.271, 101.737,103.125,104.448,105.703,106.902 ,108.037,109.123,110.15,111.128,112.065 ,112.959,113.812,114.626,115.404, 116.148,117.162,118.263,119.288,120.243 ,121.135,121.97,122.751,123.484,124.172 ,124.819,125.128,125.428,125.719, 126.001,126.276,126.543,126.803,127.056 ,127.302,127.541,127.774,128.0,128.726, 129.578,130.432,131.239,132.048,132.857 ,132.994,132.827,132.655,132.478, 132.296,132.109,131.916,131.717,131.512 ,131.301,131.084,130.859,130.628, 130.389,130.142,129.887,129.623,129.351 ,129.068,128.776,128.473,128.159, 127.834,127.496,127.145,126.78,126.007, 125.169,124.672,124.112,123.523,122.901 ,122.245,121.552,120.819,120.043, 119.221,118.343,117.411,116.42,115.365, 114.238,113.032,111.745,110.358,108.873 ,107.279,104.413)
ORBIT_NUMBER = 5532
ORBITAL_ECCENTRICITY = 0.568
ORBITAL_INCLINATION = 86.74
ORBITAL_SEMIMAJOR_AXIS = 8640.79
PERIAPSIS_ALTITUDE = 357.07
PERIAPSIS_ARGUMENT_ANGLE = 105.16
PERIAPSIS_TIME = 2008-04-23T04:44:10.000Z
SPACECRAFT_ORIENTATION = (0.0,-1.0,0.0)
^MEX_ORIENTATION_DESC = "MEX_ORIENTATION_DESC.TXT"
SPACECRAFT_POINTING_MODE = ACROSSTRACK
^MEX_POINTING_DESC = "MEX_POINTING_DESC.TXT"
RIGHT_ASCENSION = -1e+32
DECLINATION = -1e+32
OFFSET_ANGLE = -0.35
SPACECRAFT_SOLAR_DISTANCE = 2.48928e+08
TARGET_NAME = MARS
/* CAMERA DATA ELEMENTS */
DETECTOR_TEMPERATURE = 17.7588
FOCAL_PLANE_TEMPERATURE = 7.3599
INST_CMPRS_NAME = "DISCRETE COSINE TRANSFORMATION (DCT)"
INST_CMPRS_RATIO = 6.20556
INST_CMPRS_QUALITY = 0
INST_CMPRS_QUANTZ_TBL_ID = 0
INSTRUMENT_TEMPERATURE = 10.6223
LENS_TEMPERATURE = 7.7677
MACROPIXEL_SIZE = 1
MISSING_FRAMES = 0
PIXEL_SUBSAMPLING_FLAG = N
SIGNAL_CHAIN_ID = 0
/* RADIOMETRIC DATA ELEMENTS */
BANDWIDTH = 177.0
CENTER_FILTER_WAVELENGTH = 677.5
RADIANCE_OFFSET = 3.69605
RADIANCE_SCALING_FACTOR = 0.0340501
REFLECTANCE_SCALING_FACTOR = 0.00112085
MEX:REFLECTANCE_OFFSET = 0.121666
/* IMAGE OBJECT DEFINITIONS */
OBJECT = IMAGE
  INTERCHANGE_FORMAT = BINARY
  LINES = 45060
  LINE_SAMPLES = 23356
  SAMPLE_TYPE = UNSIGNED_INTEGER
  SAMPLE_BITS = 8
  BANDS = 1
  BAND_STORAGE_TYPE = BAND_SEQUENTIAL
  MAXIMUM = 255
  MEAN = 145.459
  MINIMUM = 1
  STANDARD_DEVIATION = 43.4998
END_OBJECT = IMAGE
/* MAP OBJECT DEFINITIONS */
OBJECT = IMAGE_MAP_PROJECTION
  ^DATA_SET_MAP_PROJECTION_CATALOG= "DSMAP.CAT"
  A_AXIS_RADIUS = 3396.0
  B_AXIS_RADIUS = 3396.0
  C_AXIS_RADIUS = 3396.0
  CENTER_LATITUDE = 0.0
  CENTER_LONGITUDE = 124.0
  COORDINATE_SYSTEM_NAME = PLANETOGRAPHIC
  COORDINATE_SYSTEM_TYPE = "BODY-FIXED ROTATING"
  EASTERNMOST_LONGITUDE = 132.994
  FIRST_STANDARD_PARALLEL = "N/A"
  LINE_FIRST_PIXEL = 1
  LINE_LAST_PIXEL = 45060
  LINE_PROJECTION_OFFSET = 404903.0
  MAP_PROJECTION_ROTATION = 0.0
  MAP_PROJECTION_TYPE = SINUSOIDAL
  MAP_RESOLUTION = 4741.71043093333
  MAP_SCALE = 0.0125
  MAXIMUM_LATITUDE = 85.3083
  MINIMUM_LATITUDE = 75.9152
  POSITIVE_LONGITUDE_DIRECTION = EAST
  REFERENCE_LATITUDE = "N/A"
  REFERENCE_LONGITUDE = "N/A"
  SAMPLE_FIRST_PIXEL = 1
  SAMPLE_LAST_PIXEL = 23356
  SAMPLE_PROJECTION_OFFSET = 12969.0
  SECOND_STANDARD_PARALLEL = "N/A"
  WESTERNMOST_LONGITUDE = 95.4109
END_OBJECT = IMAGE_MAP_PROJECTION
/* The JPEG2000 image data file associated with this label. */
OBJECT = COMPRESSED_FILE
  FILE_NAME = "H5532_0000_ND3.JP2"
  RECORD_TYPE = UNDEFINED
  FILE_RECORDS = UNK
  ENCODING_TYPE = "JP2"
  INTERCHANGE_FORMAT = BINARY
  UNCOMPRESSED_FILE_NAME = "H5532_0000_ND3.IMG"
  REQUIRED_STORAGE_BYTES = "1052491428"
  ^DESCRIPTION = "JP2INFO.TXT"
END_OBJECT = COMPRESSED_FILE
END
