PDS_VERSION_ID = PDS3
/* FILE DATA ELEMENTS */
RECORD_TYPE = STREAM
/* POINTERS TO DATA OBJECTS */
^COMPRESSED_FILE = "H5534_0000_IR3.JP2"
/* IDENTIFICATION DATA ELEMENTS */
DATA_SET_ID = "MEX-M-HRSC-5-REFDR-MAPPROJECTED-V3.0"
DATA_SET_NAME = "MARS EXPRESS HRSC MAP PROJECTED REFDR V3.0"
DETECTOR_ID = MEX_HRSC_IR
EVENT_TYPE = "MARS-REGIONAL-MAPPING-Gl-La-Ts"
INSTRUMENT_HOST_ID = MEX
INSTRUMENT_HOST_NAME = "MARS EXPRESS"
INSTRUMENT_ID = HRSC
INSTRUMENT_NAME = "HIGH RESOLUTION STEREO CAMERA"
MISSION_NAME = "MARS EXPRESS"
MISSION_PHASE_NAME = ME_Phase_12
PROCESSING_LEVEL_ID = 3
PRODUCT_CREATION_TIME = 2016-05-15T06:04:46.000Z
PRODUCT_ID = "H5534_0000_IR3.JP2"
RELEASE_ID = 0063
REVISION_ID = 0000
/* QUALITY DATA ELEMENTS */
DATA_QUALITY_ID = 1
DATA_QUALITY_DESC = "Data calculated based on original SPICE kernels"
/* TIME DATA ELEMENTS */
SPACECRAFT_CLOCK_START_COUNT = "1/0157054979.08424"
SPACECRAFT_CLOCK_STOP_COUNT = "1/0157055220.24692"
START_TIME = 2008-04-23T18:23:08.696Z
STOP_TIME = 2008-04-23T18:26:01.818Z
/* ORBITAL DATA ELEMENTS */
ASCENDING_NODE_LONGITUDE = 113.2
MAXIMUM_RESOLUTION = 60.2
FOOTPRINT_POINT_LATITUDE = (81.1313,81.0423,80.9579,80.8,80.6224, 80.3851,80.1732,79.9724,79.7705,79.5677 ,79.2623,79.0578,78.8526,78.6467, 78.4403,78.233,78.0252,77.8168,77.6077, 77.3981,77.1881,76.9776,76.6607,76.449, 76.2368,76.0241,75.8112,75.5977,75.384, 75.1698,74.8489,74.6331,74.4178,74.2024 ,73.8782,73.6619,73.4451,73.1195,72.902 ,72.5755,72.3575,72.1393,71.9208, 71.5927,71.3736,71.0446,70.7152,70.4954 ,70.2753,70.0552,69.9492,70.0112, 70.0627,70.0918,70.337,70.671,71.0046, 71.2269,71.449,71.6711,71.8929,72.1148, 72.3362,72.5576,72.779,73.0001,73.3315, 73.5522,73.7727,73.9928,74.2129,74.4329 ,74.6526,74.8722,75.0916,75.3108, 75.5297,75.7484,75.9667,76.1845,76.4026 ,76.6204,76.838,77.0552,77.3805,77.5972 ,77.9211,78.1367,78.4599,78.675,78.8894 ,79.2106,79.4241,79.7438,79.9563, 80.1689,80.381,80.6974,80.9366,81.1313)
FOOTPRINT_POINT_LONGITUDE = (287.453,285.773,284.332,281.928, 281.252,281.895,282.437,282.929,283.401 ,283.855,284.503,284.915,285.312, 285.693,286.061,286.416,286.758,287.088 ,287.407,287.715,288.013,288.3,288.714, 288.979,289.236,289.484,289.725,289.958 ,290.184,290.403,290.72,290.923,291.121 ,291.312,291.59,291.768,291.942,292.193 ,292.355,292.59,292.741,292.888,293.031 ,293.24,293.374,293.569,293.757,293.878 ,293.996,294.111,294.549,295.641,296.67 ,297.325,297.777,297.656,297.532, 297.446,297.358,297.268,297.176,297.081 ,296.984,296.884,296.782,296.677, 296.514,296.402,296.287,296.169,296.047 ,295.921,295.792,295.659,295.522, 295.381,295.236,295.086,294.932,294.774 ,294.609,294.438,294.262,294.081, 293.796,293.598,293.289,293.073,292.733 ,292.496,292.25,291.862,291.59,291.162, 290.861,290.545,290.216,289.697,289.279 ,287.453)
ORBIT_NUMBER = 5534
ORBITAL_ECCENTRICITY = 0.568
ORBITAL_INCLINATION = 86.75
ORBITAL_SEMIMAJOR_AXIS = 8638.94
PERIAPSIS_ALTITUDE = 356.73
PERIAPSIS_ARGUMENT_ANGLE = 104.82
PERIAPSIS_TIME = 2008-04-23T18:25:13.000Z
SPACECRAFT_ORIENTATION = (0.0,-1.0,0.0)
^MEX_ORIENTATION_DESC = "MEX_ORIENTATION_DESC.TXT"
SPACECRAFT_POINTING_MODE = NADIR
^MEX_POINTING_DESC = "MEX_POINTING_DESC.TXT"
RIGHT_ASCENSION = -1e+32
DECLINATION = -1e+32
OFFSET_ANGLE = -1e+32
SPACECRAFT_SOLAR_DISTANCE = 2.48945e+08
TARGET_NAME = MARS
/* CAMERA DATA ELEMENTS */
DETECTOR_TEMPERATURE = 16.7393
FOCAL_PLANE_TEMPERATURE = 6.9521
INST_CMPRS_NAME = "DISCRETE COSINE TRANSFORMATION (DCT)"
INST_CMPRS_RATIO = 14.1711
INST_CMPRS_QUALITY = 0
INST_CMPRS_QUANTZ_TBL_ID = 0
INSTRUMENT_TEMPERATURE = 10.2145
LENS_TEMPERATURE = 7.5638
MACROPIXEL_SIZE = 4
MISSING_FRAMES = 0
PIXEL_SUBSAMPLING_FLAG = N
SIGNAL_CHAIN_ID = 2
/* RADIOMETRIC DATA ELEMENTS */
BANDWIDTH = 81.0
CENTER_FILTER_WAVELENGTH = 955.5
RADIANCE_OFFSET = 0.579544
RADIANCE_SCALING_FACTOR = 0.00827503
REFLECTANCE_SCALING_FACTOR = 0.00110638
MEX:REFLECTANCE_OFFSET = 0.0774856
/* IMAGE OBJECT DEFINITIONS */
OBJECT = IMAGE
  INTERCHANGE_FORMAT = BINARY
  LINES = 13191
  LINE_SAMPLES = 4130
  SAMPLE_TYPE = UNSIGNED_INTEGER
  SAMPLE_BITS = 8
  BANDS = 1
  BAND_STORAGE_TYPE = BAND_SEQUENTIAL
  MAXIMUM = 255
  MEAN = 136.762
  MINIMUM = 1
  STANDARD_DEVIATION = 82.5335
END_OBJECT = IMAGE
/* MAP OBJECT DEFINITIONS */
OBJECT = IMAGE_MAP_PROJECTION
  ^DATA_SET_MAP_PROJECTION_CATALOG= "DSMAP.CAT"
  A_AXIS_RADIUS = 3396.0
  B_AXIS_RADIUS = 3396.0
  C_AXIS_RADIUS = 3396.0
  CENTER_LATITUDE = 0.0
  CENTER_LONGITUDE = 293.0
  COORDINATE_SYSTEM_NAME = PLANETOGRAPHIC
  COORDINATE_SYSTEM_TYPE = "BODY-FIXED ROTATING"
  EASTERNMOST_LONGITUDE = 297.777
  FIRST_STANDARD_PARALLEL = "N/A"
  LINE_FIRST_PIXEL = 1
  LINE_LAST_PIXEL = 13191
  LINE_PROJECTION_OFFSET = 96107.625
  MAP_PROJECTION_ROTATION = 0.0
  MAP_PROJECTION_TYPE = SINUSOIDAL
  MAP_RESOLUTION = 1185.42760773333
  MAP_SCALE = 0.05
  MAXIMUM_LATITUDE = 81.1313
  MINIMUM_LATITUDE = 69.9492
  POSITIVE_LONGITUDE_DIRECTION = EAST
  REFERENCE_LATITUDE = "N/A"
  REFERENCE_LONGITUDE = "N/A"
  SAMPLE_FIRST_PIXEL = 1
  SAMPLE_LAST_PIXEL = 4130
  SAMPLE_PROJECTION_OFFSET = 2221.875
  SECOND_STANDARD_PARALLEL = "N/A"
  WESTERNMOST_LONGITUDE = 281.252
END_OBJECT = IMAGE_MAP_PROJECTION
/* The JPEG2000 image data file associated with this label. */
OBJECT = COMPRESSED_FILE
  FILE_NAME = "H5534_0000_IR3.JP2"
  RECORD_TYPE = UNDEFINED
  FILE_RECORDS = UNK
  ENCODING_TYPE = "JP2"
  INTERCHANGE_FORMAT = BINARY
  UNCOMPRESSED_FILE_NAME = "H5534_0000_IR3.IMG"
  REQUIRED_STORAGE_BYTES = "54503610"
  ^DESCRIPTION = "JP2INFO.TXT"
END_OBJECT = COMPRESSED_FILE
END
