PDS_VERSION_ID = PDS3
/* FILE DATA ELEMENTS */
RECORD_TYPE = STREAM
/* POINTERS TO DATA OBJECTS */
^COMPRESSED_FILE = "H5546_0000_ND3.JP2"
/* IDENTIFICATION DATA ELEMENTS */
DATA_SET_ID = "MEX-M-HRSC-5-REFDR-MAPPROJECTED-V3.0"
DATA_SET_NAME = "MARS EXPRESS HRSC MAP PROJECTED REFDR V3.0"
DETECTOR_ID = MEX_HRSC_NADIR
EVENT_TYPE = "MARS-REGIONAL-MAPPING-Im-Pf"
INSTRUMENT_HOST_ID = MEX
INSTRUMENT_HOST_NAME = "MARS EXPRESS"
INSTRUMENT_ID = HRSC
INSTRUMENT_NAME = "HIGH RESOLUTION STEREO CAMERA"
MISSION_NAME = "MARS EXPRESS"
MISSION_PHASE_NAME = ME_Phase_12
PROCESSING_LEVEL_ID = 3
PRODUCT_CREATION_TIME = 2016-05-15T06:04:46.000Z
PRODUCT_ID = "H5546_0000_ND3.JP2"
RELEASE_ID = 0063
REVISION_ID = 0000
/* QUALITY DATA ELEMENTS */
DATA_QUALITY_ID = 1
DATA_QUALITY_DESC = "Data calculated based on original SPICE kernels"
/* TIME DATA ELEMENTS */
SPACECRAFT_CLOCK_START_COUNT = "1/0157350682.09058"
SPACECRAFT_CLOCK_STOP_COUNT = "1/0157350940.64229"
START_TIME = 2008-04-27T04:31:58.067Z
STOP_TIME = 2008-04-27T04:35:04.065Z
/* ORBITAL DATA ELEMENTS */
ASCENDING_NODE_LONGITUDE = 112.95
MAXIMUM_RESOLUTION = 14.5
FOOTPRINT_POINT_LATITUDE = (74.5574,74.494,74.4108,74.1603,73.9455 ,73.7305,73.5153,73.3001,73.0847, 72.8693,72.6538,72.4381,72.2225,72.0067 ,71.7909,71.575,71.3591,70.9271,70.495, 70.0629,69.6306,69.1984,68.7663,68.5152 ,68.2573,67.9995,67.7418,67.4841, 67.2265,66.9689,66.7114,66.454,66.1967, 65.9395,65.6824,65.4254,65.1685,64.9118 ,64.6551,64.3986,64.1422,63.886,63.6299 ,63.3739,63.1181,62.8625,62.6079, 62.6354,62.6556,62.6797,62.709,62.9658, 63.2228,63.4799,63.7373,63.9948,64.2526 ,64.5104,64.7684,65.0266,65.2849, 65.5435,65.8022,66.061,66.3199,66.579, 66.8382,67.0976,67.357,67.6166,67.8763, 68.136,68.3959,68.6559,68.9127,69.3487, 69.7849,70.003,70.2212,70.4395,70.6578, 70.8762,71.0945,71.3129,71.5313,71.7498 ,71.9682,72.1866,72.4051,72.6236,72.842 ,73.0605,73.2789,73.4973,73.7158, 73.9342,74.1525,74.3708,74.5891, 74.5574)
FOOTPRINT_POINT_LONGITUDE = (174.721,173.376,171.837,171.385, 171.556,171.722,171.883,172.04,172.192, 172.341,172.485,172.624,172.761,172.893 ,173.022,173.148,173.271,173.506,173.73 ,173.942,174.144,174.337,174.52,174.622 ,174.725,174.824,174.92,175.014,175.106 ,175.194,175.281,175.365,175.447, 175.527,175.604,175.68,175.753,175.825, 175.894,175.962,176.028,176.092,176.155 ,176.216,176.276,176.334,176.843, 177.443,177.925,178.56,179.458,179.416, 179.374,179.33,179.285,179.241,179.195, 179.146,179.097,179.047,178.996,178.945 ,178.892,178.838,178.781,178.724, 178.666,178.605,178.543,178.48,178.415, 178.348,178.28,178.209,178.138,178.013, 177.881,177.813,177.743,177.672,177.599 ,177.524,177.447,177.369,177.288, 177.205,177.12,177.033,176.944,176.852, 176.758,176.661,176.561,176.459,176.354 ,176.246,176.135,176.021,175.903, 174.721)
ORBIT_NUMBER = 5546
ORBITAL_ECCENTRICITY = 0.568
ORBITAL_INCLINATION = 86.75
ORBITAL_SEMIMAJOR_AXIS = 8637.48
PERIAPSIS_ALTITUDE = 357.62
PERIAPSIS_ARGUMENT_ANGLE = 102.71
PERIAPSIS_TIME = 2008-04-27T04:31:19.000Z
SPACECRAFT_ORIENTATION = (0.0,-1.0,0.0)
^MEX_ORIENTATION_DESC = "MEX_ORIENTATION_DESC.TXT"
SPACECRAFT_POINTING_MODE = ACROSSTRACK
^MEX_POINTING_DESC = "MEX_POINTING_DESC.TXT"
RIGHT_ASCENSION = -1e+32
DECLINATION = -1e+32
OFFSET_ANGLE = 0.2
SPACECRAFT_SOLAR_DISTANCE = 2.49034e+08
TARGET_NAME = MARS
/* CAMERA DATA ELEMENTS */
DETECTOR_TEMPERATURE = 17.7588
FOCAL_PLANE_TEMPERATURE = 7.156
INST_CMPRS_NAME = "DISCRETE COSINE TRANSFORMATION (DCT)"
INST_CMPRS_RATIO = 7.36765
INST_CMPRS_QUALITY = 0
INST_CMPRS_QUANTZ_TBL_ID = 0
INSTRUMENT_TEMPERATURE = 10.6223
LENS_TEMPERATURE = 7.5638
MACROPIXEL_SIZE = 1
MISSING_FRAMES = 0
PIXEL_SUBSAMPLING_FLAG = N
SIGNAL_CHAIN_ID = 0
/* RADIOMETRIC DATA ELEMENTS */
BANDWIDTH = 177.0
CENTER_FILTER_WAVELENGTH = 677.5
RADIANCE_OFFSET = 3.28537
RADIANCE_SCALING_FACTOR = 0.0324396
REFLECTANCE_SCALING_FACTOR = 0.00106875
MEX:REFLECTANCE_OFFSET = 0.10824
/* IMAGE OBJECT DEFINITIONS */
OBJECT = IMAGE
  INTERCHANGE_FORMAT = BINARY
  LINES = 56951
  LINE_SAMPLES = 13374
  SAMPLE_TYPE = UNSIGNED_INTEGER
  SAMPLE_BITS = 8
  BANDS = 1
  BAND_STORAGE_TYPE = BAND_SEQUENTIAL
  MAXIMUM = 255
  MEAN = 60.0827
  MINIMUM = 1
  STANDARD_DEVIATION = 14.6114
END_OBJECT = IMAGE
/* MAP OBJECT DEFINITIONS */
OBJECT = IMAGE_MAP_PROJECTION
  ^DATA_SET_MAP_PROJECTION_CATALOG= "DSMAP.CAT"
  A_AXIS_RADIUS = 3396.0
  B_AXIS_RADIUS = 3396.0
  C_AXIS_RADIUS = 3396.0
  CENTER_LATITUDE = 0.0
  CENTER_LONGITUDE = 176.0
  COORDINATE_SYSTEM_NAME = PLANETOGRAPHIC
  COORDINATE_SYSTEM_TYPE = "BODY-FIXED ROTATING"
  EASTERNMOST_LONGITUDE = 179.458
  FIRST_STANDARD_PARALLEL = "N/A"
  LINE_FIRST_PIXEL = 1
  LINE_LAST_PIXEL = 56951
  LINE_PROJECTION_OFFSET = 353720.0
  MAP_PROJECTION_ROTATION = 0.0
  MAP_PROJECTION_TYPE = SINUSOIDAL
  MAP_RESOLUTION = 4741.71043093333
  MAP_SCALE = 0.0125
  MAXIMUM_LATITUDE = 74.5891
  MINIMUM_LATITUDE = 62.6079
  POSITIVE_LONGITUDE_DIRECTION = EAST
  REFERENCE_LATITUDE = "N/A"
  REFERENCE_LONGITUDE = "N/A"
  SAMPLE_FIRST_PIXEL = 1
  SAMPLE_LAST_PIXEL = 13374
  SAMPLE_PROJECTION_OFFSET = 5989.0
  SECOND_STANDARD_PARALLEL = "N/A"
  WESTERNMOST_LONGITUDE = 171.385
END_OBJECT = IMAGE_MAP_PROJECTION
/* The JPEG2000 image data file associated with this label. */
OBJECT = COMPRESSED_FILE
  FILE_NAME = "H5546_0000_ND3.JP2"
  RECORD_TYPE = UNDEFINED
  FILE_RECORDS = UNK
  ENCODING_TYPE = "JP2"
  INTERCHANGE_FORMAT = BINARY
  UNCOMPRESSED_FILE_NAME = "H5546_0000_ND3.IMG"
  REQUIRED_STORAGE_BYTES = "761702796"
  ^DESCRIPTION = "JP2INFO.TXT"
END_OBJECT = COMPRESSED_FILE
END
